BEGIN:VCALENDAR
VERSION:2.0
PRODID:-//Gruene Historic District - ECPv6.0.10//NONSGML v1.0//EN
CALSCALE:GREGORIAN
METHOD:PUBLISH
X-WR-CALNAME:Gruene Historic District
X-ORIGINAL-URL:https://dev.gruenetexas.com
X-WR-CALDESC:Events for Gruene Historic District
REFRESH-INTERVAL;VALUE=DURATION:PT1H
X-Robots-Tag:noindex
X-PUBLISHED-TTL:PT1H
BEGIN:VTIMEZONE
TZID:America/Chicago
BEGIN:DAYLIGHT
TZOFFSETFROM:-0600
TZOFFSETTO:-0500
TZNAME:CDT
DTSTART:20230312T080000
END:DAYLIGHT
BEGIN:STANDARD
TZOFFSETFROM:-0500
TZOFFSETTO:-0600
TZNAME:CST
DTSTART:20231105T070000
END:STANDARD
END:VTIMEZONE
BEGIN:VEVENT
DTSTART;TZID=America/Chicago:20231120T180000
DTEND;TZID=America/Chicago:20231120T220000
DTSTAMP:20260419T160545
CREATED:20230728T093617Z
LAST-MODIFIED:20231120T210331Z
UID:10000666-1700503200-1700517600@dev.gruenetexas.com
SUMMARY:Bret Graham
DESCRIPTION:| 			\n			\n							 \n\n\nCountry
URL:https://dev.gruenetexas.com/event/bret-graham-22/
CATEGORIES:Free Event
END:VEVENT
BEGIN:VEVENT
DTSTART;TZID=America/Chicago:20231119T160000
DTEND;TZID=America/Chicago:20231119T200000
DTSTAMP:20260419T160545
CREATED:20231108T164453Z
LAST-MODIFIED:20231119T204736Z
UID:10000792-1700409600-1700424000@dev.gruenetexas.com
SUMMARY:Hot Texas Swing Band
DESCRIPTION:| 			\n			\n							 \n\n\nCountry-Swing
URL:https://dev.gruenetexas.com/event/hot-texas-swing-band-2/
CATEGORIES:Free Event
END:VEVENT
BEGIN:VEVENT
DTSTART;TZID=America/Chicago:20231119T160000
DTEND;TZID=America/Chicago:20231119T200000
DTSTAMP:20260419T160545
CREATED:20231030T145735Z
LAST-MODIFIED:20231101T151928Z
UID:10000784-1700409600-1700424000@dev.gruenetexas.com
SUMMARY:Will Owen Gage Band
DESCRIPTION:| 			\n			\n							 \n\n\nAmericana-Rock
URL:https://dev.gruenetexas.com/event/will-owen-gage-band-2/
CATEGORIES:Free Event
END:VEVENT
BEGIN:VEVENT
DTSTART;TZID=America/Chicago:20231119T120000
DTEND;TZID=America/Chicago:20231119T153000
DTSTAMP:20260419T160545
CREATED:20231030T145735Z
LAST-MODIFIED:20231119T204736Z
UID:10000783-1700395200-1700407800@dev.gruenetexas.com
SUMMARY:Tom Gillam & The Kosmic Messengers
DESCRIPTION:| 			\n			\n							 \n\n\nAmericana-Rock
URL:https://dev.gruenetexas.com/event/tom-gillam-the-kosmic-messengers/
CATEGORIES:Free Event
END:VEVENT
BEGIN:VEVENT
DTSTART;TZID=America/Chicago:20231118T210000
DTEND;TZID=America/Chicago:20231118T210000
DTSTAMP:20260419T160545
CREATED:20230906T073819Z
LAST-MODIFIED:20231118T201838Z
UID:10000728-1700341200-1700341200@dev.gruenetexas.com
SUMMARY:Midnight River Choir
DESCRIPTION:| 			\n			\n							 \n\n\nOpener: Sour Bridges | Doors: 8pm
URL:https://dev.gruenetexas.com/event/midnight-river-choir/
CATEGORIES:Special Event,Ticketed Event
ATTACH;FMTTYPE=image/jpeg:https://dev.gruenetexas.com/wp-content/uploads/2023/09/Midnight-River-Choir-Og3Mgk.tmp_.jpg
END:VEVENT
BEGIN:VEVENT
DTSTART;TZID=America/Chicago:20231118T130000
DTEND;TZID=America/Chicago:20231118T170000
DTSTAMP:20260419T160545
CREATED:20230628T184418Z
LAST-MODIFIED:20231118T201838Z
UID:10000627-1700312400-1700326800@dev.gruenetexas.com
SUMMARY:Cary Swinney w/Richard Bowden & Michael O’Connor
DESCRIPTION:| 			\n			\n							 \n\n\nFolk
URL:https://dev.gruenetexas.com/event/cary-swinney-w-richard-bowden-michael-oconnor/
CATEGORIES:Free Event
END:VEVENT
BEGIN:VEVENT
DTSTART;TZID=America/Chicago:20231117T200000
DTEND;TZID=America/Chicago:20231117T200000
DTSTAMP:20260419T160545
CREATED:20230621T161143Z
LAST-MODIFIED:20231117T185954Z
UID:10000610-1700251200-1700251200@dev.gruenetexas.com
SUMMARY:The Cadillac Three: The Years Go Fast Tour
DESCRIPTION:| 			\n			\n							 \n\n\nOpener: John Hollier | Doors: 7pm
URL:https://dev.gruenetexas.com/event/the-cadillac-three-the-bandana-tour/
CATEGORIES:Special Event,Ticketed Event
ATTACH;FMTTYPE=image/jpeg:https://dev.gruenetexas.com/wp-content/uploads/2023/09/Cadillac-Three-SOLD-OUT-Up3azd.tmp_.jpg
END:VEVENT
BEGIN:VEVENT
DTSTART;TZID=America/Chicago:20231117T160000
DTEND;TZID=America/Chicago:20231117T190000
DTSTAMP:20260419T160545
CREATED:20231006T113626Z
LAST-MODIFIED:20231117T185954Z
UID:10000763-1700236800-1700247600@dev.gruenetexas.com
SUMMARY:Friday Afternoon Club
DESCRIPTION:|
URL:https://dev.gruenetexas.com/event/friday-afternoon-club-39/
CATEGORIES:Free Event
END:VEVENT
BEGIN:VEVENT
DTSTART;TZID=America/Chicago:20231116T180000
DTEND;TZID=America/Chicago:20231116T220000
DTSTAMP:20260419T160545
CREATED:20230809T111244Z
LAST-MODIFIED:20231116T182936Z
UID:10000677-1700157600-1700172000@dev.gruenetexas.com
SUMMARY:Lance Lipinsky & The Lovers
DESCRIPTION:| 			\n			\n							 \n\n\n50’s & 60’s Show
URL:https://dev.gruenetexas.com/event/lance-lipinsky-the-lovers-6/
CATEGORIES:Free Event
END:VEVENT
BEGIN:VEVENT
DTSTART;TZID=America/Chicago:20231115T180000
DTEND;TZID=America/Chicago:20231115T220000
DTSTAMP:20260419T160545
CREATED:20230811T112938Z
LAST-MODIFIED:20231115T182852Z
UID:10000692-1700071200-1700085600@dev.gruenetexas.com
SUMMARY:The Georges
DESCRIPTION:| 			\n			\n							 \n\n\nRock-a-Billy \n\n		\n\n\n\n\n\n\n						\n							Add to calendar						 \n\n\n\n									\n										Google Calendar									\n								\n\n									\n										iCalendar									\n								\n\n									\n										Outlook 365									\n								\n\n									\n										Outlook Live
URL:https://dev.gruenetexas.com/event/the-georges-21/
CATEGORIES:Free Event
END:VEVENT
BEGIN:VEVENT
DTSTART;TZID=America/Chicago:20231114T180000
DTEND;TZID=America/Chicago:20231114T220000
DTSTAMP:20260419T160545
CREATED:20231007T114228Z
LAST-MODIFIED:20231114T182427Z
UID:10000767-1699984800-1699999200@dev.gruenetexas.com
SUMMARY:Tony Taylor\, Scott Wiggins & Ryan Snipes
DESCRIPTION:| 			\n			\n							 \n\n\nSong-Swap
URL:https://dev.gruenetexas.com/event/tony-taylor-friends-3/
CATEGORIES:Free Event
END:VEVENT
BEGIN:VEVENT
DTSTART;TZID=America/Chicago:20231113T180000
DTEND;TZID=America/Chicago:20231113T220000
DTSTAMP:20260419T160545
CREATED:20230728T093617Z
LAST-MODIFIED:20231113T180007Z
UID:10000665-1699898400-1699912800@dev.gruenetexas.com
SUMMARY:Bret Graham
DESCRIPTION:| 			\n			\n							 \n\n\nCountry
URL:https://dev.gruenetexas.com/event/bret-graham-21/
CATEGORIES:Free Event
END:VEVENT
BEGIN:VEVENT
DTSTART;TZID=America/Chicago:20231112T200000
DTEND;TZID=America/Chicago:20231112T200000
DTSTAMP:20260419T160545
CREATED:20230613T145824Z
LAST-MODIFIED:20231112T165943Z
UID:10000604-1699819200-1699819200@dev.gruenetexas.com
SUMMARY:Sara Evans: Live on Tour
DESCRIPTION:| 			\n			\n							 \n\n\nOpener: Brian Pounds | Doors: 7pm
URL:https://dev.gruenetexas.com/event/sara-evans-live-on-tour/
CATEGORIES:Special Event,Ticketed Event
ATTACH;FMTTYPE=image/jpeg:https://dev.gruenetexas.com/wp-content/uploads/2023/06/Sara-Evans-SOLD-OUT-GDTVue.tmp_.jpg
END:VEVENT
BEGIN:VEVENT
DTSTART;TZID=America/Chicago:20231112T120000
DTEND;TZID=America/Chicago:20231112T153000
DTSTAMP:20260419T160545
CREATED:20230728T093616Z
LAST-MODIFIED:20231108T164452Z
UID:10000664-1699790400-1699803000@dev.gruenetexas.com
SUMMARY:Bret Graham Band
DESCRIPTION:| 			\n			\n							 \n\n\nCountry
URL:https://dev.gruenetexas.com/event/bret-graham-band-12/
CATEGORIES:Free Event
END:VEVENT
BEGIN:VEVENT
DTSTART;TZID=America/Chicago:20231111T210000
DTEND;TZID=America/Chicago:20231111T210000
DTSTAMP:20260419T160545
CREATED:20230828T202017Z
LAST-MODIFIED:20231111T165836Z
UID:10000713-1699736400-1699736400@dev.gruenetexas.com
SUMMARY:Sean McConnell
DESCRIPTION:| 			\n			\n							 \n\n\nOpener: The Reed Brothers | Doors: 8pm
URL:https://dev.gruenetexas.com/event/sean-mcconnell-2/
CATEGORIES:Special Event,Ticketed Event
ATTACH;FMTTYPE=image/jpeg:https://dev.gruenetexas.com/wp-content/uploads/2023/08/Sean-McConnell-GCZhQR.tmp_.jpg
END:VEVENT
BEGIN:VEVENT
DTSTART;TZID=America/Chicago:20231111T130000
DTEND;TZID=America/Chicago:20231111T170000
DTSTAMP:20260419T160545
CREATED:20230627T183033Z
LAST-MODIFIED:20231111T165836Z
UID:10000622-1699707600-1699722000@dev.gruenetexas.com
SUMMARY:Bo Phillips Band
DESCRIPTION:| 			\n			\n							 \n\n\nTexas-Red Dirt
URL:https://dev.gruenetexas.com/event/bo-phillips-band-6/
CATEGORIES:Free Event
END:VEVENT
BEGIN:VEVENT
DTSTART;TZID=America/Chicago:20231110T200000
DTEND;TZID=America/Chicago:20231110T200000
DTSTAMP:20260419T160545
CREATED:20230828T202017Z
LAST-MODIFIED:20231110T165807Z
UID:10000712-1699646400-1699646400@dev.gruenetexas.com
SUMMARY:Sean McConnell
DESCRIPTION:| 			\n			\n							 \n\n\nOpener: The Reed Brothers | Doors: 7pm
URL:https://dev.gruenetexas.com/event/sean-mcconnell/
CATEGORIES:Special Event,Ticketed Event
ATTACH;FMTTYPE=image/jpeg:https://dev.gruenetexas.com/wp-content/uploads/2023/08/Sean-McConnell-GCZhQR.tmp_.jpg
END:VEVENT
BEGIN:VEVENT
DTSTART;TZID=America/Chicago:20231110T160000
DTEND;TZID=America/Chicago:20231110T190000
DTSTAMP:20260419T160545
CREATED:20231006T113625Z
LAST-MODIFIED:20231110T165807Z
UID:10000762-1699632000-1699642800@dev.gruenetexas.com
SUMMARY:Friday Afternoon Club
DESCRIPTION:|
URL:https://dev.gruenetexas.com/event/friday-afternoon-club-38/
CATEGORIES:Free Event
END:VEVENT
BEGIN:VEVENT
DTSTART;TZID=America/Chicago:20231109T200000
DTEND;TZID=America/Chicago:20231109T200000
DTSTAMP:20260419T160545
CREATED:20230803T104328Z
LAST-MODIFIED:20231109T164349Z
UID:10000676-1699560000-1699560000@dev.gruenetexas.com
SUMMARY:The Red Clay Strays: Way Too Long Tour
DESCRIPTION:| 			\n			\n							 \n\n\nOpener: Sam Morrow | Doors: 7pm
URL:https://dev.gruenetexas.com/event/the-red-clay-strays-way-too-long-tour/
CATEGORIES:Special Event,Ticketed Event
ATTACH;FMTTYPE=image/jpeg:https://dev.gruenetexas.com/wp-content/uploads/2023/09/The-Red-Clay-Strays-SOLD-OUT-jeh169.tmp_.jpg
END:VEVENT
BEGIN:VEVENT
DTSTART;TZID=America/Chicago:20231109T180000
DTEND;TZID=America/Chicago:20231109T220000
DTSTAMP:20260419T160545
CREATED:20230727T092254Z
LAST-MODIFIED:20230808T111222Z
UID:10000655-1699552800-1699567200@dev.gruenetexas.com
SUMMARY:Lance Lipinsky & The Lovers
DESCRIPTION:| 			\n			\n							 \n\n\n50’s & 60’s Show
URL:https://dev.gruenetexas.com/event/lance-lipinsky-the-lovers-4/
CATEGORIES:Free Event
END:VEVENT
BEGIN:VEVENT
DTSTART;TZID=America/Chicago:20231108T180000
DTEND;TZID=America/Chicago:20231108T220000
DTSTAMP:20260419T160545
CREATED:20230907T075610Z
LAST-MODIFIED:20231108T164452Z
UID:10000732-1699466400-1699480800@dev.gruenetexas.com
SUMMARY:Jordan Minor Band
DESCRIPTION:| 			\n			\n							 \n\n\nTexas-Americana
URL:https://dev.gruenetexas.com/event/jordan-minor-band-4/
CATEGORIES:Free Event
END:VEVENT
BEGIN:VEVENT
DTSTART;TZID=America/Chicago:20231107T180000
DTEND;TZID=America/Chicago:20231107T220000
DTSTAMP:20260419T160545
CREATED:20230915T091249Z
LAST-MODIFIED:20231107T163556Z
UID:10000740-1699380000-1699394400@dev.gruenetexas.com
SUMMARY:Austin Gilliam w/ Tom Gillam & Matt Kirk
DESCRIPTION:| 			\n			\n							 \n\n\nSong-Swap
URL:https://dev.gruenetexas.com/event/austin-gilliam-friends-4/
CATEGORIES:Free Event
END:VEVENT
BEGIN:VEVENT
DTSTART;TZID=America/Chicago:20231107T093000
DTEND;TZID=America/Chicago:20231107T110000
DTSTAMP:20260419T160545
CREATED:20230902T061728Z
LAST-MODIFIED:20231107T163556Z
UID:10000718-1699349400-1699354800@dev.gruenetexas.com
SUMMARY:Flow & Know: Yoga in Historical Places
DESCRIPTION:| 			\n			\n							 \n\n\nJoin the Sophienburg Museum & Archives in celebrating New Braunfels history! Enjoy a one-hour yoga class each month at a different historic location\, then relax and partake in a beer while listening to a short history lesson on the birth and growth of this fair city. November features Gruene Hall with veteran yogi Greg Casillas and history talk by Jan Kingsbury. Cost for Flow & Know is $15. Proceeds benefit The Sophienburg Museum & Archives. Registration required in advance at https://sophienburg.com/events/.
URL:https://dev.gruenetexas.com/event/flow-know-yoga-in-historical-places/
CATEGORIES:Special Event
END:VEVENT
BEGIN:VEVENT
DTSTART;TZID=America/Chicago:20231106T180000
DTEND;TZID=America/Chicago:20231106T220000
DTSTAMP:20260419T160545
CREATED:20230728T093616Z
LAST-MODIFIED:20231106T155936Z
UID:10000663-1699293600-1699308000@dev.gruenetexas.com
SUMMARY:Bret Graham
DESCRIPTION:| 			\n			\n							 \n\n\nCountry
URL:https://dev.gruenetexas.com/event/bret-graham-20/
CATEGORIES:Free Event
END:VEVENT
BEGIN:VEVENT
DTSTART;TZID=America/Chicago:20231105T170000
DTEND;TZID=America/Chicago:20231105T210000
DTSTAMP:20260419T160545
CREATED:20230907T075610Z
LAST-MODIFIED:20231105T154257Z
UID:10000731-1699203600-1699218000@dev.gruenetexas.com
SUMMARY:Guy Forsyth Band
DESCRIPTION:| 			\n			\n							 \n\n\nRoots-Rock
URL:https://dev.gruenetexas.com/event/guy-forsyth-band-3/
CATEGORIES:Free Event
END:VEVENT
BEGIN:VEVENT
DTSTART;TZID=America/Chicago:20231105T123000
DTEND;TZID=America/Chicago:20231105T163000
DTSTAMP:20260419T160545
CREATED:20230907T075610Z
LAST-MODIFIED:20231105T154257Z
UID:10000730-1699187400-1699201800@dev.gruenetexas.com
SUMMARY:Dave Scher Trio
DESCRIPTION:| 			\n			\n							 \n\n\nAmericana
URL:https://dev.gruenetexas.com/event/dave-scher-trio/
CATEGORIES:Free Event
END:VEVENT
BEGIN:VEVENT
DTSTART;TZID=America/Chicago:20231104T210000
DTEND;TZID=America/Chicago:20231104T210000
DTSTAMP:20260419T160545
CREATED:20230626T181843Z
LAST-MODIFIED:20231104T154236Z
UID:10000614-1699131600-1699131600@dev.gruenetexas.com
SUMMARY:Three Dog Night
DESCRIPTION:| 			\n			\n							 \n\n\nOpener: Charlie Farren | Doors: 8pm
URL:https://dev.gruenetexas.com/event/three-dog-night-2/
CATEGORIES:Special Event,Ticketed Event
ATTACH;FMTTYPE=image/jpeg:https://dev.gruenetexas.com/wp-content/uploads/2023/08/Three-Dog-Night-SOLD-OUT-cXk8Q4.tmp_.jpg
END:VEVENT
BEGIN:VEVENT
DTSTART;TZID=America/Chicago:20231104T130000
DTEND;TZID=America/Chicago:20231104T170000
DTSTAMP:20260419T160545
CREATED:20230627T183032Z
LAST-MODIFIED:20231104T154236Z
UID:10000621-1699102800-1699117200@dev.gruenetexas.com
SUMMARY:Bill Hearne Trio
DESCRIPTION:| 			\n			\n							 \n\n\nCountry-Folk
URL:https://dev.gruenetexas.com/event/bill-hearne-trio-2/
CATEGORIES:Free Event
END:VEVENT
BEGIN:VEVENT
DTSTART;TZID=America/Chicago:20231103T200000
DTEND;TZID=America/Chicago:20231103T200000
DTSTAMP:20260419T160545
CREATED:20230626T181843Z
LAST-MODIFIED:20231103T154211Z
UID:10000613-1699041600-1699041600@dev.gruenetexas.com
SUMMARY:Three Dog Night
DESCRIPTION:| 			\n			\n							 \n\n\nOpener: Charlie Farren | Doors: 7pm
URL:https://dev.gruenetexas.com/event/three-dog-night/
CATEGORIES:Special Event,Ticketed Event
ATTACH;FMTTYPE=image/jpeg:https://dev.gruenetexas.com/wp-content/uploads/2023/08/Three-Dog-Night-SOLD-OUT-cXk8Q4.tmp_.jpg
END:VEVENT
BEGIN:VEVENT
DTSTART;TZID=America/Chicago:20231102T200000
DTEND;TZID=America/Chicago:20231102T200000
DTSTAMP:20260419T160545
CREATED:20230321T020848Z
LAST-MODIFIED:20231102T154248Z
UID:10000475-1698955200-1698955200@dev.gruenetexas.com
SUMMARY:Megan Moroney: The Lucky Tour
DESCRIPTION:| 			\n			\n							 \n\n\nOpener: Mackenzie Carpenter | Doors: 7pm
URL:https://dev.gruenetexas.com/event/megan-moroney-the-lucky-tour/
CATEGORIES:Special Event,Ticketed Event
ATTACH;FMTTYPE=image/jpeg:https://dev.gruenetexas.com/wp-content/uploads/2023/03/MeganMoroney-SOLD-OUT-JkHCxi.tmp_.jpg
END:VEVENT
END:VCALENDAR