BEGIN:VCALENDAR
VERSION:2.0
PRODID:-//Gruene Historic District - ECPv6.0.10//NONSGML v1.0//EN
CALSCALE:GREGORIAN
METHOD:PUBLISH
X-WR-CALNAME:Gruene Historic District
X-ORIGINAL-URL:https://dev.gruenetexas.com
X-WR-CALDESC:Events for Gruene Historic District
REFRESH-INTERVAL;VALUE=DURATION:PT1H
X-Robots-Tag:noindex
X-PUBLISHED-TTL:PT1H
BEGIN:VTIMEZONE
TZID:America/Chicago
BEGIN:DAYLIGHT
TZOFFSETFROM:-0600
TZOFFSETTO:-0500
TZNAME:CDT
DTSTART:20230312T080000
END:DAYLIGHT
BEGIN:STANDARD
TZOFFSETFROM:-0500
TZOFFSETTO:-0600
TZNAME:CST
DTSTART:20231105T070000
END:STANDARD
BEGIN:DAYLIGHT
TZOFFSETFROM:-0600
TZOFFSETTO:-0500
TZNAME:CDT
DTSTART:20240310T080000
END:DAYLIGHT
BEGIN:STANDARD
TZOFFSETFROM:-0500
TZOFFSETTO:-0600
TZNAME:CST
DTSTART:20241103T070000
END:STANDARD
END:VTIMEZONE
BEGIN:VEVENT
DTSTART;TZID=America/Chicago:20240107T160000
DTEND;TZID=America/Chicago:20240107T200000
DTSTAMP:20260419T185759
CREATED:20231208T110928Z
LAST-MODIFIED:20240107T152924Z
UID:10000816-1704643200-1704657600@dev.gruenetexas.com
SUMMARY:Eric Demmer Band
DESCRIPTION:| 			\n			\n							 \n\n\nBlues\, R&B
URL:https://dev.gruenetexas.com/event/eric-demmer-band-8/
CATEGORIES:Free Event
END:VEVENT
BEGIN:VEVENT
DTSTART;TZID=America/Chicago:20240107T123000
DTEND;TZID=America/Chicago:20240107T153000
DTSTAMP:20260419T185759
CREATED:20231208T110928Z
LAST-MODIFIED:20240107T152923Z
UID:10000815-1704630600-1704641400@dev.gruenetexas.com
SUMMARY:Chris Ruest Band
DESCRIPTION:| 			\n			\n							 \n\n\nBlues
URL:https://dev.gruenetexas.com/event/chris-ruest-band-12/
CATEGORIES:Free Event
END:VEVENT
BEGIN:VEVENT
DTSTART;TZID=America/Chicago:20240106T210000
DTEND;TZID=America/Chicago:20240106T210000
DTSTAMP:20260419T185759
CREATED:20231023T142717Z
LAST-MODIFIED:20240106T152652Z
UID:10000776-1704574800-1704574800@dev.gruenetexas.com
SUMMARY:Kody West
DESCRIPTION:| 			\n			\n							 \n\n\nOpener: Mitchell Ferguson | Doors: 8pm
URL:https://dev.gruenetexas.com/event/kody-west-2/
CATEGORIES:Special Event,Ticketed Event
ATTACH;FMTTYPE=image/jpeg:https://dev.gruenetexas.com/wp-content/uploads/2023/10/Kody-West-mWwV9r.tmp_.jpg
END:VEVENT
BEGIN:VEVENT
DTSTART;TZID=America/Chicago:20240106T130000
DTEND;TZID=America/Chicago:20240106T170000
DTSTAMP:20260419T185759
CREATED:20231208T110928Z
LAST-MODIFIED:20240106T152652Z
UID:10000814-1704546000-1704560400@dev.gruenetexas.com
SUMMARY:Brian Pounds Band
DESCRIPTION:| 			\n			\n							 \n\n\nAmericana
URL:https://dev.gruenetexas.com/event/brian-pounds-band-3/
CATEGORIES:Free Event
END:VEVENT
BEGIN:VEVENT
DTSTART;TZID=America/Chicago:20240105T190000
DTEND;TZID=America/Chicago:20240105T230000
DTSTAMP:20260419T185759
CREATED:20231208T110928Z
LAST-MODIFIED:20240105T152708Z
UID:10000813-1704481200-1704495600@dev.gruenetexas.com
SUMMARY:Alli Mattice Band
DESCRIPTION:| 			\n			\n							 \n\n\nAmericana
URL:https://dev.gruenetexas.com/event/alli-mattice-band/
CATEGORIES:Free Event
END:VEVENT
BEGIN:VEVENT
DTSTART;TZID=America/Chicago:20240104T180000
DTEND;TZID=America/Chicago:20240104T220000
DTSTAMP:20260419T185759
CREATED:20231209T111311Z
LAST-MODIFIED:20240104T152710Z
UID:10000847-1704391200-1704405600@dev.gruenetexas.com
SUMMARY:Bandolier
DESCRIPTION:| 			\n			\n							 \n\n\nAmericana
URL:https://dev.gruenetexas.com/event/bandolier-3/
CATEGORIES:Free Event
END:VEVENT
BEGIN:VEVENT
DTSTART;TZID=America/Chicago:20240103T180000
DTEND;TZID=America/Chicago:20240103T220000
DTSTAMP:20260419T185759
CREATED:20231221T115707Z
LAST-MODIFIED:20240103T151432Z
UID:10000877-1704304800-1704319200@dev.gruenetexas.com
SUMMARY:Oscar Ornelas
DESCRIPTION:| 			\n			\n							 \n\n\nR&B
URL:https://dev.gruenetexas.com/event/oscar-ornelas/
CATEGORIES:Free Event
END:VEVENT
BEGIN:VEVENT
DTSTART;TZID=America/Chicago:20240102T180000
DTEND;TZID=America/Chicago:20240102T220000
DTSTAMP:20260419T185759
CREATED:20231228T145722Z
LAST-MODIFIED:20240102T145658Z
UID:10000879-1704218400-1704232800@dev.gruenetexas.com
SUMMARY:Tony Taylor & Friends
DESCRIPTION:| 			\n			\n							 \n\n\nSong-Swap
URL:https://dev.gruenetexas.com/event/tony-taylor-friends-7/
CATEGORIES:Free Event
END:VEVENT
BEGIN:VEVENT
DTSTART;TZID=America/Chicago:20240101T160000
DTEND;TZID=America/Chicago:20240101T200000
DTSTAMP:20260419T185759
CREATED:20231120T210332Z
LAST-MODIFIED:20240101T145649Z
UID:10000800-1704124800-1704139200@dev.gruenetexas.com
SUMMARY:Van Wilks
DESCRIPTION:| 			\n			\n							 \n\n\nBlues-Rock
URL:https://dev.gruenetexas.com/event/van-wilks-2/
CATEGORIES:Free Event
END:VEVENT
BEGIN:VEVENT
DTSTART;TZID=America/Chicago:20240101T120000
DTEND;TZID=America/Chicago:20240101T200000
DTSTAMP:20260419T185759
CREATED:20231120T210332Z
LAST-MODIFIED:20240101T145649Z
UID:10000798-1704110400-1704139200@dev.gruenetexas.com
SUMMARY:Hair of the Dog Day
DESCRIPTION:|
URL:https://dev.gruenetexas.com/event/hair-of-the-dog-day/
CATEGORIES:Free Event
END:VEVENT
BEGIN:VEVENT
DTSTART;TZID=America/Chicago:20240101T120000
DTEND;TZID=America/Chicago:20240101T160000
DTSTAMP:20260419T185759
CREATED:20231120T210332Z
LAST-MODIFIED:20240101T145649Z
UID:10000799-1704110400-1704124800@dev.gruenetexas.com
SUMMARY:Guy Forsyth Band
DESCRIPTION:| 			\n			\n							 \n\n\nRoots-Rock
URL:https://dev.gruenetexas.com/event/guy-forsyth-band-4/
CATEGORIES:Free Event
END:VEVENT
BEGIN:VEVENT
DTSTART;TZID=America/Chicago:20231231T200000
DTEND;TZID=America/Chicago:20231231T200000
DTSTAMP:20260419T185759
CREATED:20230926T102708Z
LAST-MODIFIED:20231231T145658Z
UID:10000757-1704052800-1704052800@dev.gruenetexas.com
SUMMARY:New Year’s Eve with The Mavericks
DESCRIPTION:| 			\n			\n							 \n\n\nSpecial Guest: Henri Herbert | Doors: 7pm
URL:https://dev.gruenetexas.com/event/new-years-eve-with-the-mavericks/
CATEGORIES:Special Event,Ticketed Event
ATTACH;FMTTYPE=image/jpeg:https://dev.gruenetexas.com/wp-content/uploads/2023/11/Mavericks-NYE-SOLD-OUT-gOvayd.tmp_.jpg
END:VEVENT
BEGIN:VEVENT
DTSTART;TZID=America/Chicago:20231231T120000
DTEND;TZID=America/Chicago:20231231T160000
DTSTAMP:20260419T185759
CREATED:20230812T114217Z
LAST-MODIFIED:20231231T145658Z
UID:10000698-1704024000-1704038400@dev.gruenetexas.com
SUMMARY:Matt Kirk & The Gueyfarers
DESCRIPTION:| 			\n			\n							 \n\n\nAmericana
URL:https://dev.gruenetexas.com/event/matt-kirk-the-gueyfarers-7/
CATEGORIES:Free Event
END:VEVENT
BEGIN:VEVENT
DTSTART;TZID=America/Chicago:20231230T210000
DTEND;TZID=America/Chicago:20231230T210000
DTSTAMP:20260419T185759
CREATED:20230926T102708Z
LAST-MODIFIED:20231230T145703Z
UID:10000756-1703970000-1703970000@dev.gruenetexas.com
SUMMARY:An Evening with The Mavericks
DESCRIPTION:| 			\n			\n							 \n\n\nNo Opener | Doors: 8pm
URL:https://dev.gruenetexas.com/event/an-evening-with-the-mavericks-2/
CATEGORIES:Special Event,Ticketed Event
ATTACH;FMTTYPE=image/jpeg:https://dev.gruenetexas.com/wp-content/uploads/2023/10/Mavericks-SOLD-OUT-hknPFC.tmp_.jpg
END:VEVENT
BEGIN:VEVENT
DTSTART;TZID=America/Chicago:20231230T130000
DTEND;TZID=America/Chicago:20231230T170000
DTSTAMP:20260419T185759
CREATED:20231106T155939Z
LAST-MODIFIED:20231230T145703Z
UID:10000790-1703941200-1703955600@dev.gruenetexas.com
SUMMARY:Flat Top Jones
DESCRIPTION:| 			\n			\n							 \n\n\nCountry
URL:https://dev.gruenetexas.com/event/flat-top-jones-11/
CATEGORIES:Free Event
END:VEVENT
BEGIN:VEVENT
DTSTART;TZID=America/Chicago:20231229T200000
DTEND;TZID=America/Chicago:20231229T200000
DTSTAMP:20260419T185759
CREATED:20230926T102708Z
LAST-MODIFIED:20231229T145942Z
UID:10000755-1703880000-1703880000@dev.gruenetexas.com
SUMMARY:An Evening with The Mavericks
DESCRIPTION:| 			\n			\n							 \n\n\nNo Opener | Doors: 7pm
URL:https://dev.gruenetexas.com/event/an-evening-with-the-mavericks/
CATEGORIES:Special Event,Ticketed Event
ATTACH;FMTTYPE=image/jpeg:https://dev.gruenetexas.com/wp-content/uploads/2023/10/Mavericks-SOLD-OUT-hknPFC.tmp_.jpg
END:VEVENT
BEGIN:VEVENT
DTSTART;TZID=America/Chicago:20231228T180000
DTEND;TZID=America/Chicago:20231228T220000
DTSTAMP:20260419T185759
CREATED:20231201T085705Z
LAST-MODIFIED:20231228T145722Z
UID:10000808-1703786400-1703800800@dev.gruenetexas.com
SUMMARY:The Allan Hendrickson Band
DESCRIPTION:| 			\n			\n							 \n\n\nCountry
URL:https://dev.gruenetexas.com/event/jake-penrod-band-5/
CATEGORIES:Free Event
END:VEVENT
BEGIN:VEVENT
DTSTART;TZID=America/Chicago:20231228T130000
DTEND;TZID=America/Chicago:20231228T170000
DTSTAMP:20260419T185759
CREATED:20231201T085705Z
LAST-MODIFIED:20231228T145722Z
UID:10000807-1703768400-1703782800@dev.gruenetexas.com
SUMMARY:Bo Porter\, Matt & Sylvia Kirk
DESCRIPTION:| 			\n			\n							 \n\n\nCountry
URL:https://dev.gruenetexas.com/event/bo-porter-matt-sylvia-kirk/
CATEGORIES:Free Event
END:VEVENT
BEGIN:VEVENT
DTSTART;TZID=America/Chicago:20231227T180000
DTEND;TZID=America/Chicago:20231227T220000
DTSTAMP:20260419T185759
CREATED:20230811T112940Z
LAST-MODIFIED:20231227T144937Z
UID:10000695-1703700000-1703714400@dev.gruenetexas.com
SUMMARY:The Georges
DESCRIPTION:| 			\n			\n							 \n\n\nRock-a-Billy \n\n		\n\n\n\n\n\n\n						\n							Add to calendar						 \n\n\n\n									\n										Google Calendar									\n								\n\n									\n										iCalendar									\n								\n\n									\n										Outlook 365									\n								\n\n									\n										Outlook Live
URL:https://dev.gruenetexas.com/event/the-georges-24/
CATEGORIES:Free Event
END:VEVENT
BEGIN:VEVENT
DTSTART;TZID=America/Chicago:20231227T130000
DTEND;TZID=America/Chicago:20231227T170000
DTSTAMP:20260419T185759
CREATED:20231116T182938Z
LAST-MODIFIED:20231227T144937Z
UID:10000796-1703682000-1703696400@dev.gruenetexas.com
SUMMARY:Slim Bawb & The Fabulous Stumpgrinders
DESCRIPTION:| 			\n			\n							 \n\n\nTexas Swamp
URL:https://dev.gruenetexas.com/event/slim-bawb-the-fabulous-stumpgrinders-9/
CATEGORIES:Free Event
END:VEVENT
BEGIN:VEVENT
DTSTART;TZID=America/Chicago:20231226T203000
DTEND;TZID=America/Chicago:20231226T203000
DTSTAMP:20260419T185759
CREATED:20231024T143555Z
LAST-MODIFIED:20231226T144247Z
UID:10000780-1703622600-1703622600@dev.gruenetexas.com
SUMMARY:Two Ton Tuesday Holiday Show
DESCRIPTION:| 			\n			\n							 \n\n\nCover at the door \n\n				at the door
URL:https://dev.gruenetexas.com/event/two-ton-tuesday-holiday-show-2/
CATEGORIES:Special Event
ATTACH;FMTTYPE=image/jpeg:https://dev.gruenetexas.com/wp-content/uploads/2023/03/TTT-1-Rbetxx.tmp_.jpg
END:VEVENT
BEGIN:VEVENT
DTSTART;TZID=America/Chicago:20231226T130000
DTEND;TZID=America/Chicago:20231226T170000
DTSTAMP:20260419T185759
CREATED:20231206T104328Z
LAST-MODIFIED:20231226T144247Z
UID:10000809-1703595600-1703610000@dev.gruenetexas.com
SUMMARY:Chris Ruest Band
DESCRIPTION:| 			\n			\n							 \n\n\nBlues
URL:https://dev.gruenetexas.com/event/chris-ruest-band-11/
CATEGORIES:Free Event
END:VEVENT
BEGIN:VEVENT
DTSTART;TZID=America/Chicago:20231223T210000
DTEND;TZID=America/Chicago:20231223T210000
DTSTAMP:20260419T185759
CREATED:20230928T103651Z
LAST-MODIFIED:20231223T120649Z
UID:10000758-1703365200-1703365200@dev.gruenetexas.com
SUMMARY:Kevin Fowler’s Deck the Dancehalls Tour
DESCRIPTION:| 			\n			\n							 \n\n\nOpener: Wynn Williams | Doors: 8pm
URL:https://dev.gruenetexas.com/event/kevin-fowlers-deck-the-dancehalls-tour/
CATEGORIES:Special Event,Ticketed Event
ATTACH;FMTTYPE=image/jpeg:https://dev.gruenetexas.com/wp-content/uploads/2023/12/Kevin-Fowler-xmas-SOLD-OUT-WJgBaj.tmp_.jpg
END:VEVENT
BEGIN:VEVENT
DTSTART;TZID=America/Chicago:20231223T130000
DTEND;TZID=America/Chicago:20231223T170000
DTSTAMP:20260419T185759
CREATED:20230929T105628Z
LAST-MODIFIED:20231223T120649Z
UID:10000760-1703336400-1703350800@dev.gruenetexas.com
SUMMARY:Jason James Band
DESCRIPTION:| 			\n			\n							 \n\n\nCountry
URL:https://dev.gruenetexas.com/event/jason-james-band-2/
CATEGORIES:Free Event
END:VEVENT
BEGIN:VEVENT
DTSTART;TZID=America/Chicago:20231222T200000
DTEND;TZID=America/Chicago:20231222T200000
DTSTAMP:20260419T185759
CREATED:20231011T115745Z
LAST-MODIFIED:20231222T115905Z
UID:10000773-1703275200-1703275200@dev.gruenetexas.com
SUMMARY:Cody Canada & The Departed
DESCRIPTION:| 			\n			\n							 \n\n\nOpener: Waves In April | Doors: 7pm
URL:https://dev.gruenetexas.com/event/cody-canada-the-departed/
CATEGORIES:Special Event,Ticketed Event
ATTACH;FMTTYPE=image/jpeg:https://dev.gruenetexas.com/wp-content/uploads/2023/12/Cody-Canada-SOLD-OUT-NTncWe.tmp_.jpg
END:VEVENT
BEGIN:VEVENT
DTSTART;TZID=America/Chicago:20231222T130000
DTEND;TZID=America/Chicago:20231222T170000
DTSTAMP:20260419T185759
CREATED:20231201T085705Z
LAST-MODIFIED:20231222T115905Z
UID:10000806-1703250000-1703264400@dev.gruenetexas.com
SUMMARY:Bo Porter and Jake Penrod
DESCRIPTION:| 			\n			\n							 \n\n\nCountry
URL:https://dev.gruenetexas.com/event/bo-porter-and-friends/
CATEGORIES:Free Event
END:VEVENT
BEGIN:VEVENT
DTSTART;TZID=America/Chicago:20231221T180000
DTEND;TZID=America/Chicago:20231221T220000
DTSTAMP:20260419T185759
CREATED:20231103T154214Z
LAST-MODIFIED:20231221T115705Z
UID:10000788-1703181600-1703196000@dev.gruenetexas.com
SUMMARY:Hot Club of Cowtown
DESCRIPTION:| 			\n			\n							 \n\n\nWestern-Swing
URL:https://dev.gruenetexas.com/event/hot-club-of-cowtown-4/
CATEGORIES:Free Event
END:VEVENT
BEGIN:VEVENT
DTSTART;TZID=America/Chicago:20231221T130000
DTEND;TZID=America/Chicago:20231221T170000
DTSTAMP:20260419T185759
CREATED:20231201T085705Z
LAST-MODIFIED:20231221T115705Z
UID:10000805-1703163600-1703178000@dev.gruenetexas.com
SUMMARY:Chris Ruest Band
DESCRIPTION:| 			\n			\n							 \n\n\nBlues
URL:https://dev.gruenetexas.com/event/chris-ruest-band-10/
CATEGORIES:Free Event
END:VEVENT
BEGIN:VEVENT
DTSTART;TZID=America/Chicago:20231220T180000
DTEND;TZID=America/Chicago:20231220T220000
DTSTAMP:20260419T185759
CREATED:20231117T185956Z
LAST-MODIFIED:20231220T115713Z
UID:10000797-1703095200-1703109600@dev.gruenetexas.com
SUMMARY:Jordan Minor Band
DESCRIPTION:| 			\n			\n							 \n\n\nAmericana
URL:https://dev.gruenetexas.com/event/jordan-minor-band-5/
CATEGORIES:Free Event
END:VEVENT
BEGIN:VEVENT
DTSTART;TZID=America/Chicago:20231220T130000
DTEND;TZID=America/Chicago:20231220T170000
DTSTAMP:20260419T185759
CREATED:20231116T182938Z
LAST-MODIFIED:20231220T115713Z
UID:10000795-1703077200-1703091600@dev.gruenetexas.com
SUMMARY:Slim Bawb & The Fabulous Stumpgrinders
DESCRIPTION:| 			\n			\n							 \n\n\nTexas Swamp
URL:https://dev.gruenetexas.com/event/slim-bawb-the-fabulous-stumpgrinders-8/
CATEGORIES:Free Event
END:VEVENT
END:VCALENDAR