BEGIN:VCALENDAR
VERSION:2.0
PRODID:-//Gruene Historic District - ECPv6.0.10//NONSGML v1.0//EN
CALSCALE:GREGORIAN
METHOD:PUBLISH
X-WR-CALNAME:Gruene Historic District
X-ORIGINAL-URL:https://dev.gruenetexas.com
X-WR-CALDESC:Events for Gruene Historic District
REFRESH-INTERVAL;VALUE=DURATION:PT1H
X-Robots-Tag:noindex
X-PUBLISHED-TTL:PT1H
BEGIN:VTIMEZONE
TZID:America/Chicago
BEGIN:DAYLIGHT
TZOFFSETFROM:-0600
TZOFFSETTO:-0500
TZNAME:CDT
DTSTART:20230312T080000
END:DAYLIGHT
BEGIN:STANDARD
TZOFFSETFROM:-0500
TZOFFSETTO:-0600
TZNAME:CST
DTSTART:20231105T070000
END:STANDARD
END:VTIMEZONE
BEGIN:VEVENT
DTSTART;TZID=America/Chicago:20230627T203000
DTEND;TZID=America/Chicago:20230627T203000
DTSTAMP:20260420T073435
CREATED:20230304T121539Z
LAST-MODIFIED:20230627T183017Z
UID:10000397-1687897800-1687897800@dev.gruenetexas.com
SUMMARY:Two Ton Tuesday
DESCRIPTION:| 			\n			\n							 \n\n\n$8 cover at the door \n\n		\n\n\n\n\n\n\n						\n							Add to calendar						 \n\n\n\n									\n										Google Calendar									\n								\n\n									\n										iCalendar									\n								\n\n									\n										Outlook 365									\n								\n\n									\n										Outlook Live
URL:https://dev.gruenetexas.com/event/two-ton-tuesday-4/
LOCATION:Gruene Hall\, 1281 Gruene Rd\, New Braunfels\, Texas\, 78130
CATEGORIES:Special Event,Ticketed Event
ATTACH;FMTTYPE=image/jpeg:https://dev.gruenetexas.com/wp-content/uploads/2023/03/TTT-1-Rbetxx.tmp_.jpg
END:VEVENT
BEGIN:VEVENT
DTSTART;TZID=America/Chicago:20230627T180000
DTEND;TZID=America/Chicago:20230627T190000
DTSTAMP:20260420T073435
CREATED:20230304T121539Z
LAST-MODIFIED:20230627T183017Z
UID:10000394-1687888800-1687892400@dev.gruenetexas.com
SUMMARY:Swing Dance Lessons
DESCRIPTION:| 			\n			\n							 \n\n\n$10 cover at the door \n\n		\n\n\n\n\n\n\n						\n							Add to calendar						 \n\n\n\n									\n										Google Calendar									\n								\n\n									\n										iCalendar									\n								\n\n									\n										Outlook 365									\n								\n\n									\n										Outlook Live
URL:https://dev.gruenetexas.com/event/swing-dance-lessons-6/
CATEGORIES:Special Event,Ticketed Event
END:VEVENT
BEGIN:VEVENT
DTSTART;TZID=America/Chicago:20230626T180000
DTEND;TZID=America/Chicago:20230626T220000
DTSTAMP:20260420T073435
CREATED:20230425T124729Z
LAST-MODIFIED:20230626T181827Z
UID:10000535-1687802400-1687816800@dev.gruenetexas.com
SUMMARY:Bret Graham Band
DESCRIPTION:| 			\n			\n							 \n\n\nCountry
URL:https://dev.gruenetexas.com/event/bret-graham-band-10/
CATEGORIES:Free Event
END:VEVENT
BEGIN:VEVENT
DTSTART;TZID=America/Chicago:20230625T200000
DTEND;TZID=America/Chicago:20230625T200000
DTSTAMP:20260420T073435
CREATED:20230304T121538Z
LAST-MODIFIED:20230625T181517Z
UID:10000393-1687723200-1687723200@dev.gruenetexas.com
SUMMARY:Reckless Kelly
DESCRIPTION:| 			\n			\n							 \n\n\nOpener: Muzzie Braun | Doors: 8pm
URL:https://dev.gruenetexas.com/event/reckless-kelly-4/
CATEGORIES:Special Event,Ticketed Event
ATTACH;FMTTYPE=image/jpeg:https://dev.gruenetexas.com/wp-content/uploads/2023/03/RecklessKelly-SOLD-OUT-Hfd2Tv.tmp_.jpg
END:VEVENT
BEGIN:VEVENT
DTSTART;TZID=America/Chicago:20230625T130000
DTEND;TZID=America/Chicago:20230625T170000
DTSTAMP:20260420T073435
CREATED:20230412T110951Z
LAST-MODIFIED:20230625T181517Z
UID:10000517-1687698000-1687712400@dev.gruenetexas.com
SUMMARY:Murali Coryell with Ernie Durawa & Chris Alcaraz
DESCRIPTION:| 			\n			\n							 \n\n\nBlues
URL:https://dev.gruenetexas.com/event/murali-coryell-with-ernie-durawa-chris-alcaraz/
CATEGORIES:Free Event
END:VEVENT
BEGIN:VEVENT
DTSTART;TZID=America/Chicago:20230624T210000
DTEND;TZID=America/Chicago:20230624T210000
DTSTAMP:20260420T073435
CREATED:20230304T121538Z
LAST-MODIFIED:20230624T181146Z
UID:10000391-1687640400-1687640400@dev.gruenetexas.com
SUMMARY:Reckless Kelly
DESCRIPTION:| 			\n			\n							 \n\n\nOpener: Kenny Feidler & The Cowboy Killers | Doors: 8pm
URL:https://dev.gruenetexas.com/event/reckless-kelly-3/
CATEGORIES:Special Event,Ticketed Event
ATTACH;FMTTYPE=image/jpeg:https://dev.gruenetexas.com/wp-content/uploads/2023/03/RecklessKelly-SOLD-OUT-Hfd2Tv.tmp_.jpg
END:VEVENT
BEGIN:VEVENT
DTSTART;TZID=America/Chicago:20230624T123000
DTEND;TZID=America/Chicago:20230624T163000
DTSTAMP:20260420T073435
CREATED:20230425T124728Z
LAST-MODIFIED:20230624T181146Z
UID:10000534-1687609800-1687624200@dev.gruenetexas.com
SUMMARY:Flat Top Jones
DESCRIPTION:| 			\n			\n							 \n\n\nCountry
URL:https://dev.gruenetexas.com/event/flat-top-jones-5/
CATEGORIES:Free Event
END:VEVENT
BEGIN:VEVENT
DTSTART;TZID=America/Chicago:20230623T200000
DTEND;TZID=America/Chicago:20230623T200000
DTSTAMP:20260420T073435
CREATED:20230304T121538Z
LAST-MODIFIED:20230623T173846Z
UID:10000389-1687550400-1687550400@dev.gruenetexas.com
SUMMARY:Reckless Kelly
DESCRIPTION:| 			\n			\n							 \n\n\nOpener: Scattered & Shattered | Doors: 7pm
URL:https://dev.gruenetexas.com/event/reckless-kelly-2/
CATEGORIES:Special Event,Ticketed Event
ATTACH;FMTTYPE=image/jpeg:https://dev.gruenetexas.com/wp-content/uploads/2023/03/RecklessKelly-SOLD-OUT-Hfd2Tv.tmp_.jpg
END:VEVENT
BEGIN:VEVENT
DTSTART;TZID=America/Chicago:20230623T160000
DTEND;TZID=America/Chicago:20230623T190000
DTSTAMP:20260420T073435
CREATED:20230304T121538Z
LAST-MODIFIED:20230623T173846Z
UID:10000387-1687536000-1687546800@dev.gruenetexas.com
SUMMARY:Friday Afternoon Club
DESCRIPTION:|
URL:https://dev.gruenetexas.com/event/friday-afternoon-club-18/
CATEGORIES:Free Event
END:VEVENT
BEGIN:VEVENT
DTSTART;TZID=America/Chicago:20230623T120000
DTEND;TZID=America/Chicago:20230623T140000
DTSTAMP:20260420T073435
CREATED:20230602T124004Z
LAST-MODIFIED:20230623T173845Z
UID:10000587-1687521600-1687528800@dev.gruenetexas.com
SUMMARY:Frank Schlather Day
DESCRIPTION:|
URL:https://dev.gruenetexas.com/event/frank-schlather-day/
CATEGORIES:Special Event
END:VEVENT
BEGIN:VEVENT
DTSTART;TZID=America/Chicago:20230622T200000
DTEND;TZID=America/Chicago:20230622T200000
DTSTAMP:20260420T073435
CREATED:20230304T121537Z
LAST-MODIFIED:20230622T170902Z
UID:10000386-1687464000-1687464000@dev.gruenetexas.com
SUMMARY:Reckless Kelly
DESCRIPTION:| 			\n			\n							 \n\n\nOpener: Muzzie Braun | Doors: 7pm
URL:https://dev.gruenetexas.com/event/reckless-kelly/
CATEGORIES:Special Event,Ticketed Event
ATTACH;FMTTYPE=image/jpeg:https://dev.gruenetexas.com/wp-content/uploads/2023/03/RecklessKelly-SOLD-OUT-Hfd2Tv.tmp_.jpg
END:VEVENT
BEGIN:VEVENT
DTSTART;TZID=America/Chicago:20230621T180000
DTEND;TZID=America/Chicago:20230621T220000
DTSTAMP:20260420T073435
CREATED:20230510T162019Z
LAST-MODIFIED:20230621T161127Z
UID:10000568-1687370400-1687384800@dev.gruenetexas.com
SUMMARY:Chris Ruest Band
DESCRIPTION:| 			\n			\n							 \n\n\nBlues
URL:https://dev.gruenetexas.com/event/chris-ruest-band-6/
CATEGORIES:Free Event
END:VEVENT
BEGIN:VEVENT
DTSTART;TZID=America/Chicago:20230621T103000
DTEND;TZID=America/Chicago:20230621T114500
DTSTAMP:20260420T073435
CREATED:20230602T124004Z
LAST-MODIFIED:20230621T161127Z
UID:10000586-1687343400-1687347900@dev.gruenetexas.com
SUMMARY:International Day of Yoga
DESCRIPTION:| 			\n			\n							 \n\n\nPop-In Class
URL:https://dev.gruenetexas.com/event/international-day-of-yoga/
CATEGORIES:Free Event,Special Event
END:VEVENT
BEGIN:VEVENT
DTSTART;TZID=America/Chicago:20230620T203000
DTEND;TZID=America/Chicago:20230620T203000
DTSTAMP:20260420T073435
CREATED:20230304T121537Z
LAST-MODIFIED:20230620T155800Z
UID:10000384-1687293000-1687293000@dev.gruenetexas.com
SUMMARY:Two Ton Tuesday
DESCRIPTION:| 			\n			\n							 \n\n\n$8 cover at the door \n\n		\n\n\n\n\n\n\n						\n							Add to calendar						 \n\n\n\n									\n										Google Calendar									\n								\n\n									\n										iCalendar									\n								\n\n									\n										Outlook 365									\n								\n\n									\n										Outlook Live
URL:https://dev.gruenetexas.com/event/two-ton-tuesday-3/
LOCATION:Gruene Hall\, 1281 Gruene Rd\, New Braunfels\, Texas\, 78130
CATEGORIES:Special Event,Ticketed Event
ATTACH;FMTTYPE=image/jpeg:https://dev.gruenetexas.com/wp-content/uploads/2023/03/TTT-1-Rbetxx.tmp_.jpg
END:VEVENT
BEGIN:VEVENT
DTSTART;TZID=America/Chicago:20230620T180000
DTEND;TZID=America/Chicago:20230620T190000
DTSTAMP:20260420T073435
CREATED:20230304T121537Z
LAST-MODIFIED:20230620T155800Z
UID:10000382-1687284000-1687287600@dev.gruenetexas.com
SUMMARY:Swing Dance Lessons
DESCRIPTION:| 			\n			\n							 \n\n\n$10 cover at the door \n\n		\n\n\n\n\n\n\n						\n							Add to calendar						 \n\n\n\n									\n										Google Calendar									\n								\n\n									\n										iCalendar									\n								\n\n									\n										Outlook 365									\n								\n\n									\n										Outlook Live
URL:https://dev.gruenetexas.com/event/swing-dance-lessons-5/
CATEGORIES:Special Event,Ticketed Event
END:VEVENT
BEGIN:VEVENT
DTSTART;TZID=America/Chicago:20230619T180000
DTEND;TZID=America/Chicago:20230619T220000
DTSTAMP:20260420T073435
CREATED:20230425T124728Z
LAST-MODIFIED:20230619T155809Z
UID:10000533-1687197600-1687212000@dev.gruenetexas.com
SUMMARY:Bret Graham Band
DESCRIPTION:| 			\n			\n							 \n\n\nCountry
URL:https://dev.gruenetexas.com/event/bret-graham-band-9/
CATEGORIES:Free Event
END:VEVENT
BEGIN:VEVENT
DTSTART;TZID=America/Chicago:20230618T170000
DTEND;TZID=America/Chicago:20230618T210000
DTSTAMP:20260420T073435
CREATED:20230425T124727Z
LAST-MODIFIED:20230618T154347Z
UID:10000532-1687107600-1687122000@dev.gruenetexas.com
SUMMARY:Phil Hurley Trio
DESCRIPTION:| 			\n			\n							 \n\n\nAmericana
URL:https://dev.gruenetexas.com/event/phil-hurley-band-2/
CATEGORIES:Free Event
END:VEVENT
BEGIN:VEVENT
DTSTART;TZID=America/Chicago:20230618T123000
DTEND;TZID=America/Chicago:20230618T163000
DTSTAMP:20260420T073435
CREATED:20230425T124727Z
LAST-MODIFIED:20230618T154347Z
UID:10000531-1687091400-1687105800@dev.gruenetexas.com
SUMMARY:David Scher Trio
DESCRIPTION:| 			\n			\n							 \n\n\nAnericana-Rock
URL:https://dev.gruenetexas.com/event/david-scher-trio/
CATEGORIES:Free Event
END:VEVENT
BEGIN:VEVENT
DTSTART;TZID=America/Chicago:20230617T200000
DTEND;TZID=America/Chicago:20230617T200000
DTSTAMP:20260420T073435
CREATED:20230321T020842Z
LAST-MODIFIED:20230617T152759Z
UID:10000474-1687032000-1687032000@dev.gruenetexas.com
SUMMARY:Rodney Crowell: The Chicago Sessions Tour
DESCRIPTION:| 			\n			\n							 \n\n\nOpener: Rob Ickes & Trey Hensley | Doors: 7pm
URL:https://dev.gruenetexas.com/event/rodney-crowell-the-chicago-sessions-tour/
CATEGORIES:Special Event,Ticketed Event
ATTACH;FMTTYPE=image/jpeg:https://dev.gruenetexas.com/wp-content/uploads/2023/03/RodneyCrowell-ibKN4p.tmp_.jpg
END:VEVENT
BEGIN:VEVENT
DTSTART;TZID=America/Chicago:20230617T130000
DTEND;TZID=America/Chicago:20230617T170000
DTSTAMP:20260420T073435
CREATED:20230406T095734Z
LAST-MODIFIED:20230617T152759Z
UID:10000505-1687006800-1687021200@dev.gruenetexas.com
SUMMARY:Johnny Nicholas & Katie Shore
DESCRIPTION:| 			\n			\n							 \n\n\nCountry-Roots
URL:https://dev.gruenetexas.com/event/johnny-nicholas-band/
CATEGORIES:Free Event
END:VEVENT
BEGIN:VEVENT
DTSTART;TZID=America/Chicago:20230616T200000
DTEND;TZID=America/Chicago:20230616T200000
DTSTAMP:20260420T073435
CREATED:20230313T175450Z
LAST-MODIFIED:20230616T152853Z
UID:10000428-1686945600-1686945600@dev.gruenetexas.com
SUMMARY:Carson Jeffrey
DESCRIPTION:| 			\n			\n							 \n\n\nOpener: Larissa Boyd | Doors: 7pm
URL:https://dev.gruenetexas.com/event/carson-jeffrey/
CATEGORIES:Special Event,Ticketed Event
ATTACH;FMTTYPE=image/jpeg:https://dev.gruenetexas.com/wp-content/uploads/2023/03/CarsonJeffrey-1-pEefut.tmp_.jpg
END:VEVENT
BEGIN:VEVENT
DTSTART;TZID=America/Chicago:20230616T160000
DTEND;TZID=America/Chicago:20230616T190000
DTSTAMP:20260420T073435
CREATED:20230304T121537Z
LAST-MODIFIED:20230616T152853Z
UID:10000381-1686931200-1686942000@dev.gruenetexas.com
SUMMARY:Friday Afternoon Club
DESCRIPTION:|
URL:https://dev.gruenetexas.com/event/friday-afternoon-club-17/
CATEGORIES:Free Event
END:VEVENT
BEGIN:VEVENT
DTSTART;TZID=America/Chicago:20230615T180000
DTEND;TZID=America/Chicago:20230615T220000
DTSTAMP:20260420T073435
CREATED:20230510T162018Z
LAST-MODIFIED:20230615T152906Z
UID:10000567-1686852000-1686866400@dev.gruenetexas.com
SUMMARY:Andi Holleman Trio
DESCRIPTION:| 			\n			\n							 \n\n\nAmericana
URL:https://dev.gruenetexas.com/event/andi-holleman-trio-4/
CATEGORIES:Free Event
END:VEVENT
BEGIN:VEVENT
DTSTART;TZID=America/Chicago:20230614T180000
DTEND;TZID=America/Chicago:20230614T220000
DTSTAMP:20260420T073435
CREATED:20230425T124727Z
LAST-MODIFIED:20230614T151311Z
UID:10000530-1686765600-1686780000@dev.gruenetexas.com
SUMMARY:The Georges
DESCRIPTION:| 			\n			\n							 \n\n\nRock-A-Billy
URL:https://dev.gruenetexas.com/event/the-georges-8/
CATEGORIES:Free Event
END:VEVENT
BEGIN:VEVENT
DTSTART;TZID=America/Chicago:20230613T203000
DTEND;TZID=America/Chicago:20230613T203000
DTSTAMP:20260420T073435
CREATED:20230304T121537Z
LAST-MODIFIED:20230613T145807Z
UID:10000379-1686688200-1686688200@dev.gruenetexas.com
SUMMARY:Two Ton Tuesday
DESCRIPTION:| 			\n			\n							 \n\n\n$8 cover at the door \n\n		\n\n\n\n\n\n\n						\n							Add to calendar						 \n\n\n\n									\n										Google Calendar									\n								\n\n									\n										iCalendar									\n								\n\n									\n										Outlook 365									\n								\n\n									\n										Outlook Live
URL:https://dev.gruenetexas.com/event/two-ton-tuesday-2/
LOCATION:Gruene Hall\, 1281 Gruene Rd\, New Braunfels\, Texas\, 78130
CATEGORIES:Special Event,Ticketed Event
ATTACH;FMTTYPE=image/jpeg:https://dev.gruenetexas.com/wp-content/uploads/2023/03/TTT-1-Rbetxx.tmp_.jpg
END:VEVENT
BEGIN:VEVENT
DTSTART;TZID=America/Chicago:20230613T180000
DTEND;TZID=America/Chicago:20230613T190000
DTSTAMP:20260420T073435
CREATED:20230304T121537Z
LAST-MODIFIED:20230613T145807Z
UID:10000377-1686679200-1686682800@dev.gruenetexas.com
SUMMARY:Swing Dance Lessons
DESCRIPTION:| 			\n			\n							 \n\n\n$10 cover at the door \n\n		\n\n\n\n\n\n\n						\n							Add to calendar						 \n\n\n\n									\n										Google Calendar									\n								\n\n									\n										iCalendar									\n								\n\n									\n										Outlook 365									\n								\n\n									\n										Outlook Live
URL:https://dev.gruenetexas.com/event/swing-dance-lessons-4/
CATEGORIES:Special Event,Ticketed Event
END:VEVENT
BEGIN:VEVENT
DTSTART;TZID=America/Chicago:20230612T180000
DTEND;TZID=America/Chicago:20230612T220000
DTSTAMP:20260420T073435
CREATED:20230425T124726Z
LAST-MODIFIED:20230612T144529Z
UID:10000529-1686592800-1686607200@dev.gruenetexas.com
SUMMARY:Bret Graham Band
DESCRIPTION:| 			\n			\n							 \n\n\nCountry
URL:https://dev.gruenetexas.com/event/bret-graham-band-8/
CATEGORIES:Free Event
END:VEVENT
BEGIN:VEVENT
DTSTART;TZID=America/Chicago:20230611T170000
DTEND;TZID=America/Chicago:20230611T210000
DTSTAMP:20260420T073435
CREATED:20230425T124726Z
LAST-MODIFIED:20230611T144303Z
UID:10000528-1686502800-1686517200@dev.gruenetexas.com
SUMMARY:Tom Gilliam & The Kosmic Messengers
DESCRIPTION:| 			\n			\n							 \n\n\nAmericana-Rock
URL:https://dev.gruenetexas.com/event/tom-gilliam-the-kosmic-messengers/
CATEGORIES:Free Event
END:VEVENT
BEGIN:VEVENT
DTSTART;TZID=America/Chicago:20230611T123000
DTEND;TZID=America/Chicago:20230611T163000
DTSTAMP:20260420T073435
CREATED:20230425T124726Z
LAST-MODIFIED:20230611T144303Z
UID:10000527-1686486600-1686501000@dev.gruenetexas.com
SUMMARY:Bret Graham Band
DESCRIPTION:| 			\n			\n							 \n\n\nCountry
URL:https://dev.gruenetexas.com/event/bret-graham-band-7/
CATEGORIES:Free Event
END:VEVENT
BEGIN:VEVENT
DTSTART;TZID=America/Chicago:20230610T210000
DTEND;TZID=America/Chicago:20230610T210000
DTSTAMP:20260420T073435
CREATED:20230304T121536Z
LAST-MODIFIED:20230610T142900Z
UID:10000376-1686430800-1686430800@dev.gruenetexas.com
SUMMARY:Tab Benoit
DESCRIPTION:| 			\n			\n							 \n\n\nOpener: Matt Andersen | Doors: 8pm
URL:https://dev.gruenetexas.com/event/tab-benoit/
CATEGORIES:Special Event,Ticketed Event
ATTACH;FMTTYPE=image/jpeg:https://dev.gruenetexas.com/wp-content/uploads/2023/04/Tab-Benoit-LXxqkn.tmp_.jpg
END:VEVENT
END:VCALENDAR