BEGIN:VCALENDAR
VERSION:2.0
PRODID:-//Gruene Historic District - ECPv6.0.10//NONSGML v1.0//EN
CALSCALE:GREGORIAN
METHOD:PUBLISH
X-WR-CALNAME:Gruene Historic District
X-ORIGINAL-URL:https://dev.gruenetexas.com
X-WR-CALDESC:Events for Gruene Historic District
REFRESH-INTERVAL;VALUE=DURATION:PT1H
X-Robots-Tag:noindex
X-PUBLISHED-TTL:PT1H
BEGIN:VTIMEZONE
TZID:America/Chicago
BEGIN:DAYLIGHT
TZOFFSETFROM:-0600
TZOFFSETTO:-0500
TZNAME:CDT
DTSTART:20230312T080000
END:DAYLIGHT
BEGIN:STANDARD
TZOFFSETFROM:-0500
TZOFFSETTO:-0600
TZNAME:CST
DTSTART:20231105T070000
END:STANDARD
END:VTIMEZONE
BEGIN:VEVENT
DTSTART;TZID=America/Chicago:20231013T200000
DTEND;TZID=America/Chicago:20231013T200000
DTSTAMP:20260419T215413
CREATED:20230501T140427Z
LAST-MODIFIED:20230501T140427Z
UID:10000553-1697227200-1697227200@dev.gruenetexas.com
SUMMARY:Los Lobos
DESCRIPTION:| 			\n			\n							 \n\n\nOpener: TBA | Doors: 7pm
URL:https://dev.gruenetexas.com/event/los-lobos/
CATEGORIES:Special Event,Ticketed Event
ATTACH;FMTTYPE=image/jpeg:https://dev.gruenetexas.com/wp-content/uploads/2023/05/LosLobos-9VXFZg.tmp_.jpg
END:VEVENT
BEGIN:VEVENT
DTSTART;TZID=America/Chicago:20231013T160000
DTEND;TZID=America/Chicago:20231013T190000
DTSTAMP:20260419T215413
CREATED:20230304T121546Z
LAST-MODIFIED:20231013T120219Z
UID:10000392-1697212800-1697223600@dev.gruenetexas.com
SUMMARY:Friday Afternoon Club
DESCRIPTION:|
URL:https://dev.gruenetexas.com/event/friday-afternoon-club-34/
CATEGORIES:Free Event
END:VEVENT
BEGIN:VEVENT
DTSTART;TZID=America/Chicago:20231012T200000
DTEND;TZID=America/Chicago:20231012T200000
DTSTAMP:20260419T215413
CREATED:20230725T083241Z
LAST-MODIFIED:20231012T115936Z
UID:10000652-1697140800-1697140800@dev.gruenetexas.com
SUMMARY:Clay Walker
DESCRIPTION:| 			\n			\n							 \n\n\nOpener: Hayden Baker | Doors: 7pm
URL:https://dev.gruenetexas.com/event/clay-walker/
CATEGORIES:Special Event,Ticketed Event
ATTACH;FMTTYPE=image/jpeg:https://dev.gruenetexas.com/wp-content/uploads/2023/09/Clay-Walker-SOLD-OUT-Hr7wO3.tmp_.jpg
END:VEVENT
BEGIN:VEVENT
DTSTART;TZID=America/Chicago:20231011T180000
DTEND;TZID=America/Chicago:20231011T220000
DTSTAMP:20260419T215413
CREATED:20230811T112933Z
LAST-MODIFIED:20231011T115741Z
UID:10000688-1697047200-1697061600@dev.gruenetexas.com
SUMMARY:The Georges
DESCRIPTION:| 			\n			\n							 \n\n\nRock-a-Billy \n\n		\n\n\n\n\n\n\n						\n							Add to calendar						 \n\n\n\n									\n										Google Calendar									\n								\n\n									\n										iCalendar									\n								\n\n									\n										Outlook 365									\n								\n\n									\n										Outlook Live
URL:https://dev.gruenetexas.com/event/the-georges-18/
CATEGORIES:Free Event
END:VEVENT
BEGIN:VEVENT
DTSTART;TZID=America/Chicago:20231010T180000
DTEND;TZID=America/Chicago:20231010T220000
DTSTAMP:20260419T215413
CREATED:20230915T091248Z
LAST-MODIFIED:20231010T115907Z
UID:10000739-1696960800-1696975200@dev.gruenetexas.com
SUMMARY:Austin Gilliam w/ Ruben V & Keith Davis
DESCRIPTION:| 			\n			\n							 \n\n\nSong-Swap
URL:https://dev.gruenetexas.com/event/austin-gilliam-friends-3/
CATEGORIES:Free Event
END:VEVENT
BEGIN:VEVENT
DTSTART;TZID=America/Chicago:20231009T180000
DTEND;TZID=America/Chicago:20231009T220000
DTSTAMP:20260419T215413
CREATED:20230728T093613Z
LAST-MODIFIED:20231009T114554Z
UID:10000658-1696874400-1696888800@dev.gruenetexas.com
SUMMARY:Bret Graham
DESCRIPTION:| 			\n			\n							 \n\n\nCountry
URL:https://dev.gruenetexas.com/event/bret-graham-16/
CATEGORIES:Free Event
END:VEVENT
BEGIN:VEVENT
DTSTART;TZID=America/Chicago:20231008T140000
DTEND;TZID=America/Chicago:20231008T220000
DTSTAMP:20260419T215413
CREATED:20230821T172714Z
LAST-MODIFIED:20231008T114324Z
UID:10000707-1696773600-1696802400@dev.gruenetexas.com
SUMMARY:The Sunday Songwriter Shindig
DESCRIPTION:| 			\n			\n							 \n\n\nDoors: 1pm | Kelly Willis\, Cody Canada\, Zane Williams (of The Wilder Blue)\, Jonathan Tyler\, Jamie Lin Wilson\, John Baumann\, Max & Heather Stalling\, Walt Wilkins\, Jacob Stelly\, Graycie York\, Pat Byrne & Taylor Rae
URL:https://dev.gruenetexas.com/event/the-sunday-songwriter-shindig/
CATEGORIES:Special Event,Ticketed Event
ATTACH;FMTTYPE=image/jpeg:https://dev.gruenetexas.com/wp-content/uploads/2023/08/Sunday-Songwriter-Shindig-q4fKnQ.tmp_.jpg
END:VEVENT
BEGIN:VEVENT
DTSTART;TZID=America/Chicago:20231007T210000
DTEND;TZID=America/Chicago:20231007T210000
DTSTAMP:20260419T215413
CREATED:20230816T123638Z
LAST-MODIFIED:20231007T114225Z
UID:10000701-1696712400-1696712400@dev.gruenetexas.com
SUMMARY:Kylie Frey & Tyler Halverson: Your Bar Now Tour
DESCRIPTION:| 			\n			\n							 \n\n\nNo Opener | Doors: 8pm
URL:https://dev.gruenetexas.com/event/kylie-frey-tyler-halverson-your-bar-now-tour/
CATEGORIES:Special Event,Ticketed Event
ATTACH;FMTTYPE=image/jpeg:https://dev.gruenetexas.com/wp-content/uploads/2023/08/Kylie-Frey-Tyler-Halverson-2-5cASUM.tmp_.jpg
END:VEVENT
BEGIN:VEVENT
DTSTART;TZID=America/Chicago:20231007T130000
DTEND;TZID=America/Chicago:20231007T170000
DTSTAMP:20260419T215413
CREATED:20230728T093613Z
LAST-MODIFIED:20231007T114225Z
UID:10000657-1696683600-1696698000@dev.gruenetexas.com
SUMMARY:Eric Demmer Band w/ Chris Duarte
DESCRIPTION:| 			\n			\n							 \n\n\nR&B
URL:https://dev.gruenetexas.com/event/eric-demmer-band-5/
CATEGORIES:Free Event
END:VEVENT
BEGIN:VEVENT
DTSTART;TZID=America/Chicago:20231007T130000
DTEND;TZID=America/Chicago:20231007T170000
DTSTAMP:20260419T215413
CREATED:20230725T083241Z
LAST-MODIFIED:20230725T083241Z
UID:10000651-1696683600-1696698000@dev.gruenetexas.com
SUMMARY:The Texas Horns
DESCRIPTION:| 			\n			\n							 \n\n\nR&B
URL:https://dev.gruenetexas.com/event/the-texas-horns-2/
CATEGORIES:Free Event
END:VEVENT
BEGIN:VEVENT
DTSTART;TZID=America/Chicago:20231006T213000
DTEND;TZID=America/Chicago:20231006T213000
DTSTAMP:20260419T215413
CREATED:20230821T172714Z
LAST-MODIFIED:20231006T113624Z
UID:10000706-1696627800-1696627800@dev.gruenetexas.com
SUMMARY:Dennis Quaid & The Sharks
DESCRIPTION:| 			\n			\n							 \n\n\nFull Band
URL:https://dev.gruenetexas.com/event/dennis-quaid-the-sharks/
CATEGORIES:Special Event,Ticketed Event
ATTACH;FMTTYPE=image/jpeg:https://dev.gruenetexas.com/wp-content/uploads/2023/09/Dennis-Quaid-SOLD-OUT-SUirtw.tmp_.jpg
END:VEVENT
BEGIN:VEVENT
DTSTART;TZID=America/Chicago:20231006T170000
DTEND;TZID=America/Chicago:20231006T170000
DTSTAMP:20260419T215413
CREATED:20230821T172714Z
LAST-MODIFIED:20231006T113624Z
UID:10000705-1696611600-1696611600@dev.gruenetexas.com
SUMMARY:Rockin’ with Texas Food & Wine
DESCRIPTION:| 			\n			\n							 \n\n\n\nDoors: 5pm | Featuring Dennis Quaid
URL:https://dev.gruenetexas.com/event/rockin-with-texas-food-wine/
CATEGORIES:Special Event,Ticketed Event
ATTACH;FMTTYPE=image/jpeg:https://dev.gruenetexas.com/wp-content/uploads/2023/09/Rockin-SOLD-OUT-bpILHs.tmp_.jpg
END:VEVENT
BEGIN:VEVENT
DTSTART;TZID=America/Chicago:20231006T160000
DTEND;TZID=America/Chicago:20231006T190000
DTSTAMP:20260419T215413
CREATED:20230304T121546Z
LAST-MODIFIED:20230918T092759Z
UID:10000390-1696608000-1696618800@dev.gruenetexas.com
SUMMARY:Friday Afternoon Club
DESCRIPTION:|
URL:https://dev.gruenetexas.com/event/friday-afternoon-club-33/
CATEGORIES:Free Event
END:VEVENT
BEGIN:VEVENT
DTSTART;TZID=America/Chicago:20231005T200000
DTEND;TZID=America/Chicago:20231005T200000
DTSTAMP:20260419T215413
CREATED:20230816T123637Z
LAST-MODIFIED:20231005T112818Z
UID:10000700-1696536000-1696536000@dev.gruenetexas.com
SUMMARY:Diamond Rio
DESCRIPTION:| 			\n			\n							 \n\n\nOpener: SmithField | Doors: 7pm
URL:https://dev.gruenetexas.com/event/diamond-rio/
CATEGORIES:Special Event,Ticketed Event
ATTACH;FMTTYPE=image/jpeg:https://dev.gruenetexas.com/wp-content/uploads/2023/08/Diamond-Rio-ZRIZrP.tmp_.jpg
END:VEVENT
BEGIN:VEVENT
DTSTART;TZID=America/Chicago:20231005T160000
DTEND;TZID=America/Chicago:20231005T190000
DTSTAMP:20260419T215413
CREATED:20230919T092850Z
LAST-MODIFIED:20231005T112818Z
UID:10000742-1696521600-1696532400@dev.gruenetexas.com
SUMMARY:Special Edition: Friday Afternoon Club
DESCRIPTION:|
URL:https://dev.gruenetexas.com/event/special-edition-friday-afternoon-club/
CATEGORIES:Free Event
END:VEVENT
BEGIN:VEVENT
DTSTART;TZID=America/Chicago:20231004T180000
DTEND;TZID=America/Chicago:20231004T220000
DTSTAMP:20260419T215413
CREATED:20230906T073810Z
LAST-MODIFIED:20231004T111729Z
UID:10000723-1696442400-1696456800@dev.gruenetexas.com
SUMMARY:Andi Holleman Trio
DESCRIPTION:| 			\n			\n							 \n\n\nAmericana
URL:https://dev.gruenetexas.com/event/andi-holleman-trio-7/
CATEGORIES:Free Event
END:VEVENT
BEGIN:VEVENT
DTSTART;TZID=America/Chicago:20231003T180000
DTEND;TZID=America/Chicago:20231003T220000
DTSTAMP:20260419T215413
CREATED:20230906T073810Z
LAST-MODIFIED:20231003T111656Z
UID:10000722-1696356000-1696370400@dev.gruenetexas.com
SUMMARY:Tony Taylor w/ Ryan Snipes & Scott Wiggins
DESCRIPTION:| 			\n			\n							 \n\n\nSong-Swap
URL:https://dev.gruenetexas.com/event/tony-taylor-friends/
CATEGORIES:Free Event
END:VEVENT
BEGIN:VEVENT
DTSTART;TZID=America/Chicago:20231002T180000
DTEND;TZID=America/Chicago:20231002T220000
DTSTAMP:20260419T215413
CREATED:20230728T093613Z
LAST-MODIFIED:20231002T105928Z
UID:10000656-1696269600-1696284000@dev.gruenetexas.com
SUMMARY:Bret Graham
DESCRIPTION:| 			\n			\n							 \n\n\nCountry
URL:https://dev.gruenetexas.com/event/bret-graham-15/
CATEGORIES:Free Event
END:VEVENT
BEGIN:VEVENT
DTSTART;TZID=America/Chicago:20231001T170000
DTEND;TZID=America/Chicago:20231001T210000
DTSTAMP:20260419T215413
CREATED:20230906T073810Z
LAST-MODIFIED:20231001T105752Z
UID:10000721-1696179600-1696194000@dev.gruenetexas.com
SUMMARY:Grouchy Like Riley
DESCRIPTION:| 			\n			\n							 \n\n\nFolk-Rock
URL:https://dev.gruenetexas.com/event/grouchy-like-riley/
CATEGORIES:Free Event
END:VEVENT
BEGIN:VEVENT
DTSTART;TZID=America/Chicago:20231001T123000
DTEND;TZID=America/Chicago:20231001T163000
DTSTAMP:20260419T215413
CREATED:20230627T183031Z
LAST-MODIFIED:20231001T105752Z
UID:10000620-1696163400-1696177800@dev.gruenetexas.com
SUMMARY:Fabrizio Poggi
DESCRIPTION:| 			\n			\n							 \n\n\nBlues
URL:https://dev.gruenetexas.com/event/fabrizio-poggi/
CATEGORIES:Free Event
END:VEVENT
BEGIN:VEVENT
DTSTART;TZID=America/Chicago:20230930T210000
DTEND;TZID=America/Chicago:20230930T210000
DTSTAMP:20260419T215413
CREATED:20230718T075831Z
LAST-MODIFIED:20230930T105949Z
UID:10000640-1696107600-1696107600@dev.gruenetexas.com
SUMMARY:Brandy Clark & Lori McKenna
DESCRIPTION:| 			\n			\n							 \n\n\nOpener: Brandon Ratcliff | Doors: 8pm
URL:https://dev.gruenetexas.com/event/brandy-clark-lori-mckenna/
CATEGORIES:Special Event,Ticketed Event
ATTACH;FMTTYPE=image/jpeg:https://dev.gruenetexas.com/wp-content/uploads/2023/07/Brandy-Clark-Lori-McKenna-NtJ5YR.tmp_.jpg
END:VEVENT
BEGIN:VEVENT
DTSTART;TZID=America/Chicago:20230930T130000
DTEND;TZID=America/Chicago:20230930T170000
DTSTAMP:20260419T215413
CREATED:20230627T183031Z
LAST-MODIFIED:20230930T105949Z
UID:10000619-1696078800-1696093200@dev.gruenetexas.com
SUMMARY:Flat Top Jones
DESCRIPTION:| 			\n			\n							 \n\n\nCountry
URL:https://dev.gruenetexas.com/event/flat-top-jones-9/
CATEGORIES:Free Event
END:VEVENT
BEGIN:VEVENT
DTSTART;TZID=America/Chicago:20230929T200000
DTEND;TZID=America/Chicago:20230929T200000
DTSTAMP:20260419T215413
CREATED:20230525T110431Z
LAST-MODIFIED:20230929T105625Z
UID:10000578-1696017600-1696017600@dev.gruenetexas.com
SUMMARY:Kaitlin Butts
DESCRIPTION:| 			\n			\n							 \n\n\nOpener: Ken Pomeroy | Doors: 7pm
URL:https://dev.gruenetexas.com/event/kaitlin-butts/
CATEGORIES:Special Event,Ticketed Event
ATTACH;FMTTYPE=image/jpeg:https://dev.gruenetexas.com/wp-content/uploads/2023/08/Kaitlin-Butts-SOLD-OUT-J0fkFr.tmp_.jpg
END:VEVENT
BEGIN:VEVENT
DTSTART;TZID=America/Chicago:20230929T160000
DTEND;TZID=America/Chicago:20230929T190000
DTSTAMP:20260419T215413
CREATED:20230304T121545Z
LAST-MODIFIED:20230929T105625Z
UID:10000388-1696003200-1696014000@dev.gruenetexas.com
SUMMARY:Friday Afternoon Club
DESCRIPTION:|
URL:https://dev.gruenetexas.com/event/friday-afternoon-club-32/
CATEGORIES:Free Event
END:VEVENT
BEGIN:VEVENT
DTSTART;TZID=America/Chicago:20230928T200000
DTEND;TZID=America/Chicago:20230928T200000
DTSTAMP:20260419T215413
CREATED:20230621T161141Z
LAST-MODIFIED:20230925T102853Z
UID:10000609-1695931200-1695931200@dev.gruenetexas.com
SUMMARY:The Bacon Brothers
DESCRIPTION:| 			\n			\n							 \n\n\nOpener: Cindy Alexander | Doors: 7pm
URL:https://dev.gruenetexas.com/event/the-bacon-brothers/
CATEGORIES:Special Event,Ticketed Event
ATTACH;FMTTYPE=image/jpeg:https://dev.gruenetexas.com/wp-content/uploads/2023/08/Bacon-Brothers-SOLD-OUT-Iix8AN.tmp_.jpg
END:VEVENT
BEGIN:VEVENT
DTSTART;TZID=America/Chicago:20230928T180000
DTEND;TZID=America/Chicago:20230928T220000
DTSTAMP:20260419T215413
CREATED:20230926T102704Z
LAST-MODIFIED:20230928T103647Z
UID:10000752-1695924000-1695938400@dev.gruenetexas.com
SUMMARY:Austin Gilliam Band
DESCRIPTION:| 			\n			\n							 \n\n\nAmericana-Rock
URL:https://dev.gruenetexas.com/event/austin-gilliam-band-4/
CATEGORIES:Free Event
END:VEVENT
BEGIN:VEVENT
DTSTART;TZID=America/Chicago:20230927T180000
DTEND;TZID=America/Chicago:20230927T220000
DTSTAMP:20260419T215413
CREATED:20230811T112932Z
LAST-MODIFIED:20230927T103000Z
UID:10000687-1695837600-1695852000@dev.gruenetexas.com
SUMMARY:The Georges
DESCRIPTION:| 			\n			\n							 \n\n\nRock-a-Billy \n\n		\n\n\n\n\n\n\n						\n							Add to calendar						 \n\n\n\n									\n										Google Calendar									\n								\n\n									\n										iCalendar									\n								\n\n									\n										Outlook 365									\n								\n\n									\n										Outlook Live
URL:https://dev.gruenetexas.com/event/the-georges-17/
CATEGORIES:Free Event
END:VEVENT
BEGIN:VEVENT
DTSTART;TZID=America/Chicago:20230926T180000
DTEND;TZID=America/Chicago:20230926T220000
DTSTAMP:20260419T215413
CREATED:20230607T135002Z
LAST-MODIFIED:20230926T102704Z
UID:10000600-1695751200-1695765600@dev.gruenetexas.com
SUMMARY:Austin Gilliam w/ Eric Middleton & Grant Ewing
DESCRIPTION:| 			\n			\n							 \n\n\nSong-Swap
URL:https://dev.gruenetexas.com/event/austin-gilliam-friends-2/
CATEGORIES:Free Event
END:VEVENT
BEGIN:VEVENT
DTSTART;TZID=America/Chicago:20230925T180000
DTEND;TZID=America/Chicago:20230925T220000
DTSTAMP:20260419T215413
CREATED:20230729T095037Z
LAST-MODIFIED:20230925T102853Z
UID:10000674-1695664800-1695679200@dev.gruenetexas.com
SUMMARY:Bret Graham
DESCRIPTION:| 			\n			\n							 \n\n\nCountry
URL:https://dev.gruenetexas.com/event/bret-graham-29/
CATEGORIES:Free Event
END:VEVENT
BEGIN:VEVENT
DTSTART;TZID=America/Chicago:20230924T170000
DTEND;TZID=America/Chicago:20230924T210000
DTSTAMP:20260419T215413
CREATED:20230721T081526Z
LAST-MODIFIED:20230924T102815Z
UID:10000647-1695574800-1695589200@dev.gruenetexas.com
SUMMARY:Matt Kirk & The Gueyfarers
DESCRIPTION:| 			\n			\n							 \n\n\nAmericana
URL:https://dev.gruenetexas.com/event/matt-kirk-the-gueyfarers-5/
CATEGORIES:Free Event
END:VEVENT
END:VCALENDAR