BEGIN:VCALENDAR
VERSION:2.0
PRODID:-//Gruene Historic District - ECPv6.0.10//NONSGML v1.0//EN
CALSCALE:GREGORIAN
METHOD:PUBLISH
X-ORIGINAL-URL:https://dev.gruenetexas.com
X-WR-CALDESC:Events for Gruene Historic District
REFRESH-INTERVAL;VALUE=DURATION:PT1H
X-Robots-Tag:noindex
X-PUBLISHED-TTL:PT1H
BEGIN:VTIMEZONE
TZID:America/Chicago
BEGIN:DAYLIGHT
TZOFFSETFROM:-0600
TZOFFSETTO:-0500
TZNAME:CDT
DTSTART:20230312T080000
END:DAYLIGHT
BEGIN:STANDARD
TZOFFSETFROM:-0500
TZOFFSETTO:-0600
TZNAME:CST
DTSTART:20231105T070000
END:STANDARD
END:VTIMEZONE
BEGIN:VEVENT
DTSTART;TZID=America/Chicago:20230724T180000
DTEND;TZID=America/Chicago:20230724T220000
DTSTAMP:20260421T224009
CREATED:20230527T120130Z
LAST-MODIFIED:20230724T083037Z
UID:10000583-1690221600-1690236000@dev.gruenetexas.com
SUMMARY:Bo Porter Trio
DESCRIPTION:| 			\n			\n							 \n\n\nCountry-Folk
URL:https://dev.gruenetexas.com/event/bo-porter-trio-2/
CATEGORIES:Free Event
END:VEVENT
BEGIN:VEVENT
DTSTART;TZID=America/Chicago:20230725T180000
DTEND;TZID=America/Chicago:20230725T190000
DTSTAMP:20260421T224009
CREATED:20230304T121541Z
LAST-MODIFIED:20230725T083230Z
UID:10000409-1690308000-1690311600@dev.gruenetexas.com
SUMMARY:Swing Dance Lessons
DESCRIPTION:| 			\n			\n							 \n\n\n$10 cover at the door \n\n		\n\n\n\n\n\n\n						\n							Add to calendar						 \n\n\n\n									\n										Google Calendar									\n								\n\n									\n										iCalendar									\n								\n\n									\n										Outlook 365									\n								\n\n									\n										Outlook Live
URL:https://dev.gruenetexas.com/event/swing-dance-lessons-10/
CATEGORIES:Special Event,Ticketed Event
END:VEVENT
BEGIN:VEVENT
DTSTART;TZID=America/Chicago:20230725T203000
DTEND;TZID=America/Chicago:20230725T203000
DTSTAMP:20260421T224009
CREATED:20230304T121541Z
LAST-MODIFIED:20230725T083230Z
UID:10000410-1690317000-1690317000@dev.gruenetexas.com
SUMMARY:Two Ton Tuesday
DESCRIPTION:| 			\n			\n							 \n\n\n$8 cover at the door \n\n		\n\n\n\n\n\n\n						\n							Add to calendar						 \n\n\n\n									\n										Google Calendar									\n								\n\n									\n										iCalendar									\n								\n\n									\n										Outlook 365									\n								\n\n									\n										Outlook Live
URL:https://dev.gruenetexas.com/event/two-ton-tuesday-8/
LOCATION:Gruene Hall\, 1281 Gruene Rd\, New Braunfels\, Texas\, 78130
CATEGORIES:Special Event,Ticketed Event
ATTACH;FMTTYPE=image/jpeg:https://dev.gruenetexas.com/wp-content/uploads/2023/03/TTT-1-Rbetxx.tmp_.jpg
END:VEVENT
BEGIN:VEVENT
DTSTART;TZID=America/Chicago:20230726T180000
DTEND;TZID=America/Chicago:20230726T220000
DTSTAMP:20260421T224009
CREATED:20230425T124733Z
LAST-MODIFIED:20230427T130755Z
UID:10000540-1690394400-1690408800@dev.gruenetexas.com
SUMMARY:The Georges
DESCRIPTION:| 			\n			\n							 \n\n\nRock-a-Billy
URL:https://dev.gruenetexas.com/event/the-georges-11/
CATEGORIES:Free Event
END:VEVENT
BEGIN:VEVENT
DTSTART;TZID=America/Chicago:20230726T200000
DTEND;TZID=America/Chicago:20230726T200000
DTSTAMP:20260421T224009
CREATED:20230501T140421Z
LAST-MODIFIED:20230726T084406Z
UID:10000554-1690401600-1690401600@dev.gruenetexas.com
SUMMARY:Roger Creager’s Birthday Show (Acoustic w/ special guests)
DESCRIPTION:| 			\n			\n							 \n\n\nAcoustic with Special Guests Trent Willmon & Thom Sheppard \nDoors: 7pm
URL:https://dev.gruenetexas.com/event/roger-creagers-birthday-show-acoustic-w-special-guests/
CATEGORIES:Special Event,Ticketed Event
ATTACH;FMTTYPE=image/jpeg:https://dev.gruenetexas.com/wp-content/uploads/2023/05/Roger-Creager-Ge6ls5.tmp_.jpg
END:VEVENT
BEGIN:VEVENT
DTSTART;TZID=America/Chicago:20230727T200000
DTEND;TZID=America/Chicago:20230727T200000
DTSTAMP:20260421T224009
CREATED:20230501T140421Z
LAST-MODIFIED:20230727T092247Z
UID:10000555-1690488000-1690488000@dev.gruenetexas.com
SUMMARY:Roger Creager’s Birthday Show (Full Band)
DESCRIPTION:| 			\n			\n							 \n\n\nOpener: Love & Chaos | Doors: 7pm
URL:https://dev.gruenetexas.com/event/roger-creagers-birthday-show-full-band/
CATEGORIES:Special Event,Ticketed Event
ATTACH;FMTTYPE=image/jpeg:https://dev.gruenetexas.com/wp-content/uploads/2023/05/Roger-Creager-Ge6ls5.tmp_.jpg
END:VEVENT
BEGIN:VEVENT
DTSTART;TZID=America/Chicago:20230728T160000
DTEND;TZID=America/Chicago:20230728T190000
DTSTAMP:20260421T224009
CREATED:20230304T121541Z
LAST-MODIFIED:20230728T093602Z
UID:10000411-1690560000-1690570800@dev.gruenetexas.com
SUMMARY:Friday Afternoon Club
DESCRIPTION:|
URL:https://dev.gruenetexas.com/event/friday-afternoon-club-23/
CATEGORIES:Free Event
END:VEVENT
BEGIN:VEVENT
DTSTART;TZID=America/Chicago:20230728T200000
DTEND;TZID=America/Chicago:20230728T200000
DTSTAMP:20260421T224009
CREATED:20230501T140422Z
LAST-MODIFIED:20230728T093603Z
UID:10000556-1690574400-1690574400@dev.gruenetexas.com
SUMMARY:Roger Creager’s Birthday Show (Full Band)
DESCRIPTION:| 			\n			\n							 \n\n\nOpener: Jordan Nix | Doors: 7pm
URL:https://dev.gruenetexas.com/event/roger-creagers-birthday-show-full-band-2/
CATEGORIES:Special Event,Ticketed Event
ATTACH;FMTTYPE=image/jpeg:https://dev.gruenetexas.com/wp-content/uploads/2023/07/Roger-Creager-SOLD-OUT-gocvjJ.tmp_.jpg
END:VEVENT
BEGIN:VEVENT
DTSTART;TZID=America/Chicago:20230729T123000
DTEND;TZID=America/Chicago:20230729T163000
DTSTAMP:20260421T224009
CREATED:20230511T164400Z
LAST-MODIFIED:20230729T095028Z
UID:10000571-1690633800-1690648200@dev.gruenetexas.com
SUMMARY:Flat Top Jones
DESCRIPTION:| 			\n			\n							 \n\n\nCountry
URL:https://dev.gruenetexas.com/event/flat-top-jones-8/
CATEGORIES:Free Event
END:VEVENT
BEGIN:VEVENT
DTSTART;TZID=America/Chicago:20230729T210000
DTEND;TZID=America/Chicago:20230729T210000
DTSTAMP:20260421T224009
CREATED:20230501T140422Z
LAST-MODIFIED:20230729T095028Z
UID:10000557-1690664400-1690664400@dev.gruenetexas.com
SUMMARY:Roger Creager’s Birthday Show (Full Band)
DESCRIPTION:| 			\n			\n							 \n\n\nOpener: Ray Johnston | Doors: 8pm
URL:https://dev.gruenetexas.com/event/roger-creagers-birthday-show-full-band-3/
CATEGORIES:Special Event,Ticketed Event
ATTACH;FMTTYPE=image/jpeg:https://dev.gruenetexas.com/wp-content/uploads/2023/07/Roger-Creager-SOLD-OUT-gocvjJ.tmp_.jpg
END:VEVENT
BEGIN:VEVENT
DTSTART;TZID=America/Chicago:20230730T123000
DTEND;TZID=America/Chicago:20230730T163000
DTSTAMP:20260421T224009
CREATED:20230511T164400Z
LAST-MODIFIED:20230729T095029Z
UID:10000572-1690720200-1690734600@dev.gruenetexas.com
SUMMARY:Slim Bawb & The Fabulous Stumpgrinders
DESCRIPTION:| 			\n			\n							 \n\n\nTexas-Swamp
URL:https://dev.gruenetexas.com/event/slim-bawb-the-fabulous-stumpgrinders-5/
CATEGORIES:Free Event
END:VEVENT
BEGIN:VEVENT
DTSTART;TZID=America/Chicago:20230730T170000
DTEND;TZID=America/Chicago:20230730T210000
DTSTAMP:20260421T224009
CREATED:20230607T134957Z
LAST-MODIFIED:20230729T095029Z
UID:10000594-1690736400-1690750800@dev.gruenetexas.com
SUMMARY:Bill Kirchen & Too Much Fun
DESCRIPTION:| 			\n			\n							 \n\n\nCountry-Rock
URL:https://dev.gruenetexas.com/event/bill-kirchen-too-much-fun-2/
CATEGORIES:Free Event
END:VEVENT
BEGIN:VEVENT
DTSTART;TZID=America/Chicago:20230731T180000
DTEND;TZID=America/Chicago:20230731T220000
DTSTAMP:20260421T224009
CREATED:20230607T134957Z
LAST-MODIFIED:20230729T095029Z
UID:10000595-1690826400-1690840800@dev.gruenetexas.com
SUMMARY:Josh Baca & The Hot Tamales
DESCRIPTION:| 			\n			\n							 \n\n\nTex-Mex/Cajun
URL:https://dev.gruenetexas.com/event/josh-baca-the-hot-tamales-3/
CATEGORIES:Free Event
END:VEVENT
BEGIN:VEVENT
DTSTART;TZID=America/Chicago:20230801T180000
DTEND;TZID=America/Chicago:20230801T190000
DTSTAMP:20260421T224009
CREATED:20230304T121542Z
LAST-MODIFIED:20230729T095029Z
UID:10000412-1690912800-1690916400@dev.gruenetexas.com
SUMMARY:Swing Dance Lessons
DESCRIPTION:| 			\n			\n							 \n\n\n$10 cover at the door \n\n		\n\n\n\n\n\n\n						\n							Add to calendar						 \n\n\n\n									\n										Google Calendar									\n								\n\n									\n										iCalendar									\n								\n\n									\n										Outlook 365									\n								\n\n									\n										Outlook Live
URL:https://dev.gruenetexas.com/event/swing-dance-lessons-11/
CATEGORIES:Special Event,Ticketed Event
END:VEVENT
BEGIN:VEVENT
DTSTART;TZID=America/Chicago:20230801T203000
DTEND;TZID=America/Chicago:20230801T203000
DTSTAMP:20260421T224009
CREATED:20230304T121542Z
LAST-MODIFIED:20230729T095029Z
UID:10000413-1690921800-1690921800@dev.gruenetexas.com
SUMMARY:Two Ton Tuesday
DESCRIPTION:| 			\n			\n							 \n\n\n$8 cover at the door \n\n		\n\n\n\n\n\n\n						\n							Add to calendar						 \n\n\n\n									\n										Google Calendar									\n								\n\n									\n										iCalendar									\n								\n\n									\n										Outlook 365									\n								\n\n									\n										Outlook Live
URL:https://dev.gruenetexas.com/event/two-ton-tuesday-9/
LOCATION:Gruene Hall\, 1281 Gruene Rd\, New Braunfels\, Texas\, 78130
CATEGORIES:Special Event,Ticketed Event
ATTACH;FMTTYPE=image/jpeg:https://dev.gruenetexas.com/wp-content/uploads/2023/03/TTT-1-Rbetxx.tmp_.jpg
END:VEVENT
BEGIN:VEVENT
DTSTART;TZID=America/Chicago:20230802T180000
DTEND;TZID=America/Chicago:20230802T220000
DTSTAMP:20260421T224009
CREATED:20230425T124733Z
LAST-MODIFIED:20230729T095029Z
UID:10000541-1690999200-1691013600@dev.gruenetexas.com
SUMMARY:The Georges
DESCRIPTION:| 			\n			\n							 \n\n\nRock-a-Billy
URL:https://dev.gruenetexas.com/event/the-georges-12/
CATEGORIES:Free Event
END:VEVENT
BEGIN:VEVENT
DTSTART;TZID=America/Chicago:20230803T180000
DTEND;TZID=America/Chicago:20230803T220000
DTSTAMP:20260421T224009
CREATED:20230411T105739Z
LAST-MODIFIED:20230803T104316Z
UID:10000514-1691085600-1691100000@dev.gruenetexas.com
SUMMARY:Lance Lipinsky & The Lovers
DESCRIPTION:| 			\n			\n							 \n\n\n50’s-60’s Show
URL:https://dev.gruenetexas.com/event/lance-lipinsky-the-lovers-2/
CATEGORIES:Free Event
END:VEVENT
BEGIN:VEVENT
DTSTART;TZID=America/Chicago:20230804T160000
DTEND;TZID=America/Chicago:20230804T190000
DTSTAMP:20260421T224009
CREATED:20230304T121542Z
LAST-MODIFIED:20230804T104227Z
UID:10000414-1691164800-1691175600@dev.gruenetexas.com
SUMMARY:Friday Afternoon Club
DESCRIPTION:|
URL:https://dev.gruenetexas.com/event/friday-afternoon-club-24/
CATEGORIES:Free Event
END:VEVENT
BEGIN:VEVENT
DTSTART;TZID=America/Chicago:20230804T200000
DTEND;TZID=America/Chicago:20230804T200000
DTSTAMP:20260421T224009
CREATED:20230508T154637Z
LAST-MODIFIED:20230804T104227Z
UID:10000563-1691179200-1691179200@dev.gruenetexas.com
SUMMARY:Them Dirty Roses
DESCRIPTION:| 			\n			\n							 \n\n\nOpener 1: Rhett Embry | Opener 2: The Droptines | Doors: 7pm
URL:https://dev.gruenetexas.com/event/them-dirty-roses/
CATEGORIES:Special Event,Ticketed Event
ATTACH;FMTTYPE=image/jpeg:https://dev.gruenetexas.com/wp-content/uploads/2023/05/Them-Dirty-Roses-resized-3MdqRL.tmp_.jpg
END:VEVENT
BEGIN:VEVENT
DTSTART;TZID=America/Chicago:20230805T130000
DTEND;TZID=America/Chicago:20230805T170000
DTSTAMP:20260421T224009
CREATED:20230712T065934Z
LAST-MODIFIED:20230805T104619Z
UID:10000635-1691240400-1691254800@dev.gruenetexas.com
SUMMARY:Eric Demmer Band
DESCRIPTION:| 			\n			\n							 \n\n\nR&B
URL:https://dev.gruenetexas.com/event/eric-demmer-band-4/
CATEGORIES:Free Event
END:VEVENT
BEGIN:VEVENT
DTSTART;TZID=America/Chicago:20230805T210000
DTEND;TZID=America/Chicago:20230805T210000
DTSTAMP:20260421T224009
CREATED:20230508T154637Z
LAST-MODIFIED:20230805T104620Z
UID:10000564-1691269200-1691269200@dev.gruenetexas.com
SUMMARY:Bob Schneider
DESCRIPTION:| 			\n			\n							 \n\n\nOpener: Braedon Barnhill | Doors: 8pm
URL:https://dev.gruenetexas.com/event/bob-schneider/
CATEGORIES:Special Event,Ticketed Event
ATTACH;FMTTYPE=image/jpeg:https://dev.gruenetexas.com/wp-content/uploads/2023/08/Bob-Schneider-x0IT4s.tmp_.jpg
END:VEVENT
BEGIN:VEVENT
DTSTART;TZID=America/Chicago:20230806T123000
DTEND;TZID=America/Chicago:20230806T163000
DTSTAMP:20260421T224009
CREATED:20230619T155821Z
LAST-MODIFIED:20230806T110038Z
UID:10000608-1691325000-1691339400@dev.gruenetexas.com
SUMMARY:Jordan Minor Band
DESCRIPTION:| 			\n			\n							 \n\n\nAmericana
URL:https://dev.gruenetexas.com/event/jordan-minor-band-3/
CATEGORIES:Free Event
END:VEVENT
BEGIN:VEVENT
DTSTART;TZID=America/Chicago:20230806T170000
DTEND;TZID=America/Chicago:20230806T210000
DTSTAMP:20260421T224009
CREATED:20230722T082125Z
LAST-MODIFIED:20230806T110038Z
UID:10000648-1691341200-1691355600@dev.gruenetexas.com
SUMMARY:Matt Kirk & The Gueyfarers
DESCRIPTION:| 			\n			\n							 \n\n\nAmericana
URL:https://dev.gruenetexas.com/event/matt-kirk-the-gueyfarers-6/
CATEGORIES:Free Event
END:VEVENT
BEGIN:VEVENT
DTSTART;TZID=America/Chicago:20230807T180000
DTEND;TZID=America/Chicago:20230807T220000
DTSTAMP:20260421T224009
CREATED:20230607T134958Z
LAST-MODIFIED:20230807T111430Z
UID:10000596-1691431200-1691445600@dev.gruenetexas.com
SUMMARY:Josh Baca & The Hot Tamales
DESCRIPTION:| 			\n			\n							 \n\n\nTex-Mex/Cajun
URL:https://dev.gruenetexas.com/event/josh-baca-the-hot-tamales-4/
CATEGORIES:Free Event
END:VEVENT
BEGIN:VEVENT
DTSTART;TZID=America/Chicago:20230808T180000
DTEND;TZID=America/Chicago:20230808T190000
DTSTAMP:20260421T224009
CREATED:20230304T121542Z
LAST-MODIFIED:20230808T111210Z
UID:10000415-1691517600-1691521200@dev.gruenetexas.com
SUMMARY:Swing Dance Lessons
DESCRIPTION:| 			\n			\n							 \n\n\n$10 cover at the door \n\n		\n\n\n\n\n\n\n						\n							Add to calendar						 \n\n\n\n									\n										Google Calendar									\n								\n\n									\n										iCalendar									\n								\n\n									\n										Outlook 365									\n								\n\n									\n										Outlook Live
URL:https://dev.gruenetexas.com/event/swing-dance-lessons-12/
CATEGORIES:Special Event,Ticketed Event
END:VEVENT
BEGIN:VEVENT
DTSTART;TZID=America/Chicago:20230808T203000
DTEND;TZID=America/Chicago:20230808T203000
DTSTAMP:20260421T224009
CREATED:20230304T121542Z
LAST-MODIFIED:20230808T111210Z
UID:10000416-1691526600-1691526600@dev.gruenetexas.com
SUMMARY:Two Ton Tuesday
DESCRIPTION:| 			\n			\n							 \n\n\n$8 cover at the door \n\n		\n\n\n\n\n\n\n						\n							Add to calendar						 \n\n\n\n									\n										Google Calendar									\n								\n\n									\n										iCalendar									\n								\n\n									\n										Outlook 365									\n								\n\n									\n										Outlook Live
URL:https://dev.gruenetexas.com/event/two-ton-tuesday-10/
LOCATION:Gruene Hall\, 1281 Gruene Rd\, New Braunfels\, Texas\, 78130
CATEGORIES:Special Event,Ticketed Event
ATTACH;FMTTYPE=image/jpeg:https://dev.gruenetexas.com/wp-content/uploads/2023/03/TTT-1-Rbetxx.tmp_.jpg
END:VEVENT
BEGIN:VEVENT
DTSTART;TZID=America/Chicago:20230809T180000
DTEND;TZID=America/Chicago:20230809T220000
DTSTAMP:20260421T224009
CREATED:20230627T183026Z
LAST-MODIFIED:20230809T111232Z
UID:10000615-1691604000-1691618400@dev.gruenetexas.com
SUMMARY:Alli Matice Band
DESCRIPTION:| 			\n			\n							 \n\n\nAmericana
URL:https://dev.gruenetexas.com/event/ali-matice-band/
CATEGORIES:Free Event
END:VEVENT
BEGIN:VEVENT
DTSTART;TZID=America/Chicago:20230810T180000
DTEND;TZID=America/Chicago:20230810T220000
DTSTAMP:20260421T224009
CREATED:20230722T082126Z
LAST-MODIFIED:20230810T111358Z
UID:10000649-1691690400-1691704800@dev.gruenetexas.com
SUMMARY:Adam Johnson Band
DESCRIPTION:| 			\n			\n							 \n\n\nBlues
URL:https://dev.gruenetexas.com/event/adam-johnson-band-2/
CATEGORIES:Free Event
END:VEVENT
BEGIN:VEVENT
DTSTART;TZID=America/Chicago:20230811T160000
DTEND;TZID=America/Chicago:20230811T190000
DTSTAMP:20260421T224009
CREATED:20230304T121543Z
LAST-MODIFIED:20230811T112923Z
UID:10000417-1691769600-1691780400@dev.gruenetexas.com
SUMMARY:Friday Afternoon Club
DESCRIPTION:|
URL:https://dev.gruenetexas.com/event/friday-afternoon-club-25/
CATEGORIES:Free Event
END:VEVENT
BEGIN:VEVENT
DTSTART;TZID=America/Chicago:20230811T200000
DTEND;TZID=America/Chicago:20230811T200000
DTSTAMP:20260421T224009
CREATED:20230626T181837Z
LAST-MODIFIED:20230811T112923Z
UID:10000611-1691784000-1691784000@dev.gruenetexas.com
SUMMARY:Braxton Keith
DESCRIPTION:| 			\n			\n							 \n\n\nOpener: Zach Meadows | Doors: 7pm
URL:https://dev.gruenetexas.com/event/braxton-keith/
CATEGORIES:Special Event,Ticketed Event
ATTACH;FMTTYPE=image/jpeg:https://dev.gruenetexas.com/wp-content/uploads/2023/08/Braxton-Keith-SOLD-OUT-BKBTll.tmp_.jpg
END:VEVENT
END:VCALENDAR