BEGIN:VCALENDAR
VERSION:2.0
PRODID:-//Gruene Historic District - ECPv6.0.10//NONSGML v1.0//EN
CALSCALE:GREGORIAN
METHOD:PUBLISH
X-WR-CALNAME:Gruene Historic District
X-ORIGINAL-URL:https://dev.gruenetexas.com
X-WR-CALDESC:Events for Gruene Historic District
REFRESH-INTERVAL;VALUE=DURATION:PT1H
X-Robots-Tag:noindex
X-PUBLISHED-TTL:PT1H
BEGIN:VTIMEZONE
TZID:America/Chicago
BEGIN:DAYLIGHT
TZOFFSETFROM:-0600
TZOFFSETTO:-0500
TZNAME:CDT
DTSTART:20230312T080000
END:DAYLIGHT
BEGIN:STANDARD
TZOFFSETFROM:-0500
TZOFFSETTO:-0600
TZNAME:CST
DTSTART:20231105T070000
END:STANDARD
END:VTIMEZONE
BEGIN:VEVENT
DTSTART;TZID=America/Chicago:20230622T200000
DTEND;TZID=America/Chicago:20230622T200000
DTSTAMP:20260422T013236
CREATED:20230304T121537Z
LAST-MODIFIED:20230622T170902Z
UID:10000386-1687464000-1687464000@dev.gruenetexas.com
SUMMARY:Reckless Kelly
DESCRIPTION:| 			\n			\n							 \n\n\nOpener: Muzzie Braun | Doors: 7pm
URL:https://dev.gruenetexas.com/event/reckless-kelly/
CATEGORIES:Special Event,Ticketed Event
ATTACH;FMTTYPE=image/jpeg:https://dev.gruenetexas.com/wp-content/uploads/2023/03/RecklessKelly-SOLD-OUT-Hfd2Tv.tmp_.jpg
END:VEVENT
BEGIN:VEVENT
DTSTART;TZID=America/Chicago:20230623T120000
DTEND;TZID=America/Chicago:20230623T140000
DTSTAMP:20260422T013236
CREATED:20230602T124004Z
LAST-MODIFIED:20230623T173845Z
UID:10000587-1687521600-1687528800@dev.gruenetexas.com
SUMMARY:Frank Schlather Day
DESCRIPTION:|
URL:https://dev.gruenetexas.com/event/frank-schlather-day/
CATEGORIES:Special Event
END:VEVENT
BEGIN:VEVENT
DTSTART;TZID=America/Chicago:20230623T160000
DTEND;TZID=America/Chicago:20230623T190000
DTSTAMP:20260422T013236
CREATED:20230304T121538Z
LAST-MODIFIED:20230623T173846Z
UID:10000387-1687536000-1687546800@dev.gruenetexas.com
SUMMARY:Friday Afternoon Club
DESCRIPTION:|
URL:https://dev.gruenetexas.com/event/friday-afternoon-club-18/
CATEGORIES:Free Event
END:VEVENT
BEGIN:VEVENT
DTSTART;TZID=America/Chicago:20230623T200000
DTEND;TZID=America/Chicago:20230623T200000
DTSTAMP:20260422T013236
CREATED:20230304T121538Z
LAST-MODIFIED:20230623T173846Z
UID:10000389-1687550400-1687550400@dev.gruenetexas.com
SUMMARY:Reckless Kelly
DESCRIPTION:| 			\n			\n							 \n\n\nOpener: Scattered & Shattered | Doors: 7pm
URL:https://dev.gruenetexas.com/event/reckless-kelly-2/
CATEGORIES:Special Event,Ticketed Event
ATTACH;FMTTYPE=image/jpeg:https://dev.gruenetexas.com/wp-content/uploads/2023/03/RecklessKelly-SOLD-OUT-Hfd2Tv.tmp_.jpg
END:VEVENT
BEGIN:VEVENT
DTSTART;TZID=America/Chicago:20230624T123000
DTEND;TZID=America/Chicago:20230624T163000
DTSTAMP:20260422T013236
CREATED:20230425T124728Z
LAST-MODIFIED:20230624T181146Z
UID:10000534-1687609800-1687624200@dev.gruenetexas.com
SUMMARY:Flat Top Jones
DESCRIPTION:| 			\n			\n							 \n\n\nCountry
URL:https://dev.gruenetexas.com/event/flat-top-jones-5/
CATEGORIES:Free Event
END:VEVENT
BEGIN:VEVENT
DTSTART;TZID=America/Chicago:20230624T210000
DTEND;TZID=America/Chicago:20230624T210000
DTSTAMP:20260422T013236
CREATED:20230304T121538Z
LAST-MODIFIED:20230624T181146Z
UID:10000391-1687640400-1687640400@dev.gruenetexas.com
SUMMARY:Reckless Kelly
DESCRIPTION:| 			\n			\n							 \n\n\nOpener: Kenny Feidler & The Cowboy Killers | Doors: 8pm
URL:https://dev.gruenetexas.com/event/reckless-kelly-3/
CATEGORIES:Special Event,Ticketed Event
ATTACH;FMTTYPE=image/jpeg:https://dev.gruenetexas.com/wp-content/uploads/2023/03/RecklessKelly-SOLD-OUT-Hfd2Tv.tmp_.jpg
END:VEVENT
BEGIN:VEVENT
DTSTART;TZID=America/Chicago:20230625T130000
DTEND;TZID=America/Chicago:20230625T170000
DTSTAMP:20260422T013236
CREATED:20230412T110951Z
LAST-MODIFIED:20230625T181517Z
UID:10000517-1687698000-1687712400@dev.gruenetexas.com
SUMMARY:Murali Coryell with Ernie Durawa & Chris Alcaraz
DESCRIPTION:| 			\n			\n							 \n\n\nBlues
URL:https://dev.gruenetexas.com/event/murali-coryell-with-ernie-durawa-chris-alcaraz/
CATEGORIES:Free Event
END:VEVENT
BEGIN:VEVENT
DTSTART;TZID=America/Chicago:20230625T200000
DTEND;TZID=America/Chicago:20230625T200000
DTSTAMP:20260422T013236
CREATED:20230304T121538Z
LAST-MODIFIED:20230625T181517Z
UID:10000393-1687723200-1687723200@dev.gruenetexas.com
SUMMARY:Reckless Kelly
DESCRIPTION:| 			\n			\n							 \n\n\nOpener: Muzzie Braun | Doors: 8pm
URL:https://dev.gruenetexas.com/event/reckless-kelly-4/
CATEGORIES:Special Event,Ticketed Event
ATTACH;FMTTYPE=image/jpeg:https://dev.gruenetexas.com/wp-content/uploads/2023/03/RecklessKelly-SOLD-OUT-Hfd2Tv.tmp_.jpg
END:VEVENT
BEGIN:VEVENT
DTSTART;TZID=America/Chicago:20230626T180000
DTEND;TZID=America/Chicago:20230626T220000
DTSTAMP:20260422T013236
CREATED:20230425T124729Z
LAST-MODIFIED:20230626T181827Z
UID:10000535-1687802400-1687816800@dev.gruenetexas.com
SUMMARY:Bret Graham Band
DESCRIPTION:| 			\n			\n							 \n\n\nCountry
URL:https://dev.gruenetexas.com/event/bret-graham-band-10/
CATEGORIES:Free Event
END:VEVENT
BEGIN:VEVENT
DTSTART;TZID=America/Chicago:20230627T180000
DTEND;TZID=America/Chicago:20230627T190000
DTSTAMP:20260422T013236
CREATED:20230304T121539Z
LAST-MODIFIED:20230627T183017Z
UID:10000394-1687888800-1687892400@dev.gruenetexas.com
SUMMARY:Swing Dance Lessons
DESCRIPTION:| 			\n			\n							 \n\n\n$10 cover at the door \n\n		\n\n\n\n\n\n\n						\n							Add to calendar						 \n\n\n\n									\n										Google Calendar									\n								\n\n									\n										iCalendar									\n								\n\n									\n										Outlook 365									\n								\n\n									\n										Outlook Live
URL:https://dev.gruenetexas.com/event/swing-dance-lessons-6/
CATEGORIES:Special Event,Ticketed Event
END:VEVENT
BEGIN:VEVENT
DTSTART;TZID=America/Chicago:20230627T203000
DTEND;TZID=America/Chicago:20230627T203000
DTSTAMP:20260422T013236
CREATED:20230304T121539Z
LAST-MODIFIED:20230627T183017Z
UID:10000397-1687897800-1687897800@dev.gruenetexas.com
SUMMARY:Two Ton Tuesday
DESCRIPTION:| 			\n			\n							 \n\n\n$8 cover at the door \n\n		\n\n\n\n\n\n\n						\n							Add to calendar						 \n\n\n\n									\n										Google Calendar									\n								\n\n									\n										iCalendar									\n								\n\n									\n										Outlook 365									\n								\n\n									\n										Outlook Live
URL:https://dev.gruenetexas.com/event/two-ton-tuesday-4/
LOCATION:Gruene Hall\, 1281 Gruene Rd\, New Braunfels\, Texas\, 78130
CATEGORIES:Special Event,Ticketed Event
ATTACH;FMTTYPE=image/jpeg:https://dev.gruenetexas.com/wp-content/uploads/2023/03/TTT-1-Rbetxx.tmp_.jpg
END:VEVENT
BEGIN:VEVENT
DTSTART;TZID=America/Chicago:20230628T180000
DTEND;TZID=America/Chicago:20230628T220000
DTSTAMP:20260422T013236
CREATED:20230425T124729Z
LAST-MODIFIED:20230628T184402Z
UID:10000536-1687975200-1687989600@dev.gruenetexas.com
SUMMARY:The Georges
DESCRIPTION:| 			\n			\n							 \n\n\nRock-a-Billy
URL:https://dev.gruenetexas.com/event/the-georges-9/
CATEGORIES:Free Event
END:VEVENT
BEGIN:VEVENT
DTSTART;TZID=America/Chicago:20230629T180000
DTEND;TZID=America/Chicago:20230629T220000
DTSTAMP:20260422T013236
CREATED:20230510T162021Z
LAST-MODIFIED:20230629T190557Z
UID:10000569-1688061600-1688076000@dev.gruenetexas.com
SUMMARY:Anthony Wright Band
DESCRIPTION:| 			\n			\n							 \n\n\nBlues-Rock
URL:https://dev.gruenetexas.com/event/anthony-wright-band-2/
CATEGORIES:Free Event
END:VEVENT
BEGIN:VEVENT
DTSTART;TZID=America/Chicago:20230630T160000
DTEND;TZID=America/Chicago:20230630T190000
DTSTAMP:20260422T013236
CREATED:20230304T121539Z
LAST-MODIFIED:20230629T190557Z
UID:10000398-1688140800-1688151600@dev.gruenetexas.com
SUMMARY:Friday Afternoon Club
DESCRIPTION:|
URL:https://dev.gruenetexas.com/event/friday-afternoon-club-19/
CATEGORIES:Free Event
END:VEVENT
BEGIN:VEVENT
DTSTART;TZID=America/Chicago:20230630T200000
DTEND;TZID=America/Chicago:20230630T200000
DTSTAMP:20260422T013236
CREATED:20230304T121539Z
LAST-MODIFIED:20230629T190557Z
UID:10000399-1688155200-1688155200@dev.gruenetexas.com
SUMMARY:Muscadine Bloodline: Me On You Tour
DESCRIPTION:| 			\n			\n							 \n\n\nOpener: Nate Fredrick and The Wholesome Boys | Doors: 7pm
URL:https://dev.gruenetexas.com/event/muscadine-bloodline-me-on-you-tour/
CATEGORIES:Special Event,Ticketed Event
ATTACH;FMTTYPE=image/jpeg:https://dev.gruenetexas.com/wp-content/uploads/2023/03/MuscadineBloodline-SOLD-OUT-MR6JJo.tmp_.jpg
END:VEVENT
BEGIN:VEVENT
DTSTART;TZID=America/Chicago:20230701T130000
DTEND;TZID=America/Chicago:20230701T170000
DTSTAMP:20260422T013236
CREATED:20230411T105736Z
LAST-MODIFIED:20230701T194420Z
UID:10000510-1688216400-1688230800@dev.gruenetexas.com
SUMMARY:Jake Penrod Band
DESCRIPTION:| 			\n			\n							 \n\n\nCountry
URL:https://dev.gruenetexas.com/event/jake-penrod-band-3/
CATEGORIES:Free Event
END:VEVENT
BEGIN:VEVENT
DTSTART;TZID=America/Chicago:20230701T210000
DTEND;TZID=America/Chicago:20230701T210000
DTSTAMP:20260422T013236
CREATED:20230328T074928Z
LAST-MODIFIED:20230701T194420Z
UID:10000476-1688245200-1688245200@dev.gruenetexas.com
SUMMARY:Mike & The Moonpies
DESCRIPTION:| 			\n			\n							 \n\n\nOpener: Cotton Clifton | Doors: 8pm
URL:https://dev.gruenetexas.com/event/mike-the-moonpies/
CATEGORIES:Special Event,Ticketed Event
ATTACH;FMTTYPE=image/jpeg:https://dev.gruenetexas.com/wp-content/uploads/2023/06/Mike-The-Moonpies-SOLD-OUT-vI8K18.tmp_.jpg
END:VEVENT
BEGIN:VEVENT
DTSTART;TZID=America/Chicago:20230702T130000
DTEND;TZID=America/Chicago:20230702T170000
DTSTAMP:20260422T013236
CREATED:20230425T124730Z
LAST-MODIFIED:20230702T194542Z
UID:10000537-1688302800-1688317200@dev.gruenetexas.com
SUMMARY:Malford Milligan Acoustic Band
DESCRIPTION:| 			\n			\n							 \n\n\nR&B
URL:https://dev.gruenetexas.com/event/malford-milligan-acoustic-band/
CATEGORIES:Free Event
END:VEVENT
BEGIN:VEVENT
DTSTART;TZID=America/Chicago:20230702T200000
DTEND;TZID=America/Chicago:20230702T200000
DTSTAMP:20260422T013236
CREATED:20230328T074928Z
LAST-MODIFIED:20230702T194542Z
UID:10000477-1688328000-1688328000@dev.gruenetexas.com
SUMMARY:Dale Watson & His Lone Stars
DESCRIPTION:| 			\n			\n							 \n\n\nDoors: 7pm
URL:https://dev.gruenetexas.com/event/dale-watson-his-lone-stars/
CATEGORIES:Special Event,Ticketed Event
ATTACH;FMTTYPE=image/jpeg:https://dev.gruenetexas.com/wp-content/uploads/2023/03/DaleWatson-Egp81f.tmp_.jpg
END:VEVENT
BEGIN:VEVENT
DTSTART;TZID=America/Chicago:20230703T130000
DTEND;TZID=America/Chicago:20230703T170000
DTSTAMP:20260422T013236
CREATED:20230601T123042Z
LAST-MODIFIED:20230702T194542Z
UID:10000585-1688389200-1688403600@dev.gruenetexas.com
SUMMARY:Eric Demmer Band
DESCRIPTION:| 			\n			\n							 \n\n\nR&B
URL:https://dev.gruenetexas.com/event/eric-demmer-band-3/
CATEGORIES:Free Event
END:VEVENT
BEGIN:VEVENT
DTSTART;TZID=America/Chicago:20230703T200000
DTEND;TZID=America/Chicago:20230703T200000
DTSTAMP:20260422T013236
CREATED:20230525T110422Z
LAST-MODIFIED:20230702T194542Z
UID:10000576-1688414400-1688414400@dev.gruenetexas.com
SUMMARY:The Wilder Blue
DESCRIPTION:| 			\n			\n							 \n\n\nOpener: Isaac Hoskins | Doors: 7pm
URL:https://dev.gruenetexas.com/event/the-wilder-blue/
CATEGORIES:Special Event,Ticketed Event
ATTACH;FMTTYPE=image/jpeg:https://dev.gruenetexas.com/wp-content/uploads/2023/05/The-Wilder-Blue-HHJMRP.tmp_.jpg
END:VEVENT
BEGIN:VEVENT
DTSTART;TZID=America/Chicago:20230704T130000
DTEND;TZID=America/Chicago:20230704T170000
DTSTAMP:20260422T013236
CREATED:20230406T095736Z
LAST-MODIFIED:20230704T210139Z
UID:10000506-1688475600-1688490000@dev.gruenetexas.com
SUMMARY:Matt Kirk & The Gueyfarers
DESCRIPTION:| 			\n			\n							 \n\n\nAmericana
URL:https://dev.gruenetexas.com/event/matt-kirk-the-gueyfarers-4/
CATEGORIES:Free Event
END:VEVENT
BEGIN:VEVENT
DTSTART;TZID=America/Chicago:20230704T180000
DTEND;TZID=America/Chicago:20230704T190000
DTSTAMP:20260422T013236
CREATED:20230304T121539Z
LAST-MODIFIED:20230704T210140Z
UID:10000400-1688493600-1688497200@dev.gruenetexas.com
SUMMARY:Swing Dance Lessons
DESCRIPTION:| 			\n			\n							 \n\n\n$10 cover at the door \n\n		\n\n\n\n\n\n\n						\n							Add to calendar						 \n\n\n\n									\n										Google Calendar									\n								\n\n									\n										iCalendar									\n								\n\n									\n										Outlook 365									\n								\n\n									\n										Outlook Live
URL:https://dev.gruenetexas.com/event/swing-dance-lessons-7/
CATEGORIES:Special Event,Ticketed Event
END:VEVENT
BEGIN:VEVENT
DTSTART;TZID=America/Chicago:20230704T203000
DTEND;TZID=America/Chicago:20230704T203000
DTSTAMP:20260422T013236
CREATED:20230304T121540Z
LAST-MODIFIED:20230704T210140Z
UID:10000401-1688502600-1688502600@dev.gruenetexas.com
SUMMARY:Two Ton Tuesday
DESCRIPTION:| 			\n			\n							 \n\n\n$8 cover at the door \n\n		\n\n\n\n\n\n\n						\n							Add to calendar						 \n\n\n\n									\n										Google Calendar									\n								\n\n									\n										iCalendar									\n								\n\n									\n										Outlook 365									\n								\n\n									\n										Outlook Live
URL:https://dev.gruenetexas.com/event/two-ton-tuesday-5/
LOCATION:Gruene Hall\, 1281 Gruene Rd\, New Braunfels\, Texas\, 78130
CATEGORIES:Special Event,Ticketed Event
ATTACH;FMTTYPE=image/jpeg:https://dev.gruenetexas.com/wp-content/uploads/2023/03/TTT-1-Rbetxx.tmp_.jpg
END:VEVENT
BEGIN:VEVENT
DTSTART;TZID=America/Chicago:20230705T120000
DTEND;TZID=America/Chicago:20230705T160000
DTSTAMP:20260422T013236
CREATED:20230527T120127Z
LAST-MODIFIED:20230705T210635Z
UID:10000579-1688558400-1688572800@dev.gruenetexas.com
SUMMARY:Slim Bawb & The Fabulous Stumpgrinders
DESCRIPTION:| 			\n			\n							 \n\n\nTexas Swamp
URL:https://dev.gruenetexas.com/event/slim-bawb-the-fabulous-stumpgrinders-6/
CATEGORIES:Free Event
END:VEVENT
BEGIN:VEVENT
DTSTART;TZID=America/Chicago:20230705T180000
DTEND;TZID=America/Chicago:20230705T220000
DTSTAMP:20260422T013236
CREATED:20230506T151337Z
LAST-MODIFIED:20230704T210140Z
UID:10000561-1688580000-1688594400@dev.gruenetexas.com
SUMMARY:The Georges
DESCRIPTION:| 			\n			\n							 \n\n\nRock-a-billy
URL:https://dev.gruenetexas.com/event/the-georges-14/
CATEGORIES:Free Event
END:VEVENT
BEGIN:VEVENT
DTSTART;TZID=America/Chicago:20230705T180000
DTEND;TZID=America/Chicago:20230705T220000
DTSTAMP:20260422T013236
CREATED:20230705T210635Z
LAST-MODIFIED:20230705T210635Z
UID:10000629-1688580000-1688594400@dev.gruenetexas.com
SUMMARY:Bret Graham Trio
DESCRIPTION:| 			\n			\n							 \n\n\nCountry
URL:https://dev.gruenetexas.com/event/bret-graham-trio/
CATEGORIES:Free Event
END:VEVENT
BEGIN:VEVENT
DTSTART;TZID=America/Chicago:20230706T120000
DTEND;TZID=America/Chicago:20230706T160000
DTSTAMP:20260422T013236
CREATED:20230527T120127Z
LAST-MODIFIED:20230706T212736Z
UID:10000580-1688644800-1688659200@dev.gruenetexas.com
SUMMARY:Bo Porter Trio
DESCRIPTION:| 			\n			\n							 \n\n\nCountry
URL:https://dev.gruenetexas.com/event/bo-porter-trio/
CATEGORIES:Free Event
END:VEVENT
BEGIN:VEVENT
DTSTART;TZID=America/Chicago:20230706T180000
DTEND;TZID=America/Chicago:20230706T220000
DTSTAMP:20260422T013236
CREATED:20230411T105737Z
LAST-MODIFIED:20230706T212736Z
UID:10000511-1688666400-1688680800@dev.gruenetexas.com
SUMMARY:Lance Lipinsky & The Lovers
DESCRIPTION:| 			\n			\n							 \n\n\n50’s-60’s Show
URL:https://dev.gruenetexas.com/event/lance-lipinsky-the-lovers/
CATEGORIES:Free Event
END:VEVENT
BEGIN:VEVENT
DTSTART;TZID=America/Chicago:20230707T130000
DTEND;TZID=America/Chicago:20230707T170000
DTSTAMP:20260422T013236
CREATED:20230614T151316Z
LAST-MODIFIED:20230707T214522Z
UID:10000605-1688734800-1688749200@dev.gruenetexas.com
SUMMARY:Adam Johnson
DESCRIPTION:| 			\n			\n							 \n\n\nBlues
URL:https://dev.gruenetexas.com/event/adam-johnson/
CATEGORIES:Free Event
END:VEVENT
END:VCALENDAR