BEGIN:VCALENDAR
VERSION:2.0
PRODID:-//Gruene Historic District - ECPv6.0.10//NONSGML v1.0//EN
CALSCALE:GREGORIAN
METHOD:PUBLISH
X-WR-CALNAME:Gruene Historic District
X-ORIGINAL-URL:https://dev.gruenetexas.com
X-WR-CALDESC:Events for Gruene Historic District
REFRESH-INTERVAL;VALUE=DURATION:PT1H
X-Robots-Tag:noindex
X-PUBLISHED-TTL:PT1H
BEGIN:VTIMEZONE
TZID:America/Chicago
BEGIN:DAYLIGHT
TZOFFSETFROM:-0600
TZOFFSETTO:-0500
TZNAME:CDT
DTSTART:20230312T080000
END:DAYLIGHT
BEGIN:STANDARD
TZOFFSETFROM:-0500
TZOFFSETTO:-0600
TZNAME:CST
DTSTART:20231105T070000
END:STANDARD
TZID:UTC
BEGIN:STANDARD
TZOFFSETFROM:+0000
TZOFFSETTO:+0000
TZNAME:UTC
DTSTART:20230101T000000
END:STANDARD
END:VTIMEZONE
BEGIN:VEVENT
DTSTART;TZID=America/Chicago:20230227T180000
DTEND;TZID=America/Chicago:20230227T220000
DTSTAMP:20260422T112138
CREATED:20230224T160842Z
LAST-MODIFIED:20230224T160842Z
UID:10000273-1677520800-1677535200@dev.gruenetexas.com
SUMMARY:Bret Graham
DESCRIPTION:| 			\n			\n							 \n\n\nCountry \n\n		\n\n\n\n\n\n\n						\n  \n  \n\n						\n							Add to calendar						\n						\n					\n\n\n\n									\n										Google Calendar									\n								\n\n									\n										iCalendar									\n								\n\n									\n										Outlook 365									\n								\n\n									\n										Outlook Live
URL:https://dev.gruenetexas.com/event/bret-graham/
END:VEVENT
BEGIN:VEVENT
DTSTART;TZID=America/Chicago:20230228T180000
DTEND;TZID=America/Chicago:20230228T220000
DTSTAMP:20260422T112138
CREATED:20230224T160842Z
LAST-MODIFIED:20230228T003421Z
UID:10000274-1677607200-1677621600@dev.gruenetexas.com
SUMMARY:Timber Wilde
DESCRIPTION:| 			\n			\n							 \n\n\nAmericana \n\n		\n\n\n\n\n\n\n						\n							Add to calendar						 \n\n\n\n									\n										Google Calendar									\n								\n\n									\n										iCalendar									\n								\n\n									\n										Outlook 365									\n								\n\n									\n										Outlook Live
URL:https://dev.gruenetexas.com/event/timber-wilde/
END:VEVENT
BEGIN:VEVENT
DTSTART;TZID=America/Chicago:20230301T180000
DTEND;TZID=America/Chicago:20230301T220000
DTSTAMP:20260422T112138
CREATED:20230224T160842Z
LAST-MODIFIED:20230301T004540Z
UID:10000275-1677693600-1677708000@dev.gruenetexas.com
SUMMARY:Chris Ruest Band
DESCRIPTION:| 			\n			\n							 \n\n\nBlues \n\n		\n\n\n\n\n\n\n						\n							Add to calendar						 \n\n\n\n									\n										Google Calendar									\n								\n\n									\n										iCalendar									\n								\n\n									\n										Outlook 365									\n								\n\n									\n										Outlook Live
URL:https://dev.gruenetexas.com/event/chris-ruest-band/
END:VEVENT
BEGIN:VEVENT
DTSTART;TZID=America/Chicago:20230302T180000
DTEND;TZID=America/Chicago:20230302T220000
DTSTAMP:20260422T112138
CREATED:20230224T160842Z
LAST-MODIFIED:20230301T004540Z
UID:10000276-1677780000-1677794400@dev.gruenetexas.com
SUMMARY:Jake Penrod Band
DESCRIPTION:| 			\n			\n							 \n\n\nCountry \n\n		\n\n\n\n\n\n\n						\n							Add to calendar						 \n\n\n\n									\n										Google Calendar									\n								\n\n									\n										iCalendar									\n								\n\n									\n										Outlook 365									\n								\n\n									\n										Outlook Live
URL:https://dev.gruenetexas.com/event/jake-penrod-band/
END:VEVENT
BEGIN:VEVENT
DTSTART;TZID=America/Chicago:20230303T160000
DTEND;TZID=America/Chicago:20230303T190000
DTSTAMP:20260422T112138
CREATED:20230224T160842Z
LAST-MODIFIED:20230303T151800Z
UID:10000277-1677859200-1677870000@dev.gruenetexas.com
SUMMARY:Friday Afternoon Club
DESCRIPTION:| 			\n			\n							 \n\n\n\n		\n\n\n\n\n\n\n						\n							Add to calendar						 \n\n\n\n									\n										Google Calendar									\n								\n\n									\n										iCalendar									\n								\n\n									\n										Outlook 365									\n								\n\n									\n										Outlook Live
URL:https://dev.gruenetexas.com/event/friday-afternoon-club-2/
END:VEVENT
BEGIN:VEVENT
DTSTART;TZID=America/Chicago:20230303T200000
DTEND;TZID=America/Chicago:20230303T200000
DTSTAMP:20260422T112138
CREATED:20230224T160842Z
LAST-MODIFIED:20230303T151800Z
UID:10000278-1677873600-1677873600@dev.gruenetexas.com
SUMMARY:Los TexManiacs featuring Flaco Jimenez & Augie Meyers
DESCRIPTION:| 			\n			\n							 \n\n\nOpener: Garrett T. Capps | Doors: 7pm \n\n		\n\n\n\n\n\n\n						\n							Add to calendar						 \n\n\n\n									\n										Google Calendar									\n								\n\n									\n										iCalendar									\n								\n\n									\n										Outlook 365									\n								\n\n									\n										Outlook Live
URL:https://dev.gruenetexas.com/event/los-texmaniacs-featuring-flaco-jimenez-augie-meyers/
ATTACH;FMTTYPE=image/jpeg:https://dev.gruenetexas.com/wp-content/uploads/2023/02/LosTexManiacs-SOLD-OUT-canEdE.tmp_.jpg
END:VEVENT
BEGIN:VEVENT
DTSTART;VALUE=DATE:20230304
DTEND;VALUE=DATE:20230305
DTSTAMP:20260422T112138
CREATED:20230215T174329Z
LAST-MODIFIED:20230310T201552Z
UID:10000001-1677888000-1677974399@dev.gruenetexas.com
SUMMARY:Kinderschuhe 5K Run & Walk
DESCRIPTION:All proceeds help Communities In Schools purchase shoes for low-income school children. Open to all ages. For more information or to register for the race\, call (830) 629-8454 or visit NBU5k.com.
URL:https://dev.gruenetexas.com/event/kinderschuhe-5k-run-walk/
END:VEVENT
BEGIN:VEVENT
DTSTART;TZID=America/Chicago:20230304T130000
DTEND;TZID=America/Chicago:20230304T170000
DTSTAMP:20260422T112138
CREATED:20230224T160843Z
LAST-MODIFIED:20230301T004540Z
UID:10000279-1677934800-1677949200@dev.gruenetexas.com
SUMMARY:Bill Kirchen & Too Much Fun
DESCRIPTION:| 			\n			\n							 \n\n\nRock-a-Billy/Country \n\n		\n\n\n\n\n\n\n						\n							Add to calendar						 \n\n\n\n									\n										Google Calendar									\n								\n\n									\n										iCalendar									\n								\n\n									\n										Outlook 365									\n								\n\n									\n										Outlook Live
URL:https://dev.gruenetexas.com/event/bill-kirchen-too-much-fun/
END:VEVENT
BEGIN:VEVENT
DTSTART;TZID=America/Chicago:20230304T130000
DTEND;TZID=America/Chicago:20230304T170000
DTSTAMP:20260422T112138
CREATED:20230303T151752Z
LAST-MODIFIED:20230304T121524Z
UID:10000368-1677934800-1677949200@dev.gruenetexas.com
SUMMARY:Chris Ruest Band
DESCRIPTION:| 			\n			\n							 \n\n\n\n		\n\n\n\n\n\n\n						\n							Add to calendar						 \n\n\n\n									\n										Google Calendar									\n								\n\n									\n										iCalendar									\n								\n\n									\n										Outlook 365									\n								\n\n									\n										Outlook Live
URL:https://dev.gruenetexas.com/event/chris-ruest-band-2/
END:VEVENT
BEGIN:VEVENT
DTSTART;TZID=America/Chicago:20230304T210000
DTEND;TZID=America/Chicago:20230304T210000
DTSTAMP:20260422T112138
CREATED:20230224T160843Z
LAST-MODIFIED:20230304T121524Z
UID:10000280-1677963600-1677963600@dev.gruenetexas.com
SUMMARY:Micky & The Motorcars
DESCRIPTION:| 			\n			\n							 \n\n\nOpener: Jeff Crosby | Doors: 8pm \n\n		\n\n\n\n\n\n\n						\n							Add to calendar						 \n\n\n\n									\n										Google Calendar									\n								\n\n									\n										iCalendar									\n								\n\n									\n										Outlook 365									\n								\n\n									\n										Outlook Live
URL:https://dev.gruenetexas.com/event/micky-the-motorcars/
ATTACH;FMTTYPE=image/jpeg:https://dev.gruenetexas.com/wp-content/uploads/2023/02/MickyTheMotorcars-MHf9Zh.tmp_.jpg
END:VEVENT
BEGIN:VEVENT
DTSTART;TZID=America/Chicago:20230305T120000
DTEND;TZID=America/Chicago:20230305T153000
DTSTAMP:20260422T112138
CREATED:20230224T160843Z
LAST-MODIFIED:20230305T123009Z
UID:10000281-1678017600-1678030200@dev.gruenetexas.com
SUMMARY:South Austin Moonlighters
DESCRIPTION:| 			\n			\n							 \n\n\nAmericana \n\n		\n\n\n\n\n\n\n						\n							Add to calendar						 \n\n\n\n									\n										Google Calendar									\n								\n\n									\n										iCalendar									\n								\n\n									\n										Outlook 365									\n								\n\n									\n										Outlook Live
URL:https://dev.gruenetexas.com/event/south-austin-moonlighters/
END:VEVENT
BEGIN:VEVENT
DTSTART;TZID=America/Chicago:20230305T160000
DTEND;TZID=America/Chicago:20230305T200000
DTSTAMP:20260422T112138
CREATED:20230224T160843Z
LAST-MODIFIED:20230305T123010Z
UID:10000282-1678032000-1678046400@dev.gruenetexas.com
SUMMARY:John Arthur Martinez (CD Release)
DESCRIPTION:| 			\n			\n							 \n\n\nTexas Country \n\n		\n\n\n\n\n\n\n						\n							Add to calendar						 \n\n\n\n									\n										Google Calendar									\n								\n\n									\n										iCalendar									\n								\n\n									\n										Outlook 365									\n								\n\n									\n										Outlook Live
URL:https://dev.gruenetexas.com/event/john-arthur-martinez-cd-release/
END:VEVENT
BEGIN:VEVENT
DTSTART;TZID=America/Chicago:20230306T180000
DTEND;TZID=America/Chicago:20230306T220000
DTSTAMP:20260422T112138
CREATED:20230224T160843Z
LAST-MODIFIED:20230306T130449Z
UID:10000283-1678125600-1678140000@dev.gruenetexas.com
SUMMARY:Bret Graham
DESCRIPTION:| 			\n			\n							 \n\n\nCountry \n\n		\n\n\n\n\n\n\n						\n							Add to calendar						 \n\n\n\n									\n										Google Calendar									\n								\n\n									\n										iCalendar									\n								\n\n									\n										Outlook 365									\n								\n\n									\n										Outlook Live
URL:https://dev.gruenetexas.com/event/bret-graham-2/
END:VEVENT
BEGIN:VEVENT
DTSTART;TZID=America/Chicago:20230307T180000
DTEND;TZID=America/Chicago:20230307T220000
DTSTAMP:20260422T112138
CREATED:20230224T160843Z
LAST-MODIFIED:20230306T130449Z
UID:10000284-1678212000-1678226400@dev.gruenetexas.com
SUMMARY:Josh & Lucas Taylor & Friends
DESCRIPTION:| 			\n			\n							 \n\n\nSong Swap \n\n		\n\n\n\n\n\n\n						\n							Add to calendar						 \n\n\n\n									\n										Google Calendar									\n								\n\n									\n										iCalendar									\n								\n\n									\n										Outlook 365									\n								\n\n									\n										Outlook Live
URL:https://dev.gruenetexas.com/event/josh-lucas-taylor-friends/
END:VEVENT
BEGIN:VEVENT
DTSTART;TZID=America/Chicago:20230308T180000
DTEND;TZID=America/Chicago:20230308T220000
DTSTAMP:20260422T112138
CREATED:20230224T160844Z
LAST-MODIFIED:20230308T211930Z
UID:10000285-1678298400-1678312800@dev.gruenetexas.com
SUMMARY:The Georges
DESCRIPTION:| 			\n			\n							 \n\n\nOldies Dance \n\n		\n\n\n\n\n\n\n						\n							Add to calendar						 \n\n\n\n									\n										Google Calendar									\n								\n\n									\n										iCalendar									\n								\n\n									\n										Outlook 365									\n								\n\n									\n										Outlook Live
URL:https://dev.gruenetexas.com/event/the-georges/
END:VEVENT
BEGIN:VEVENT
DTSTART;TZID=America/Chicago:20230309T180000
DTEND;TZID=America/Chicago:20230309T220000
DTSTAMP:20260422T112138
CREATED:20230224T160844Z
LAST-MODIFIED:20230309T221504Z
UID:10000286-1678384800-1678399200@dev.gruenetexas.com
SUMMARY:Michael Hearne Trio
DESCRIPTION:| 			\n			\n							 \n\n\nAmericana \n\n		\n\n\n\n\n\n\n						\n							Add to calendar						 \n\n\n\n									\n										Google Calendar									\n								\n\n									\n										iCalendar									\n								\n\n									\n										Outlook 365									\n								\n\n									\n										Outlook Live
URL:https://dev.gruenetexas.com/event/michael-hearne-trio/
END:VEVENT
BEGIN:VEVENT
DTSTART;TZID=America/Chicago:20230310T160000
DTEND;TZID=America/Chicago:20230310T190000
DTSTAMP:20260422T112138
CREATED:20230224T160844Z
LAST-MODIFIED:20230310T165509Z
UID:10000287-1678464000-1678474800@dev.gruenetexas.com
SUMMARY:Friday Afternoon Club
DESCRIPTION:| 			\n			\n							 \n\n\n\n		\n\n\n\n\n\n\n						\n							Add to calendar						 \n\n\n\n									\n										Google Calendar									\n								\n\n									\n										iCalendar									\n								\n\n									\n										Outlook 365									\n								\n\n									\n										Outlook Live
URL:https://dev.gruenetexas.com/event/friday-afternoon-club-3/
CATEGORIES:Free Event
END:VEVENT
BEGIN:VEVENT
DTSTART;TZID=America/Chicago:20230310T200000
DTEND;TZID=America/Chicago:20230310T200000
DTSTAMP:20260422T112138
CREATED:20230224T160844Z
LAST-MODIFIED:20230310T165509Z
UID:10000288-1678478400-1678478400@dev.gruenetexas.com
SUMMARY:Roger Creager
DESCRIPTION:| 			\n			\n							 \n\n\nOpener: Pauline Reese | Doors: 7pm \n\n		\n\n\n\n\n\n\n						\n							Add to calendar						 \n\n\n\n									\n										Google Calendar									\n								\n\n									\n										iCalendar									\n								\n\n									\n										Outlook 365									\n								\n\n									\n										Outlook Live
URL:https://dev.gruenetexas.com/event/roger-creager/
ATTACH;FMTTYPE=image/jpeg:https://dev.gruenetexas.com/wp-content/uploads/2023/02/RogerCreager-uHr5JG.tmp_.jpg
END:VEVENT
BEGIN:VEVENT
DTSTART;TZID=America/Chicago:20230311T130000
DTEND;TZID=America/Chicago:20230311T170000
DTSTAMP:20260422T112138
CREATED:20230224T160844Z
LAST-MODIFIED:20230310T165509Z
UID:10000289-1678539600-1678554000@dev.gruenetexas.com
SUMMARY:Bo Phillips Band
DESCRIPTION:| 			\n			\n							 \n\n\nRed Dirt \n\n		\n\n\n\n\n\n\n						\n							Add to calendar						 \n\n\n\n									\n										Google Calendar									\n								\n\n									\n										iCalendar									\n								\n\n									\n										Outlook 365									\n								\n\n									\n										Outlook Live
URL:https://dev.gruenetexas.com/event/bo-phillips-band/
CATEGORIES:Free Event
END:VEVENT
BEGIN:VEVENT
DTSTART;TZID=America/Chicago:20230311T210000
DTEND;TZID=America/Chicago:20230311T210000
DTSTAMP:20260422T112138
CREATED:20230224T160844Z
LAST-MODIFIED:20230310T165509Z
UID:10000290-1678568400-1678568400@dev.gruenetexas.com
SUMMARY:Roger Creager
DESCRIPTION:| 			\n			\n							 \n\n\nOpener: Wynn Williams | Doors: 8pm \n\n		\n\n\n\n\n\n\n						\n							Add to calendar						 \n\n\n\n									\n										Google Calendar									\n								\n\n									\n										iCalendar									\n								\n\n									\n										Outlook 365									\n								\n\n									\n										Outlook Live
URL:https://dev.gruenetexas.com/event/roger-creager-2/
ATTACH;FMTTYPE=image/jpeg:https://dev.gruenetexas.com/wp-content/uploads/2023/03/RogerCreager-SOLD-OUT-Y1tjcF.tmp_.jpg
END:VEVENT
BEGIN:VEVENT
DTSTART;TZID=America/Chicago:20230312T123000
DTEND;TZID=America/Chicago:20230312T153000
DTSTAMP:20260422T112138
CREATED:20230224T160845Z
LAST-MODIFIED:20230312T175453Z
UID:10000291-1678624200-1678635000@dev.gruenetexas.com
SUMMARY:Bret Graham Band
DESCRIPTION:| 			\n			\n							 \n\n\nCountry \n\n		\n\n\n\n\n\n\n						\n							Add to calendar						 \n\n\n\n									\n										Google Calendar									\n								\n\n									\n										iCalendar									\n								\n\n									\n										Outlook 365									\n								\n\n									\n										Outlook Live
URL:https://dev.gruenetexas.com/event/bret-graham-band/
CATEGORIES:Free Event
END:VEVENT
BEGIN:VEVENT
DTSTART;TZID=America/Chicago:20230312T160000
DTEND;TZID=America/Chicago:20230312T200000
DTSTAMP:20260422T112138
CREATED:20230224T160845Z
LAST-MODIFIED:20230312T175453Z
UID:10000292-1678636800-1678651200@dev.gruenetexas.com
SUMMARY:Seth James & Western Union Man
DESCRIPTION:| 			\n			\n							 \n\n\nAmericana \n\n		\n\n\n\n\n\n\n						\n							Add to calendar						 \n\n\n\n									\n										Google Calendar									\n								\n\n									\n										iCalendar									\n								\n\n									\n										Outlook 365									\n								\n\n									\n										Outlook Live
URL:https://dev.gruenetexas.com/event/seth-james-western-union-man/
CATEGORIES:Free Event
END:VEVENT
BEGIN:VEVENT
DTSTART;TZID=America/Chicago:20230313T120000
DTEND;TZID=America/Chicago:20230313T160000
DTSTAMP:20260422T112138
CREATED:20230224T160845Z
LAST-MODIFIED:20230313T175439Z
UID:10000293-1678708800-1678723200@dev.gruenetexas.com
SUMMARY:Bo Porter
DESCRIPTION:| 			\n			\n							 \n\n\nCountry \n\n		\n\n\n\n\n\n\n						\n							Add to calendar						 \n\n\n\n									\n										Google Calendar									\n								\n\n									\n										iCalendar									\n								\n\n									\n										Outlook 365									\n								\n\n									\n										Outlook Live
URL:https://dev.gruenetexas.com/event/bo-porter/
CATEGORIES:Free Event
END:VEVENT
BEGIN:VEVENT
DTSTART;TZID=America/Chicago:20230313T180000
DTEND;TZID=America/Chicago:20230313T220000
DTSTAMP:20260422T112138
CREATED:20230224T160845Z
LAST-MODIFIED:20230313T175439Z
UID:10000294-1678730400-1678744800@dev.gruenetexas.com
SUMMARY:Bret Graham
DESCRIPTION:| 			\n			\n							 \n\n\nCountry \n\n		\n\n\n\n\n\n\n						\n							Add to calendar						 \n\n\n\n									\n										Google Calendar									\n								\n\n									\n										iCalendar									\n								\n\n									\n										Outlook 365									\n								\n\n									\n										Outlook Live
URL:https://dev.gruenetexas.com/event/bret-graham-3/
CATEGORIES:Free Event
END:VEVENT
BEGIN:VEVENT
DTSTART;TZID=America/Chicago:20230314T120000
DTEND;TZID=America/Chicago:20230314T160000
DTSTAMP:20260422T112138
CREATED:20230224T160845Z
LAST-MODIFIED:20230314T175758Z
UID:10000295-1678795200-1678809600@dev.gruenetexas.com
SUMMARY:Slim Bawb & The Fabulous Stumpgrinders
DESCRIPTION:| 			\n			\n							 \n\n\nTexas Swamp \n\n		\n\n\n\n\n\n\n						\n							Add to calendar						 \n\n\n\n									\n										Google Calendar									\n								\n\n									\n										iCalendar									\n								\n\n									\n										Outlook 365									\n								\n\n									\n										Outlook Live
URL:https://dev.gruenetexas.com/event/slim-bawb-the-fabulous-stumpgrinders/
CATEGORIES:Free Event
END:VEVENT
BEGIN:VEVENT
DTSTART;TZID=UTC:20230314T160000
DTEND;TZID=UTC:20230314T190000
DTSTAMP:20260422T112138
CREATED:20230313T194944Z
LAST-MODIFIED:20230313T194944Z
UID:10000437-1678809600-1678820400@dev.gruenetexas.com
SUMMARY:Jackson Parten Duo
DESCRIPTION:at The Grapevine
URL:https://dev.gruenetexas.com/event/jackson-parten-duo/
LOCATION:The Grapevine
CATEGORIES:Free Event
END:VEVENT
BEGIN:VEVENT
DTSTART;TZID=UTC:20230314T173000
DTEND;TZID=UTC:20230314T203000
DTSTAMP:20260422T112138
CREATED:20230313T201150Z
LAST-MODIFIED:20230313T201252Z
UID:10000446-1678815000-1678825800@dev.gruenetexas.com
SUMMARY:Colton's Kin
DESCRIPTION:at The Gristmill
URL:https://dev.gruenetexas.com/event/coltons-kin/
LOCATION:The Gristmill River Restaurant & Bar
CATEGORIES:Free Event
END:VEVENT
BEGIN:VEVENT
DTSTART;TZID=America/Chicago:20230314T180000
DTEND;TZID=America/Chicago:20230314T190000
DTSTAMP:20260422T112138
CREATED:20230224T160845Z
LAST-MODIFIED:20230314T224806Z
UID:10000296-1678816800-1678820400@dev.gruenetexas.com
SUMMARY:Swing Dance Lessons
DESCRIPTION:Cover at the door. All ages welcome.
URL:https://dev.gruenetexas.com/event/swing-dance-lessons-2/
LOCATION:Gruene Hall\, 1281 Gruene Rd\, New Braunfels\, Texas\, 78130
CATEGORIES:Special Event,Ticketed Event
END:VEVENT
BEGIN:VEVENT
DTSTART;TZID=UTC:20230314T203000
DTEND;TZID=UTC:20230314T203000
DTSTAMP:20260422T112138
CREATED:20230215T175346Z
LAST-MODIFIED:20230314T224738Z
UID:10000003-1678825800-1678825800@dev.gruenetexas.com
SUMMARY:Two Ton Tuesday: Spring Break Show
DESCRIPTION:Cover at the door. All ages welcome. Come early for Swing Dance Lessons.
URL:https://dev.gruenetexas.com/event/two-ton-tuesdays-spring-break-show/
LOCATION:Gruene Hall\, 1281 Gruene Rd\, New Braunfels\, Texas\, 78130
CATEGORIES:Special Event,Ticketed Event
ATTACH;FMTTYPE=image/jpeg:https://dev.gruenetexas.com/wp-content/uploads/2023/02/TTT.jpg
END:VEVENT
BEGIN:VEVENT
DTSTART;TZID=UTC:20230315T160000
DTEND;TZID=UTC:20230315T190000
DTSTAMP:20260422T112138
CREATED:20230313T200340Z
LAST-MODIFIED:20230313T200340Z
UID:10000438-1678896000-1678906800@dev.gruenetexas.com
SUMMARY:Phil Luna Band
DESCRIPTION:at The Grapevine
URL:https://dev.gruenetexas.com/event/phil-luna-band/
LOCATION:The Grapevine
CATEGORIES:Free Event
END:VEVENT
END:VCALENDAR