BEGIN:VCALENDAR
VERSION:2.0
PRODID:-//Gruene Historic District - ECPv6.0.10//NONSGML v1.0//EN
CALSCALE:GREGORIAN
METHOD:PUBLISH
X-WR-CALNAME:Gruene Historic District
X-ORIGINAL-URL:https://dev.gruenetexas.com
X-WR-CALDESC:Events for Gruene Historic District
REFRESH-INTERVAL;VALUE=DURATION:PT1H
X-Robots-Tag:noindex
X-PUBLISHED-TTL:PT1H
BEGIN:VTIMEZONE
TZID:America/Chicago
BEGIN:DAYLIGHT
TZOFFSETFROM:-0600
TZOFFSETTO:-0500
TZNAME:CDT
DTSTART:20230312T080000
END:DAYLIGHT
BEGIN:STANDARD
TZOFFSETFROM:-0500
TZOFFSETTO:-0600
TZNAME:CST
DTSTART:20231105T070000
END:STANDARD
TZID:UTC
BEGIN:STANDARD
TZOFFSETFROM:+0000
TZOFFSETTO:+0000
TZNAME:UTC
DTSTART:20230101T000000
END:STANDARD
END:VTIMEZONE
BEGIN:VEVENT
DTSTART;TZID=America/Chicago:20230402T123000
DTEND;TZID=America/Chicago:20230402T160000
DTSTAMP:20260422T071335
CREATED:20230224T160851Z
LAST-MODIFIED:20230402T091803Z
UID:10000325-1680438600-1680451200@dev.gruenetexas.com
SUMMARY:Andrea Magee Band
DESCRIPTION:| 			\n			\n							 \n\n\nFolk/Roots
URL:https://dev.gruenetexas.com/event/andrea-magee-band/
CATEGORIES:Free Event
END:VEVENT
BEGIN:VEVENT
DTSTART;TZID=America/Chicago:20230401T210000
DTEND;TZID=America/Chicago:20230401T210000
DTSTAMP:20260422T071335
CREATED:20230224T160850Z
LAST-MODIFIED:20230401T090917Z
UID:10000324-1680382800-1680382800@dev.gruenetexas.com
SUMMARY:Jack Ingram
DESCRIPTION:| 			\n			\n							 \n\n\nOpener: John Dempsey | Doors: 8pm
URL:https://dev.gruenetexas.com/event/jack-ingram/
CATEGORIES:Special Event,Ticketed Event
ATTACH;FMTTYPE=image/jpeg:https://dev.gruenetexas.com/wp-content/uploads/2023/03/JackIngram-SOLD-OUT-tdLATJ.tmp_.jpg
END:VEVENT
BEGIN:VEVENT
DTSTART;TZID=America/Chicago:20230401T130000
DTEND;TZID=America/Chicago:20230401T170000
DTSTAMP:20260422T071335
CREATED:20230224T160850Z
LAST-MODIFIED:20230401T090916Z
UID:10000323-1680354000-1680368400@dev.gruenetexas.com
SUMMARY:Rye Mountains Revelry
DESCRIPTION:| 			\n			\n							 \n\n\nBluegrass
URL:https://dev.gruenetexas.com/event/rye-mountains-revelry/
CATEGORIES:Free Event
END:VEVENT
BEGIN:VEVENT
DTSTART;TZID=America/Chicago:20230331T200000
DTEND;TZID=America/Chicago:20230331T200000
DTSTAMP:20260422T071335
CREATED:20230224T160850Z
LAST-MODIFIED:20230331T083329Z
UID:10000322-1680292800-1680292800@dev.gruenetexas.com
SUMMARY:Ray Wylie Hubbard
DESCRIPTION:| 			\n			\n							 \n\n\nOpener: Kelley Mickwee | Doors: 7pm
URL:https://dev.gruenetexas.com/event/ray-wylie-hubbard/
CATEGORIES:Special Event,Ticketed Event
ATTACH;FMTTYPE=image/jpeg:https://dev.gruenetexas.com/wp-content/uploads/2023/02/RayWylieHubbard-SOLD-OUT-Ytmq3I.tmp_.jpg
END:VEVENT
BEGIN:VEVENT
DTSTART;TZID=UTC:20230331T170000
DTEND;TZID=UTC:20230331T200000
DTSTAMP:20260422T071335
CREATED:20230313T201008Z
LAST-MODIFIED:20230313T201008Z
UID:10000445-1680282000-1680292800@dev.gruenetexas.com
SUMMARY:Wilkinson IV
DESCRIPTION:at The Grapevine
URL:https://dev.gruenetexas.com/event/wilkinson-iv/
LOCATION:The Grapevine
CATEGORIES:Free Event
END:VEVENT
BEGIN:VEVENT
DTSTART;TZID=America/Chicago:20230331T160000
DTEND;TZID=America/Chicago:20230331T190000
DTSTAMP:20260422T071335
CREATED:20230224T160850Z
LAST-MODIFIED:20230331T083329Z
UID:10000321-1680278400-1680289200@dev.gruenetexas.com
SUMMARY:Friday Afternoon Club
DESCRIPTION:|
URL:https://dev.gruenetexas.com/event/friday-afternoon-club-6/
CATEGORIES:Free Event
END:VEVENT
BEGIN:VEVENT
DTSTART;TZID=America/Chicago:20230330T180000
DTEND;TZID=America/Chicago:20230330T220000
DTSTAMP:20260422T071335
CREATED:20230224T160850Z
LAST-MODIFIED:20230330T082147Z
UID:10000320-1680199200-1680213600@dev.gruenetexas.com
SUMMARY:Shawn Pittman Trio
DESCRIPTION:| 			\n			\n							 \n\n\nBlues
URL:https://dev.gruenetexas.com/event/shawn-pittman-trio/
CATEGORIES:Free Event
END:VEVENT
BEGIN:VEVENT
DTSTART;TZID=America/Chicago:20230329T180000
DTEND;TZID=America/Chicago:20230329T220000
DTSTAMP:20260422T071335
CREATED:20230224T160849Z
LAST-MODIFIED:20230329T082059Z
UID:10000319-1680112800-1680127200@dev.gruenetexas.com
SUMMARY:Matt Kirk & The Gueyfarers
DESCRIPTION:| 			\n			\n							 \n\n\nAmericana
URL:https://dev.gruenetexas.com/event/matt-kirk-the-gueyfarers/
CATEGORIES:Free Event
END:VEVENT
BEGIN:VEVENT
DTSTART;TZID=America/Chicago:20230328T180000
DTEND;TZID=America/Chicago:20230328T220000
DTSTAMP:20260422T071335
CREATED:20230224T160849Z
LAST-MODIFIED:20230328T074917Z
UID:10000318-1680026400-1680040800@dev.gruenetexas.com
SUMMARY:Andi Holleman Trio
DESCRIPTION:| 			\n			\n							 \n\n\nAmericana
URL:https://dev.gruenetexas.com/event/andi-holleman-trio/
CATEGORIES:Free Event
END:VEVENT
BEGIN:VEVENT
DTSTART;TZID=America/Chicago:20230327T180000
DTEND;TZID=America/Chicago:20230327T220000
DTSTAMP:20260422T071335
CREATED:20230224T160849Z
LAST-MODIFIED:20230327T063325Z
UID:10000317-1679940000-1679954400@dev.gruenetexas.com
SUMMARY:Bret Graham
DESCRIPTION:| 			\n			\n							 \n\n\nCountry
URL:https://dev.gruenetexas.com/event/bret-graham-5/
CATEGORIES:Free Event
END:VEVENT
BEGIN:VEVENT
DTSTART;TZID=America/Chicago:20230326T170000
DTEND;TZID=America/Chicago:20230326T210000
DTSTAMP:20260422T071335
CREATED:20230224T160849Z
LAST-MODIFIED:20230326T054711Z
UID:10000316-1679850000-1679864400@dev.gruenetexas.com
SUMMARY:Tylor & The Train Robbers
DESCRIPTION:| 			\n			\n							 \n\n\nAmericana
URL:https://dev.gruenetexas.com/event/tyler-the-train-robbers/
CATEGORIES:Free Event
END:VEVENT
BEGIN:VEVENT
DTSTART;TZID=America/Chicago:20230326T123000
DTEND;TZID=America/Chicago:20230326T163000
DTSTAMP:20260422T071335
CREATED:20230310T165513Z
LAST-MODIFIED:20230326T054711Z
UID:10000423-1679833800-1679848200@dev.gruenetexas.com
SUMMARY:Ben Jones Band
DESCRIPTION:| 			\n			\n							 \n\n\nPop/Rock
URL:https://dev.gruenetexas.com/event/ben-jones-trio/
CATEGORIES:Free Event
END:VEVENT
BEGIN:VEVENT
DTSTART;TZID=America/Chicago:20230326T123000
DTEND;TZID=America/Chicago:20230326T163000
DTSTAMP:20260422T071335
CREATED:20230224T160849Z
LAST-MODIFIED:20230224T160849Z
UID:10000315-1679833800-1679848200@dev.gruenetexas.com
SUMMARY:Pat Byrne Band
DESCRIPTION:| 			\n			\n							 \n\n\nFolk Rock \n\n		\n\n\n\n\n\n\n						\n  \n  \n\n						\n							Add to calendar						\n						\n					\n\n\n\n									\n										Google Calendar									\n								\n\n									\n										iCalendar									\n								\n\n									\n										Outlook 365									\n								\n\n									\n										Outlook Live
URL:https://dev.gruenetexas.com/event/pat-byrne-band/
END:VEVENT
BEGIN:VEVENT
DTSTART;TZID=UTC:20230326T120000
DTEND;TZID=UTC:20230326T150000
DTSTAMP:20260422T071335
CREATED:20230313T203717Z
LAST-MODIFIED:20230313T203717Z
UID:10000456-1679832000-1679842800@dev.gruenetexas.com
SUMMARY:True Labowski
DESCRIPTION:at The Gristmill
URL:https://dev.gruenetexas.com/event/true-labowski-2/
LOCATION:The Gristmill River Restaurant & Bar
CATEGORIES:Free Event
END:VEVENT
BEGIN:VEVENT
DTSTART;TZID=America/Chicago:20230325T210000
DTEND;TZID=America/Chicago:20230325T210000
DTSTAMP:20260422T071335
CREATED:20230224T160849Z
LAST-MODIFIED:20230325T053912Z
UID:10000314-1679778000-1679778000@dev.gruenetexas.com
SUMMARY:Hayes Carll
DESCRIPTION:| 			\n			\n							 \n\n\nOpener: Melissa Carper | Doors: 8pm
URL:https://dev.gruenetexas.com/event/hayes-carll/
CATEGORIES:Special Event,Ticketed Event
ATTACH;FMTTYPE=image/jpeg:https://dev.gruenetexas.com/wp-content/uploads/2023/02/HayesCarll-SOLD-OUT-XhNpWD.tmp_.jpg
END:VEVENT
BEGIN:VEVENT
DTSTART;TZID=UTC:20230325T180000
DTEND;TZID=UTC:20230325T210000
DTSTAMP:20260422T071335
CREATED:20230313T203623Z
LAST-MODIFIED:20230313T203623Z
UID:10000455-1679767200-1679778000@dev.gruenetexas.com
SUMMARY:Lance Lipinsky
DESCRIPTION:at The Gristmill
URL:https://dev.gruenetexas.com/event/lance-lipinsky-4/
LOCATION:The Gristmill River Restaurant & Bar
CATEGORIES:Free Event
END:VEVENT
BEGIN:VEVENT
DTSTART;TZID=America/Chicago:20230325T130000
DTEND;TZID=America/Chicago:20230325T170000
DTSTAMP:20260422T071335
CREATED:20230224T160848Z
LAST-MODIFIED:20230325T053912Z
UID:10000313-1679749200-1679763600@dev.gruenetexas.com
SUMMARY:Flat Top Jones
DESCRIPTION:| 			\n			\n							 \n\n\nCountry
URL:https://dev.gruenetexas.com/event/flat-top-jones-2/
CATEGORIES:Free Event
END:VEVENT
BEGIN:VEVENT
DTSTART;TZID=UTC:20230325T123000
DTEND;TZID=UTC:20230325T153000
DTSTAMP:20260422T071335
CREATED:20230313T203536Z
LAST-MODIFIED:20230313T203536Z
UID:10000454-1679747400-1679758200@dev.gruenetexas.com
SUMMARY:Robert Irwin
DESCRIPTION:at The Gristmill
URL:https://dev.gruenetexas.com/event/robert-irwin/
LOCATION:The Gristmill River Restaurant & Bar
CATEGORIES:Free Event
END:VEVENT
BEGIN:VEVENT
DTSTART;TZID=America/Chicago:20230324T200000
DTEND;TZID=America/Chicago:20230324T200000
DTSTAMP:20260422T071335
CREATED:20230224T160848Z
LAST-MODIFIED:20230324T043522Z
UID:10000312-1679688000-1679688000@dev.gruenetexas.com
SUMMARY:Brent Cobb
DESCRIPTION:| 			\n			\n							 \n\n\nOpener: Wade Sapp | Doors: 7pm
URL:https://dev.gruenetexas.com/event/brent-cobb/
CATEGORIES:Special Event,Ticketed Event
ATTACH;FMTTYPE=image/jpeg:https://dev.gruenetexas.com/wp-content/uploads/2023/03/BrentCobb-SOLD-OUT-ONS9Cq.tmp_.jpg
END:VEVENT
BEGIN:VEVENT
DTSTART;TZID=UTC:20230324T170000
DTEND;TZID=UTC:20230324T200000
DTSTAMP:20260422T071335
CREATED:20230313T200919Z
LAST-MODIFIED:20230313T200919Z
UID:10000444-1679677200-1679688000@dev.gruenetexas.com
SUMMARY:Bret Graham Band
DESCRIPTION:at The Grapevine
URL:https://dev.gruenetexas.com/event/bret-graham-band-3/
LOCATION:The Grapevine
CATEGORIES:Free Event
END:VEVENT
BEGIN:VEVENT
DTSTART;TZID=America/Chicago:20230324T160000
DTEND;TZID=America/Chicago:20230324T190000
DTSTAMP:20260422T071335
CREATED:20230224T160848Z
LAST-MODIFIED:20230324T043521Z
UID:10000311-1679673600-1679684400@dev.gruenetexas.com
SUMMARY:Friday Afternoon Club
DESCRIPTION:|
URL:https://dev.gruenetexas.com/event/friday-afternoon-club-5/
CATEGORIES:Free Event
END:VEVENT
BEGIN:VEVENT
DTSTART;TZID=America/Chicago:20230323T180000
DTEND;TZID=America/Chicago:20230323T220000
DTSTAMP:20260422T071335
CREATED:20230224T160848Z
LAST-MODIFIED:20230323T032650Z
UID:10000310-1679594400-1679608800@dev.gruenetexas.com
SUMMARY:Lance Lipinsky
DESCRIPTION:| 			\n			\n							 \n\n\nOldies
URL:https://dev.gruenetexas.com/event/lance-lipinsky/
CATEGORIES:Free Event
END:VEVENT
BEGIN:VEVENT
DTSTART;TZID=America/Chicago:20230322T180000
DTEND;TZID=America/Chicago:20230322T220000
DTSTAMP:20260422T071335
CREATED:20230224T160848Z
LAST-MODIFIED:20230322T031124Z
UID:10000309-1679508000-1679522400@dev.gruenetexas.com
SUMMARY:The Georges
DESCRIPTION:| 			\n			\n							 \n\n\nOldies Dance
URL:https://dev.gruenetexas.com/event/the-georges-2/
CATEGORIES:Free Event
END:VEVENT
BEGIN:VEVENT
DTSTART;TZID=America/Chicago:20230321T180000
DTEND;TZID=America/Chicago:20230321T220000
DTSTAMP:20260422T071335
CREATED:20230318T215027Z
LAST-MODIFIED:20230321T020832Z
UID:10000471-1679421600-1679436000@dev.gruenetexas.com
SUMMARY:Henri Herbert Duo
DESCRIPTION:|
URL:https://dev.gruenetexas.com/event/henri-herbert-duo/
CATEGORIES:Free Event
END:VEVENT
BEGIN:VEVENT
DTSTART;TZID=America/Chicago:20230321T180000
DTEND;TZID=America/Chicago:20230321T220000
DTSTAMP:20260422T071335
CREATED:20230224T160848Z
LAST-MODIFIED:20230315T184544Z
UID:10000308-1679421600-1679436000@dev.gruenetexas.com
SUMMARY:Ben Jones & Friends
DESCRIPTION:| 			\n			\n							 \n\n\nSong Swap \n\n		\n\n\n\n\n\n\n						\n							Add to calendar						 \n\n\n\n									\n										Google Calendar									\n								\n\n									\n										iCalendar									\n								\n\n									\n										Outlook 365									\n								\n\n									\n										Outlook Live
URL:https://dev.gruenetexas.com/event/ben-jones-friends/
CATEGORIES:Free Event
END:VEVENT
BEGIN:VEVENT
DTSTART;TZID=America/Chicago:20230320T180000
DTEND;TZID=America/Chicago:20230320T220000
DTSTAMP:20260422T071335
CREATED:20230224T160847Z
LAST-MODIFIED:20230319T220708Z
UID:10000307-1679335200-1679349600@dev.gruenetexas.com
SUMMARY:Bret Graham
DESCRIPTION:| 			\n			\n							 \n\n\nCountry
URL:https://dev.gruenetexas.com/event/bret-graham-4/
CATEGORIES:Free Event
END:VEVENT
BEGIN:VEVENT
DTSTART;TZID=America/Chicago:20230319T200000
DTEND;TZID=America/Chicago:20230319T200000
DTSTAMP:20260422T071335
CREATED:20230224T160847Z
LAST-MODIFIED:20230319T220707Z
UID:10000306-1679256000-1679256000@dev.gruenetexas.com
SUMMARY:Uncle Lucius: Reunion Show
DESCRIPTION:| 			\n			\n							 \n\n\nOpener: Jonathan Terrell | Doors: 7pm
URL:https://dev.gruenetexas.com/event/uncle-lucius-reunion-show-2/
CATEGORIES:Special Event,Ticketed Event
ATTACH;FMTTYPE=image/jpeg:https://dev.gruenetexas.com/wp-content/uploads/2023/02/UncleLucius-SOLD-OUT-x1WVkm.tmp_.jpg
END:VEVENT
BEGIN:VEVENT
DTSTART;TZID=America/Chicago:20230319T123000
DTEND;TZID=America/Chicago:20230319T160000
DTSTAMP:20260422T071335
CREATED:20230224T160847Z
LAST-MODIFIED:20230319T220707Z
UID:10000305-1679229000-1679241600@dev.gruenetexas.com
SUMMARY:Guy Forsyth Band
DESCRIPTION:| 			\n			\n							 \n\n\nRoots/Rock
URL:https://dev.gruenetexas.com/event/guy-forsyth-band/
CATEGORIES:Free Event
END:VEVENT
BEGIN:VEVENT
DTSTART;TZID=UTC:20230319T120000
DTEND;TZID=UTC:20230319T150000
DTSTAMP:20260422T071335
CREATED:20230313T203458Z
LAST-MODIFIED:20230313T203458Z
UID:10000453-1679227200-1679238000@dev.gruenetexas.com
SUMMARY:Lance Lipinsky
DESCRIPTION:at The Gristmill
URL:https://dev.gruenetexas.com/event/lance-lipinsky-3/
LOCATION:The Gristmill River Restaurant & Bar
CATEGORIES:Free Event
END:VEVENT
BEGIN:VEVENT
DTSTART;TZID=UTC:20230319T120000
DTEND;TZID=UTC:20230319T150000
DTSTAMP:20260422T071335
CREATED:20230313T200836Z
LAST-MODIFIED:20230313T200836Z
UID:10000443-1679227200-1679238000@dev.gruenetexas.com
SUMMARY:Matt & Sylvia Kirk
DESCRIPTION:at The Grapevine
URL:https://dev.gruenetexas.com/event/matt-sylvia-kirk/
LOCATION:The Grapevine
CATEGORIES:Free Event
END:VEVENT
END:VCALENDAR