BEGIN:VCALENDAR
VERSION:2.0
PRODID:-//Gruene Historic District - ECPv6.0.10//NONSGML v1.0//EN
CALSCALE:GREGORIAN
METHOD:PUBLISH
X-WR-CALNAME:Gruene Historic District
X-ORIGINAL-URL:https://dev.gruenetexas.com
X-WR-CALDESC:Events for Gruene Historic District
REFRESH-INTERVAL;VALUE=DURATION:PT1H
X-Robots-Tag:noindex
X-PUBLISHED-TTL:PT1H
BEGIN:VTIMEZONE
TZID:America/Chicago
BEGIN:DAYLIGHT
TZOFFSETFROM:-0600
TZOFFSETTO:-0500
TZNAME:CDT
DTSTART:20230312T080000
END:DAYLIGHT
BEGIN:STANDARD
TZOFFSETFROM:-0500
TZOFFSETTO:-0600
TZNAME:CST
DTSTART:20231105T070000
END:STANDARD
END:VTIMEZONE
BEGIN:VEVENT
DTSTART;TZID=America/Chicago:20231202T130000
DTEND;TZID=America/Chicago:20231202T170000
DTSTAMP:20260421T111821
CREATED:20231007T114228Z
LAST-MODIFIED:20231202T085842Z
UID:10000770-1701522000-1701536400@dev.gruenetexas.com
SUMMARY:Eric Demmer Band
DESCRIPTION:| 			\n			\n							 \n\n\nBlues\, R&B
URL:https://dev.gruenetexas.com/event/eric-demmer-band-7/
CATEGORIES:Free Event
END:VEVENT
BEGIN:VEVENT
DTSTART;TZID=America/Chicago:20231202T210000
DTEND;TZID=America/Chicago:20231202T210000
DTSTAMP:20260421T111821
CREATED:20230919T092853Z
LAST-MODIFIED:20231202T085842Z
UID:10000744-1701550800-1701550800@dev.gruenetexas.com
SUMMARY:Gypsy Songman: The Music of Jerry Jeff Walker featuring Django Walker & Jerry Jeff Walker Band
DESCRIPTION:| 			\n			\n							 \n\n\nOpener: Rio Tripiano | Doors: 8pm
URL:https://dev.gruenetexas.com/event/gypsy-songman-the-music-of-jerry-jeff-walker-featuring-django-walker-jerry-jeff-walker-band/
CATEGORIES:Special Event,Ticketed Event
ATTACH;FMTTYPE=image/jpeg:https://dev.gruenetexas.com/wp-content/uploads/2023/09/Gypsy-Songman-ApQDDK.tmp_.jpg
END:VEVENT
END:VCALENDAR