BEGIN:VCALENDAR
VERSION:2.0
PRODID:-//Gruene Historic District - ECPv6.0.10//NONSGML v1.0//EN
CALSCALE:GREGORIAN
METHOD:PUBLISH
X-WR-CALNAME:Gruene Historic District
X-ORIGINAL-URL:https://dev.gruenetexas.com
X-WR-CALDESC:Events for Gruene Historic District
REFRESH-INTERVAL;VALUE=DURATION:PT1H
X-Robots-Tag:noindex
X-PUBLISHED-TTL:PT1H
BEGIN:VTIMEZONE
TZID:America/Chicago
BEGIN:DAYLIGHT
TZOFFSETFROM:-0600
TZOFFSETTO:-0500
TZNAME:CDT
DTSTART:20230312T080000
END:DAYLIGHT
BEGIN:STANDARD
TZOFFSETFROM:-0500
TZOFFSETTO:-0600
TZNAME:CST
DTSTART:20231105T070000
END:STANDARD
END:VTIMEZONE
BEGIN:VEVENT
DTSTART;TZID=America/Chicago:20231124T120000
DTEND;TZID=America/Chicago:20231124T160000
DTSTAMP:20260421T195223
CREATED:20230923T102746Z
LAST-MODIFIED:20231124T071216Z
UID:10000750-1700827200-1700841600@dev.gruenetexas.com
SUMMARY:Adam Johnson Trio
DESCRIPTION:| 			\n			\n							 \n\n\nBlues
URL:https://dev.gruenetexas.com/event/adam-johnson-trio/
CATEGORIES:Free Event
END:VEVENT
BEGIN:VEVENT
DTSTART;TZID=America/Chicago:20231124T160000
DTEND;TZID=America/Chicago:20231124T190000
DTSTAMP:20260421T195223
CREATED:20231006T113626Z
LAST-MODIFIED:20231124T071217Z
UID:10000764-1700841600-1700852400@dev.gruenetexas.com
SUMMARY:Friday Afternoon Club
DESCRIPTION:|
URL:https://dev.gruenetexas.com/event/friday-afternoon-club-40/
CATEGORIES:Free Event
END:VEVENT
BEGIN:VEVENT
DTSTART;TZID=America/Chicago:20231124T200000
DTEND;TZID=America/Chicago:20231124T200000
DTSTAMP:20260421T195223
CREATED:20230912T084653Z
LAST-MODIFIED:20231124T071217Z
UID:10000735-1700856000-1700856000@dev.gruenetexas.com
SUMMARY:Jon Wolfe
DESCRIPTION:| 			\n			\n							 \n\n\nOpener: Cody Hibbard | Doors: 7pm
URL:https://dev.gruenetexas.com/event/jon-wolfe/
CATEGORIES:Special Event,Ticketed Event
ATTACH;FMTTYPE=image/jpeg:https://dev.gruenetexas.com/wp-content/uploads/2023/09/Jon-Wolfe-VjdZa9.tmp_.jpg
END:VEVENT
END:VCALENDAR