BEGIN:VCALENDAR
VERSION:2.0
PRODID:-//Gruene Historic District - ECPv6.0.10//NONSGML v1.0//EN
CALSCALE:GREGORIAN
METHOD:PUBLISH
X-ORIGINAL-URL:https://dev.gruenetexas.com
X-WR-CALDESC:Events for Gruene Historic District
REFRESH-INTERVAL;VALUE=DURATION:PT1H
X-Robots-Tag:noindex
X-PUBLISHED-TTL:PT1H
BEGIN:VTIMEZONE
TZID:America/Chicago
BEGIN:DAYLIGHT
TZOFFSETFROM:-0600
TZOFFSETTO:-0500
TZNAME:CDT
DTSTART:20230312T080000
END:DAYLIGHT
BEGIN:STANDARD
TZOFFSETFROM:-0500
TZOFFSETTO:-0600
TZNAME:CST
DTSTART:20231105T070000
END:STANDARD
END:VTIMEZONE
BEGIN:VEVENT
DTSTART;TZID=America/Chicago:20231119T120000
DTEND;TZID=America/Chicago:20231119T153000
DTSTAMP:20260421T170905
CREATED:20231030T145735Z
LAST-MODIFIED:20231119T204736Z
UID:10000783-1700395200-1700407800@dev.gruenetexas.com
SUMMARY:Tom Gillam & The Kosmic Messengers
DESCRIPTION:| 			\n			\n							 \n\n\nAmericana-Rock
URL:https://dev.gruenetexas.com/event/tom-gillam-the-kosmic-messengers/
CATEGORIES:Free Event
END:VEVENT
BEGIN:VEVENT
DTSTART;TZID=America/Chicago:20231119T160000
DTEND;TZID=America/Chicago:20231119T200000
DTSTAMP:20260421T170905
CREATED:20231030T145735Z
LAST-MODIFIED:20231101T151928Z
UID:10000784-1700409600-1700424000@dev.gruenetexas.com
SUMMARY:Will Owen Gage Band
DESCRIPTION:| 			\n			\n							 \n\n\nAmericana-Rock
URL:https://dev.gruenetexas.com/event/will-owen-gage-band-2/
CATEGORIES:Free Event
END:VEVENT
BEGIN:VEVENT
DTSTART;TZID=America/Chicago:20231119T160000
DTEND;TZID=America/Chicago:20231119T200000
DTSTAMP:20260421T170905
CREATED:20231108T164453Z
LAST-MODIFIED:20231119T204736Z
UID:10000792-1700409600-1700424000@dev.gruenetexas.com
SUMMARY:Hot Texas Swing Band
DESCRIPTION:| 			\n			\n							 \n\n\nCountry-Swing
URL:https://dev.gruenetexas.com/event/hot-texas-swing-band-2/
CATEGORIES:Free Event
END:VEVENT
END:VCALENDAR