BEGIN:VCALENDAR
VERSION:2.0
PRODID:-//Gruene Historic District - ECPv6.0.10//NONSGML v1.0//EN
CALSCALE:GREGORIAN
METHOD:PUBLISH
X-ORIGINAL-URL:https://dev.gruenetexas.com
X-WR-CALDESC:Events for Gruene Historic District
REFRESH-INTERVAL;VALUE=DURATION:PT1H
X-Robots-Tag:noindex
X-PUBLISHED-TTL:PT1H
BEGIN:VTIMEZONE
TZID:America/Chicago
BEGIN:DAYLIGHT
TZOFFSETFROM:-0600
TZOFFSETTO:-0500
TZNAME:CDT
DTSTART:20230312T080000
END:DAYLIGHT
BEGIN:STANDARD
TZOFFSETFROM:-0500
TZOFFSETTO:-0600
TZNAME:CST
DTSTART:20231105T070000
END:STANDARD
END:VTIMEZONE
BEGIN:VEVENT
DTSTART;TZID=America/Chicago:20231118T130000
DTEND;TZID=America/Chicago:20231118T170000
DTSTAMP:20260421T153956
CREATED:20230628T184418Z
LAST-MODIFIED:20231118T201838Z
UID:10000627-1700312400-1700326800@dev.gruenetexas.com
SUMMARY:Cary Swinney w/Richard Bowden & Michael O’Connor
DESCRIPTION:| 			\n			\n							 \n\n\nFolk
URL:https://dev.gruenetexas.com/event/cary-swinney-w-richard-bowden-michael-oconnor/
CATEGORIES:Free Event
END:VEVENT
BEGIN:VEVENT
DTSTART;TZID=America/Chicago:20231118T210000
DTEND;TZID=America/Chicago:20231118T210000
DTSTAMP:20260421T153956
CREATED:20230906T073819Z
LAST-MODIFIED:20231118T201838Z
UID:10000728-1700341200-1700341200@dev.gruenetexas.com
SUMMARY:Midnight River Choir
DESCRIPTION:| 			\n			\n							 \n\n\nOpener: Sour Bridges | Doors: 8pm
URL:https://dev.gruenetexas.com/event/midnight-river-choir/
CATEGORIES:Special Event,Ticketed Event
ATTACH;FMTTYPE=image/jpeg:https://dev.gruenetexas.com/wp-content/uploads/2023/09/Midnight-River-Choir-Og3Mgk.tmp_.jpg
END:VEVENT
END:VCALENDAR