BEGIN:VCALENDAR
VERSION:2.0
PRODID:-//Gruene Historic District - ECPv6.0.10//NONSGML v1.0//EN
CALSCALE:GREGORIAN
METHOD:PUBLISH
X-WR-CALNAME:Gruene Historic District
X-ORIGINAL-URL:https://dev.gruenetexas.com
X-WR-CALDESC:Events for Gruene Historic District
REFRESH-INTERVAL;VALUE=DURATION:PT1H
X-Robots-Tag:noindex
X-PUBLISHED-TTL:PT1H
BEGIN:VTIMEZONE
TZID:America/Chicago
BEGIN:DAYLIGHT
TZOFFSETFROM:-0600
TZOFFSETTO:-0500
TZNAME:CDT
DTSTART:20230312T080000
END:DAYLIGHT
BEGIN:STANDARD
TZOFFSETFROM:-0500
TZOFFSETTO:-0600
TZNAME:CST
DTSTART:20231105T070000
END:STANDARD
END:VTIMEZONE
BEGIN:VEVENT
DTSTART;TZID=America/Chicago:20231014T130000
DTEND;TZID=America/Chicago:20231014T170000
DTSTAMP:20260421T195326
CREATED:20230425T124741Z
LAST-MODIFIED:20231014T121610Z
UID:10000549-1697288400-1697302800@dev.gruenetexas.com
SUMMARY:Bo Phillips Band
DESCRIPTION:| 			\n			\n							 \n\n\nRed Dirt/Country
URL:https://dev.gruenetexas.com/event/bo-phillips-band-5/
CATEGORIES:Free Event
END:VEVENT
BEGIN:VEVENT
DTSTART;TZID=America/Chicago:20231014T210000
DTEND;TZID=America/Chicago:20231014T210000
DTSTAMP:20260421T195326
CREATED:20230725T083242Z
LAST-MODIFIED:20231014T121610Z
UID:10000653-1697317200-1697317200@dev.gruenetexas.com
SUMMARY:Junior Brown
DESCRIPTION:| 			\n			\n							 \n\n\nOpener: Allan Hendrickson | Doors: 8pm
URL:https://dev.gruenetexas.com/event/junior-brown-2/
CATEGORIES:Special Event,Ticketed Event
ATTACH;FMTTYPE=image/jpeg:https://dev.gruenetexas.com/wp-content/uploads/2023/07/Junior-Brown-1-copy-bIYSoh.tmp_.jpg
END:VEVENT
END:VCALENDAR