BEGIN:VCALENDAR
VERSION:2.0
PRODID:-//Gruene Historic District - ECPv6.0.10//NONSGML v1.0//EN
CALSCALE:GREGORIAN
METHOD:PUBLISH
X-ORIGINAL-URL:https://dev.gruenetexas.com
X-WR-CALDESC:Events for Gruene Historic District
REFRESH-INTERVAL;VALUE=DURATION:PT1H
X-Robots-Tag:noindex
X-PUBLISHED-TTL:PT1H
BEGIN:VTIMEZONE
TZID:America/Chicago
BEGIN:DAYLIGHT
TZOFFSETFROM:-0600
TZOFFSETTO:-0500
TZNAME:CDT
DTSTART:20230312T080000
END:DAYLIGHT
BEGIN:STANDARD
TZOFFSETFROM:-0500
TZOFFSETTO:-0600
TZNAME:CST
DTSTART:20231105T070000
END:STANDARD
END:VTIMEZONE
BEGIN:VEVENT
DTSTART;TZID=America/Chicago:20230910T123000
DTEND;TZID=America/Chicago:20230910T163000
DTSTAMP:20260421T200344
CREATED:20230721T081524Z
LAST-MODIFIED:20230910T082137Z
UID:10000645-1694349000-1694363400@dev.gruenetexas.com
SUMMARY:Bret Graham Band
DESCRIPTION:| 			\n			\n							 \n\n\nCountry
URL:https://dev.gruenetexas.com/event/bret-graham-band-11/
CATEGORIES:Free Event
END:VEVENT
BEGIN:VEVENT
DTSTART;TZID=America/Chicago:20230910T170000
DTEND;TZID=America/Chicago:20230910T210000
DTSTAMP:20260421T200344
CREATED:20230721T081525Z
LAST-MODIFIED:20230910T082137Z
UID:10000646-1694365200-1694379600@dev.gruenetexas.com
SUMMARY:Murali Coryell w/ Ernie Durawa & Chris Alcaraz
DESCRIPTION:| 			\n			\n							 \n\n\nBlues
URL:https://dev.gruenetexas.com/event/murali-coryell-w-ernie-durawa-chris-alcaraz-2/
CATEGORIES:Free Event
END:VEVENT
END:VCALENDAR