BEGIN:VCALENDAR
VERSION:2.0
PRODID:-//Gruene Historic District - ECPv6.0.10//NONSGML v1.0//EN
CALSCALE:GREGORIAN
METHOD:PUBLISH
X-WR-CALNAME:Gruene Historic District
X-ORIGINAL-URL:https://dev.gruenetexas.com
X-WR-CALDESC:Events for Gruene Historic District
REFRESH-INTERVAL;VALUE=DURATION:PT1H
X-Robots-Tag:noindex
X-PUBLISHED-TTL:PT1H
BEGIN:VTIMEZONE
TZID:America/Chicago
BEGIN:DAYLIGHT
TZOFFSETFROM:-0600
TZOFFSETTO:-0500
TZNAME:CDT
DTSTART:20230312T080000
END:DAYLIGHT
BEGIN:STANDARD
TZOFFSETFROM:-0500
TZOFFSETTO:-0600
TZNAME:CST
DTSTART:20231105T070000
END:STANDARD
END:VTIMEZONE
BEGIN:VEVENT
DTSTART;TZID=America/Chicago:20230820T123000
DTEND;TZID=America/Chicago:20230820T163000
DTSTAMP:20260421T211546
CREATED:20230725T083235Z
LAST-MODIFIED:20230820T171437Z
UID:10000650-1692534600-1692549000@dev.gruenetexas.com
SUMMARY:Oscar Ornelas Band
DESCRIPTION:| 			\n			\n							 \n\n\nR&B
URL:https://dev.gruenetexas.com/event/oscar-ornealus-band-3/
CATEGORIES:Free Event
END:VEVENT
BEGIN:VEVENT
DTSTART;TZID=America/Chicago:20230820T170000
DTEND;TZID=America/Chicago:20230820T210000
DTSTAMP:20260421T211546
CREATED:20230629T190608Z
LAST-MODIFIED:20230820T171437Z
UID:10000628-1692550800-1692565200@dev.gruenetexas.com
SUMMARY:Jeska & The Vanity Project
DESCRIPTION:| 			\n			\n							 \n\n\nIndi-Rock
URL:https://dev.gruenetexas.com/event/jeska-the-vanity-project/
CATEGORIES:Free Event
END:VEVENT
END:VCALENDAR