BEGIN:VCALENDAR
VERSION:2.0
PRODID:-//Gruene Historic District - ECPv6.0.10//NONSGML v1.0//EN
CALSCALE:GREGORIAN
METHOD:PUBLISH
X-WR-CALNAME:Gruene Historic District
X-ORIGINAL-URL:https://dev.gruenetexas.com
X-WR-CALDESC:Events for Gruene Historic District
REFRESH-INTERVAL;VALUE=DURATION:PT1H
X-Robots-Tag:noindex
X-PUBLISHED-TTL:PT1H
BEGIN:VTIMEZONE
TZID:America/Chicago
BEGIN:DAYLIGHT
TZOFFSETFROM:-0600
TZOFFSETTO:-0500
TZNAME:CDT
DTSTART:20230312T080000
END:DAYLIGHT
BEGIN:STANDARD
TZOFFSETFROM:-0500
TZOFFSETTO:-0600
TZNAME:CST
DTSTART:20231105T070000
END:STANDARD
END:VTIMEZONE
BEGIN:VEVENT
DTSTART;TZID=America/Chicago:20230723T123000
DTEND;TZID=America/Chicago:20230723T163000
DTSTAMP:20260421T211500
CREATED:20230527T120130Z
LAST-MODIFIED:20230611T144312Z
UID:10000582-1690115400-1690129800@dev.gruenetexas.com
SUMMARY:Shawn Pittman Trio
DESCRIPTION:| 			\n			\n							 \n\n\n\n		\n\n\n\n\n\n\n						\n							Add to calendar						 \n\n\n\n									\n										Google Calendar									\n								\n\n									\n										iCalendar									\n								\n\n									\n										Outlook 365									\n								\n\n									\n										Outlook Live
URL:https://dev.gruenetexas.com/event/shawn-pittman-trio-5/
CATEGORIES:Free Event
END:VEVENT
BEGIN:VEVENT
DTSTART;TZID=America/Chicago:20230723T123000
DTEND;TZID=America/Chicago:20230723T163000
DTSTAMP:20260421T211500
CREATED:20230616T152902Z
LAST-MODIFIED:20230723T082816Z
UID:10000607-1690115400-1690129800@dev.gruenetexas.com
SUMMARY:Andrea Magee Band
DESCRIPTION:| 			\n			\n							 \n\n\nFolk-Roots
URL:https://dev.gruenetexas.com/event/andrea-magee-band-4/
CATEGORIES:Free Event
END:VEVENT
BEGIN:VEVENT
DTSTART;TZID=America/Chicago:20230723T170000
DTEND;TZID=America/Chicago:20230723T210000
DTSTAMP:20260421T211500
CREATED:20230511T164400Z
LAST-MODIFIED:20230723T082817Z
UID:10000573-1690131600-1690146000@dev.gruenetexas.com
SUMMARY:Butch Hancock with Rory Hancock\, The Moonshiners
DESCRIPTION:| 			\n			\n							 \n\n\nTexas Country
URL:https://dev.gruenetexas.com/event/butch-hancock-with-rory-hancock-the-moonshiners/
CATEGORIES:Free Event
END:VEVENT
END:VCALENDAR