BEGIN:VCALENDAR
VERSION:2.0
PRODID:-//Gruene Historic District - ECPv6.0.10//NONSGML v1.0//EN
CALSCALE:GREGORIAN
METHOD:PUBLISH
X-WR-CALNAME:Gruene Historic District
X-ORIGINAL-URL:https://dev.gruenetexas.com
X-WR-CALDESC:Events for Gruene Historic District
REFRESH-INTERVAL;VALUE=DURATION:PT1H
X-Robots-Tag:noindex
X-PUBLISHED-TTL:PT1H
BEGIN:VTIMEZONE
TZID:America/Chicago
BEGIN:DAYLIGHT
TZOFFSETFROM:-0600
TZOFFSETTO:-0500
TZNAME:CDT
DTSTART:20230312T080000
END:DAYLIGHT
BEGIN:STANDARD
TZOFFSETFROM:-0500
TZOFFSETTO:-0600
TZNAME:CST
DTSTART:20231105T070000
END:STANDARD
END:VTIMEZONE
BEGIN:VEVENT
DTSTART;TZID=America/Chicago:20230722T130000
DTEND;TZID=America/Chicago:20230722T170000
DTSTAMP:20260421T223501
CREATED:20230602T124011Z
LAST-MODIFIED:20230722T082122Z
UID:10000591-1690030800-1690045200@dev.gruenetexas.com
SUMMARY:Oscar Ornealus Band
DESCRIPTION:| 			\n			\n							 \n\n\nR&B
URL:https://dev.gruenetexas.com/event/oscar-ornealus-band-2/
CATEGORIES:Free Event
END:VEVENT
BEGIN:VEVENT
DTSTART;TZID=America/Chicago:20230722T210000
DTEND;TZID=America/Chicago:20230722T210000
DTSTAMP:20260421T223501
CREATED:20230411T105738Z
LAST-MODIFIED:20230722T082122Z
UID:10000513-1690059600-1690059600@dev.gruenetexas.com
SUMMARY:Cooder Graw
DESCRIPTION:| 			\n			\n							 \n\n\nOpener: Charlie Shafter | Doors: 8pm
URL:https://dev.gruenetexas.com/event/cooder-graw/
CATEGORIES:Special Event,Ticketed Event
ATTACH;FMTTYPE=image/jpeg:https://dev.gruenetexas.com/wp-content/uploads/2023/07/Cooder-Graw-SOLD-OUT-fpOAqn.tmp_.jpg
END:VEVENT
END:VCALENDAR