BEGIN:VCALENDAR
VERSION:2.0
PRODID:-//Gruene Historic District - ECPv6.0.10//NONSGML v1.0//EN
CALSCALE:GREGORIAN
METHOD:PUBLISH
X-WR-CALNAME:Gruene Historic District
X-ORIGINAL-URL:https://dev.gruenetexas.com
X-WR-CALDESC:Events for Gruene Historic District
REFRESH-INTERVAL;VALUE=DURATION:PT1H
X-Robots-Tag:noindex
X-PUBLISHED-TTL:PT1H
BEGIN:VTIMEZONE
TZID:America/Chicago
BEGIN:DAYLIGHT
TZOFFSETFROM:-0600
TZOFFSETTO:-0500
TZNAME:CDT
DTSTART:20230312T080000
END:DAYLIGHT
BEGIN:STANDARD
TZOFFSETFROM:-0500
TZOFFSETTO:-0600
TZNAME:CST
DTSTART:20231105T070000
END:STANDARD
END:VTIMEZONE
BEGIN:VEVENT
DTSTART;TZID=America/Chicago:20230707T130000
DTEND;TZID=America/Chicago:20230707T170000
DTSTAMP:20260422T000146
CREATED:20230614T151316Z
LAST-MODIFIED:20230707T214522Z
UID:10000605-1688734800-1688749200@dev.gruenetexas.com
SUMMARY:Adam Johnson
DESCRIPTION:| 			\n			\n							 \n\n\nBlues
URL:https://dev.gruenetexas.com/event/adam-johnson/
CATEGORIES:Free Event
END:VEVENT
BEGIN:VEVENT
DTSTART;TZID=America/Chicago:20230707T160000
DTEND;TZID=America/Chicago:20230707T190000
DTSTAMP:20260422T000146
CREATED:20230304T121540Z
LAST-MODIFIED:20230707T214522Z
UID:10000402-1688745600-1688756400@dev.gruenetexas.com
SUMMARY:Friday Afternoon Club
DESCRIPTION:|
URL:https://dev.gruenetexas.com/event/friday-afternoon-club-20/
CATEGORIES:Free Event
END:VEVENT
BEGIN:VEVENT
DTSTART;TZID=America/Chicago:20230707T200000
DTEND;TZID=America/Chicago:20230707T200000
DTSTAMP:20260422T000146
CREATED:20230404T095244Z
LAST-MODIFIED:20230707T214523Z
UID:10000493-1688760000-1688760000@dev.gruenetexas.com
SUMMARY:Radney Foster Band: Del Rio\, TX 1959 30th Anniversary Tour
DESCRIPTION:| 			\n			\n							 \n\n\nOpener: Braedon Barnhill | Doors: 7pm
URL:https://dev.gruenetexas.com/event/radney-foster-band-del-rio-tx-1959-30th-anniversary-tour/
CATEGORIES:Special Event,Ticketed Event
ATTACH;FMTTYPE=image/jpeg:https://dev.gruenetexas.com/wp-content/uploads/2023/07/Radney-Foster-SOLD-OUT-EhqDhg.tmp_.jpg
END:VEVENT
END:VCALENDAR