BEGIN:VCALENDAR
VERSION:2.0
PRODID:-//Gruene Historic District - ECPv6.0.10//NONSGML v1.0//EN
CALSCALE:GREGORIAN
METHOD:PUBLISH
X-WR-CALNAME:Gruene Historic District
X-ORIGINAL-URL:https://dev.gruenetexas.com
X-WR-CALDESC:Events for Gruene Historic District
REFRESH-INTERVAL;VALUE=DURATION:PT1H
X-Robots-Tag:noindex
X-PUBLISHED-TTL:PT1H
BEGIN:VTIMEZONE
TZID:America/Chicago
BEGIN:DAYLIGHT
TZOFFSETFROM:-0600
TZOFFSETTO:-0500
TZNAME:CDT
DTSTART:20230312T080000
END:DAYLIGHT
BEGIN:STANDARD
TZOFFSETFROM:-0500
TZOFFSETTO:-0600
TZNAME:CST
DTSTART:20231105T070000
END:STANDARD
END:VTIMEZONE
BEGIN:VEVENT
DTSTART;TZID=America/Chicago:20230506T130000
DTEND;TZID=America/Chicago:20230506T170000
DTSTAMP:20260422T041145
CREATED:20230316T191523Z
LAST-MODIFIED:20230506T151325Z
UID:10000463-1683378000-1683392400@dev.gruenetexas.com
SUMMARY:Bill Hearne Trio
DESCRIPTION:| 			\n			\n							 \n\n\nCountry/Folk
URL:https://dev.gruenetexas.com/event/bill-hearne-trio/
CATEGORIES:Free Event
END:VEVENT
BEGIN:VEVENT
DTSTART;TZID=America/Chicago:20230506T210000
DTEND;TZID=America/Chicago:20230506T210000
DTSTAMP:20260422T041145
CREATED:20230224T160856Z
LAST-MODIFIED:20230506T151325Z
UID:10000354-1683406800-1683406800@dev.gruenetexas.com
SUMMARY:The Band of Heathens (Album Release)
DESCRIPTION:| 			\n			\n							 \n\n\nOpener: Caroline Hale | Doors: 8pm
URL:https://dev.gruenetexas.com/event/the-band-of-heathens-album-release/
CATEGORIES:Special Event,Ticketed Event
ATTACH;FMTTYPE=image/jpeg:https://dev.gruenetexas.com/wp-content/uploads/2023/03/BandofHeathens-SOLD-OUT-nb5zQN.tmp_.jpg
END:VEVENT
END:VCALENDAR