BEGIN:VCALENDAR
VERSION:2.0
PRODID:-//Gruene Historic District - ECPv6.0.10//NONSGML v1.0//EN
CALSCALE:GREGORIAN
METHOD:PUBLISH
X-WR-CALNAME:Gruene Historic District
X-ORIGINAL-URL:https://dev.gruenetexas.com
X-WR-CALDESC:Events for Gruene Historic District
REFRESH-INTERVAL;VALUE=DURATION:PT1H
X-Robots-Tag:noindex
X-PUBLISHED-TTL:PT1H
BEGIN:VTIMEZONE
TZID:America/Chicago
BEGIN:DAYLIGHT
TZOFFSETFROM:-0600
TZOFFSETTO:-0500
TZNAME:CDT
DTSTART:20230312T080000
END:DAYLIGHT
BEGIN:STANDARD
TZOFFSETFROM:-0500
TZOFFSETTO:-0600
TZNAME:CST
DTSTART:20231105T070000
END:STANDARD
END:VTIMEZONE
BEGIN:VEVENT
DTSTART;TZID=America/Chicago:20230428T160000
DTEND;TZID=America/Chicago:20230428T190000
DTSTAMP:20260422T054502
CREATED:20230224T160855Z
LAST-MODIFIED:20230428T130312Z
UID:10000348-1682697600-1682708400@dev.gruenetexas.com
SUMMARY:Friday Afternoon Club
DESCRIPTION:|
URL:https://dev.gruenetexas.com/event/friday-afternoon-club-10/
CATEGORIES:Free Event
END:VEVENT
BEGIN:VEVENT
DTSTART;TZID=America/Chicago:20230428T200000
DTEND;TZID=America/Chicago:20230428T200000
DTSTAMP:20260422T054502
CREATED:20230224T160855Z
LAST-MODIFIED:20230428T130312Z
UID:10000349-1682712000-1682712000@dev.gruenetexas.com
SUMMARY:Junior Brown
DESCRIPTION:| 			\n			\n							 \n\n\nOpener: Granville Automatic | Doors: 7pm
URL:https://dev.gruenetexas.com/event/junior-brown/
CATEGORIES:Special Event,Ticketed Event
ATTACH;FMTTYPE=image/jpeg:https://dev.gruenetexas.com/wp-content/uploads/2023/04/Junior-Brown-SOLDOUT-FszzVL.tmp_.jpg
END:VEVENT
END:VCALENDAR