BEGIN:VCALENDAR
VERSION:2.0
PRODID:-//Gruene Historic District - ECPv6.0.10//NONSGML v1.0//EN
CALSCALE:GREGORIAN
METHOD:PUBLISH
X-WR-CALNAME:Gruene Historic District
X-ORIGINAL-URL:https://dev.gruenetexas.com
X-WR-CALDESC:Events for Gruene Historic District
REFRESH-INTERVAL;VALUE=DURATION:PT1H
X-Robots-Tag:noindex
X-PUBLISHED-TTL:PT1H
BEGIN:VTIMEZONE
TZID:America/Chicago
BEGIN:DAYLIGHT
TZOFFSETFROM:-0600
TZOFFSETTO:-0500
TZNAME:CDT
DTSTART:20230312T080000
END:DAYLIGHT
BEGIN:STANDARD
TZOFFSETFROM:-0500
TZOFFSETTO:-0600
TZNAME:CST
DTSTART:20231105T070000
END:STANDARD
TZID:UTC
BEGIN:STANDARD
TZOFFSETFROM:+0000
TZOFFSETTO:+0000
TZNAME:UTC
DTSTART:20230101T000000
END:STANDARD
END:VTIMEZONE
BEGIN:VEVENT
DTSTART;TZID=America/Chicago:20230331T160000
DTEND;TZID=America/Chicago:20230331T190000
DTSTAMP:20260422T052644
CREATED:20230224T160850Z
LAST-MODIFIED:20230331T083329Z
UID:10000321-1680278400-1680289200@dev.gruenetexas.com
SUMMARY:Friday Afternoon Club
DESCRIPTION:|
URL:https://dev.gruenetexas.com/event/friday-afternoon-club-6/
CATEGORIES:Free Event
END:VEVENT
BEGIN:VEVENT
DTSTART;TZID=UTC:20230331T170000
DTEND;TZID=UTC:20230331T200000
DTSTAMP:20260422T052644
CREATED:20230313T201008Z
LAST-MODIFIED:20230313T201008Z
UID:10000445-1680282000-1680292800@dev.gruenetexas.com
SUMMARY:Wilkinson IV
DESCRIPTION:at The Grapevine
URL:https://dev.gruenetexas.com/event/wilkinson-iv/
LOCATION:The Grapevine
CATEGORIES:Free Event
END:VEVENT
BEGIN:VEVENT
DTSTART;TZID=America/Chicago:20230331T200000
DTEND;TZID=America/Chicago:20230331T200000
DTSTAMP:20260422T052644
CREATED:20230224T160850Z
LAST-MODIFIED:20230331T083329Z
UID:10000322-1680292800-1680292800@dev.gruenetexas.com
SUMMARY:Ray Wylie Hubbard
DESCRIPTION:| 			\n			\n							 \n\n\nOpener: Kelley Mickwee | Doors: 7pm
URL:https://dev.gruenetexas.com/event/ray-wylie-hubbard/
CATEGORIES:Special Event,Ticketed Event
ATTACH;FMTTYPE=image/jpeg:https://dev.gruenetexas.com/wp-content/uploads/2023/02/RayWylieHubbard-SOLD-OUT-Ytmq3I.tmp_.jpg
END:VEVENT
END:VCALENDAR