BEGIN:VCALENDAR
VERSION:2.0
PRODID:-//Gruene Historic District - ECPv6.0.10//NONSGML v1.0//EN
CALSCALE:GREGORIAN
METHOD:PUBLISH
X-WR-CALNAME:Gruene Historic District
X-ORIGINAL-URL:https://dev.gruenetexas.com
X-WR-CALDESC:Events for Gruene Historic District
REFRESH-INTERVAL;VALUE=DURATION:PT1H
X-Robots-Tag:noindex
X-PUBLISHED-TTL:PT1H
BEGIN:VTIMEZONE
TZID:UTC
BEGIN:STANDARD
TZOFFSETFROM:+0000
TZOFFSETTO:+0000
TZNAME:UTC
DTSTART:20230101T000000
END:STANDARD
TZID:America/Chicago
BEGIN:DAYLIGHT
TZOFFSETFROM:-0600
TZOFFSETTO:-0500
TZNAME:CDT
DTSTART:20230312T080000
END:DAYLIGHT
BEGIN:STANDARD
TZOFFSETFROM:-0500
TZOFFSETTO:-0600
TZNAME:CST
DTSTART:20231105T070000
END:STANDARD
END:VTIMEZONE
BEGIN:VEVENT
DTSTART;TZID=UTC:20230325T123000
DTEND;TZID=UTC:20230325T153000
DTSTAMP:20260422T083000
CREATED:20230313T203536Z
LAST-MODIFIED:20230313T203536Z
UID:10000454-1679747400-1679758200@dev.gruenetexas.com
SUMMARY:Robert Irwin
DESCRIPTION:at The Gristmill
URL:https://dev.gruenetexas.com/event/robert-irwin/
LOCATION:The Gristmill River Restaurant & Bar
CATEGORIES:Free Event
END:VEVENT
BEGIN:VEVENT
DTSTART;TZID=America/Chicago:20230325T130000
DTEND;TZID=America/Chicago:20230325T170000
DTSTAMP:20260422T083000
CREATED:20230224T160848Z
LAST-MODIFIED:20230325T053912Z
UID:10000313-1679749200-1679763600@dev.gruenetexas.com
SUMMARY:Flat Top Jones
DESCRIPTION:| 			\n			\n							 \n\n\nCountry
URL:https://dev.gruenetexas.com/event/flat-top-jones-2/
CATEGORIES:Free Event
END:VEVENT
BEGIN:VEVENT
DTSTART;TZID=UTC:20230325T180000
DTEND;TZID=UTC:20230325T210000
DTSTAMP:20260422T083000
CREATED:20230313T203623Z
LAST-MODIFIED:20230313T203623Z
UID:10000455-1679767200-1679778000@dev.gruenetexas.com
SUMMARY:Lance Lipinsky
DESCRIPTION:at The Gristmill
URL:https://dev.gruenetexas.com/event/lance-lipinsky-4/
LOCATION:The Gristmill River Restaurant & Bar
CATEGORIES:Free Event
END:VEVENT
BEGIN:VEVENT
DTSTART;TZID=America/Chicago:20230325T210000
DTEND;TZID=America/Chicago:20230325T210000
DTSTAMP:20260422T083000
CREATED:20230224T160849Z
LAST-MODIFIED:20230325T053912Z
UID:10000314-1679778000-1679778000@dev.gruenetexas.com
SUMMARY:Hayes Carll
DESCRIPTION:| 			\n			\n							 \n\n\nOpener: Melissa Carper | Doors: 8pm
URL:https://dev.gruenetexas.com/event/hayes-carll/
CATEGORIES:Special Event,Ticketed Event
ATTACH;FMTTYPE=image/jpeg:https://dev.gruenetexas.com/wp-content/uploads/2023/02/HayesCarll-SOLD-OUT-XhNpWD.tmp_.jpg
END:VEVENT
END:VCALENDAR