BEGIN:VCALENDAR
VERSION:2.0
PRODID:-//Gruene Historic District - ECPv6.0.10//NONSGML v1.0//EN
CALSCALE:GREGORIAN
METHOD:PUBLISH
X-WR-CALNAME:Gruene Historic District
X-ORIGINAL-URL:https://dev.gruenetexas.com
X-WR-CALDESC:Events for Gruene Historic District
REFRESH-INTERVAL;VALUE=DURATION:PT1H
X-Robots-Tag:noindex
X-PUBLISHED-TTL:PT1H
BEGIN:VTIMEZONE
TZID:UTC
BEGIN:STANDARD
TZOFFSETFROM:+0000
TZOFFSETTO:+0000
TZNAME:UTC
DTSTART:20230101T000000
END:STANDARD
TZID:America/Chicago
BEGIN:DAYLIGHT
TZOFFSETFROM:-0600
TZOFFSETTO:-0500
TZNAME:CDT
DTSTART:20230312T080000
END:DAYLIGHT
BEGIN:STANDARD
TZOFFSETFROM:-0500
TZOFFSETTO:-0600
TZNAME:CST
DTSTART:20231105T070000
END:STANDARD
END:VTIMEZONE
BEGIN:VEVENT
DTSTART;TZID=UTC:20230319T100000
DTEND;TZID=UTC:20230319T170000
DTSTAMP:20260422T070731
CREATED:20230313T192743Z
LAST-MODIFIED:20230314T215434Z
UID:10000434-1679220000-1679245200@dev.gruenetexas.com
SUMMARY:Old Gruene Market Days
DESCRIPTION:Nearly 100 Texas artisans selling their wares\, rain or shine. Free entry & parking.
URL:https://dev.gruenetexas.com/event/old-gruene-market-days-2/
CATEGORIES:Special Event
ATTACH;FMTTYPE=image/jpeg:https://dev.gruenetexas.com/wp-content/uploads/2023/03/MarketDays.jpg
END:VEVENT
BEGIN:VEVENT
DTSTART;TZID=UTC:20230319T120000
DTEND;TZID=UTC:20230319T150000
DTSTAMP:20260422T070731
CREATED:20230313T200836Z
LAST-MODIFIED:20230313T200836Z
UID:10000443-1679227200-1679238000@dev.gruenetexas.com
SUMMARY:Matt & Sylvia Kirk
DESCRIPTION:at The Grapevine
URL:https://dev.gruenetexas.com/event/matt-sylvia-kirk/
LOCATION:The Grapevine
CATEGORIES:Free Event
END:VEVENT
BEGIN:VEVENT
DTSTART;TZID=UTC:20230319T120000
DTEND;TZID=UTC:20230319T150000
DTSTAMP:20260422T070731
CREATED:20230313T203458Z
LAST-MODIFIED:20230313T203458Z
UID:10000453-1679227200-1679238000@dev.gruenetexas.com
SUMMARY:Lance Lipinsky
DESCRIPTION:at The Gristmill
URL:https://dev.gruenetexas.com/event/lance-lipinsky-3/
LOCATION:The Gristmill River Restaurant & Bar
CATEGORIES:Free Event
END:VEVENT
BEGIN:VEVENT
DTSTART;TZID=America/Chicago:20230319T123000
DTEND;TZID=America/Chicago:20230319T160000
DTSTAMP:20260422T070731
CREATED:20230224T160847Z
LAST-MODIFIED:20230319T220707Z
UID:10000305-1679229000-1679241600@dev.gruenetexas.com
SUMMARY:Guy Forsyth Band
DESCRIPTION:| 			\n			\n							 \n\n\nRoots/Rock
URL:https://dev.gruenetexas.com/event/guy-forsyth-band/
CATEGORIES:Free Event
END:VEVENT
BEGIN:VEVENT
DTSTART;TZID=America/Chicago:20230319T200000
DTEND;TZID=America/Chicago:20230319T200000
DTSTAMP:20260422T070731
CREATED:20230224T160847Z
LAST-MODIFIED:20230319T220707Z
UID:10000306-1679256000-1679256000@dev.gruenetexas.com
SUMMARY:Uncle Lucius: Reunion Show
DESCRIPTION:| 			\n			\n							 \n\n\nOpener: Jonathan Terrell | Doors: 7pm
URL:https://dev.gruenetexas.com/event/uncle-lucius-reunion-show-2/
CATEGORIES:Special Event,Ticketed Event
ATTACH;FMTTYPE=image/jpeg:https://dev.gruenetexas.com/wp-content/uploads/2023/02/UncleLucius-SOLD-OUT-x1WVkm.tmp_.jpg
END:VEVENT
END:VCALENDAR