BEGIN:VCALENDAR
VERSION:2.0
PRODID:-//Gruene Historic District - ECPv6.0.10//NONSGML v1.0//EN
CALSCALE:GREGORIAN
METHOD:PUBLISH
X-ORIGINAL-URL:https://dev.gruenetexas.com
X-WR-CALDESC:Events for Gruene Historic District
REFRESH-INTERVAL;VALUE=DURATION:PT1H
X-Robots-Tag:noindex
X-PUBLISHED-TTL:PT1H
BEGIN:VTIMEZONE
TZID:UTC
BEGIN:STANDARD
TZOFFSETFROM:+0000
TZOFFSETTO:+0000
TZNAME:UTC
DTSTART:20230101T000000
END:STANDARD
TZID:America/Chicago
BEGIN:DAYLIGHT
TZOFFSETFROM:-0600
TZOFFSETTO:-0500
TZNAME:CDT
DTSTART:20230312T080000
END:DAYLIGHT
BEGIN:STANDARD
TZOFFSETFROM:-0500
TZOFFSETTO:-0600
TZNAME:CST
DTSTART:20231105T070000
END:STANDARD
END:VTIMEZONE
BEGIN:VEVENT
DTSTART;TZID=UTC:20230318T080000
DTEND;TZID=UTC:20230318T170000
DTSTAMP:20260422T070951
CREATED:20230313T193046Z
LAST-MODIFIED:20230314T170959Z
UID:10000435-1679126400-1679158800@dev.gruenetexas.com
SUMMARY:St. Paddy's Day 5K
DESCRIPTION:at Rockin’ R River Rides
URL:https://dev.gruenetexas.com/event/st-paddys-day-5k/
CATEGORIES:Special Event
ATTACH;FMTTYPE=image/jpeg:https://dev.gruenetexas.com/wp-content/uploads/2023/03/StPaddys.jpg
END:VEVENT
BEGIN:VEVENT
DTSTART;TZID=UTC:20230318T100000
DTEND;TZID=UTC:20230318T170000
DTSTAMP:20260422T070951
CREATED:20230313T192634Z
LAST-MODIFIED:20230314T215344Z
UID:10000433-1679133600-1679158800@dev.gruenetexas.com
SUMMARY:Old Gruene Market Days
DESCRIPTION:Nearly 100 Texas artisans selling their wares\, rain or shine. Free entry & parking.
URL:https://dev.gruenetexas.com/event/old-gruene-market-days/
CATEGORIES:Special Event
ATTACH;FMTTYPE=image/jpeg:https://dev.gruenetexas.com/wp-content/uploads/2023/03/MarketDays.jpg
END:VEVENT
BEGIN:VEVENT
DTSTART;TZID=UTC:20230318T123000
DTEND;TZID=UTC:20230318T153000
DTSTAMP:20260422T070951
CREATED:20230313T203325Z
LAST-MODIFIED:20230313T203325Z
UID:10000451-1679142600-1679153400@dev.gruenetexas.com
SUMMARY:True Labowski
DESCRIPTION:at The Gristmill
URL:https://dev.gruenetexas.com/event/true-labowski/
LOCATION:The Gristmill River Restaurant & Bar
CATEGORIES:Free Event
END:VEVENT
BEGIN:VEVENT
DTSTART;TZID=UTC:20230318T130000
DTEND;TZID=UTC:20230318T160000
DTSTAMP:20260422T070951
CREATED:20230313T200634Z
LAST-MODIFIED:20230313T200634Z
UID:10000441-1679144400-1679155200@dev.gruenetexas.com
SUMMARY:Jackson Parten Duo
DESCRIPTION:at The Grapevine
URL:https://dev.gruenetexas.com/event/jackson-parten-duo-2/
LOCATION:The Grapevine
CATEGORIES:Free Event
END:VEVENT
BEGIN:VEVENT
DTSTART;TZID=America/Chicago:20230318T130000
DTEND;TZID=America/Chicago:20230318T170000
DTSTAMP:20260422T070951
CREATED:20230224T160847Z
LAST-MODIFIED:20230318T215027Z
UID:10000303-1679144400-1679158800@dev.gruenetexas.com
SUMMARY:Murali Coryell w/Ernie Durawa & Chris Alcaraz
DESCRIPTION:| 			\n			\n							 \n\n\nBlues
URL:https://dev.gruenetexas.com/event/murali-coryell-w-ernie-durawa-chris-alcaraz/
CATEGORIES:Free Event
END:VEVENT
BEGIN:VEVENT
DTSTART;TZID=UTC:20230318T170000
DTEND;TZID=UTC:20230318T200000
DTSTAMP:20260422T070951
CREATED:20230313T200715Z
LAST-MODIFIED:20230313T200715Z
UID:10000442-1679158800-1679169600@dev.gruenetexas.com
SUMMARY:Shawn Pittman Trio
DESCRIPTION:at The Grapevine
URL:https://dev.gruenetexas.com/event/shawn-pittman-trio-2/
LOCATION:The Grapevine
END:VEVENT
BEGIN:VEVENT
DTSTART;TZID=UTC:20230318T180000
DTEND;TZID=UTC:20230318T210000
DTSTAMP:20260422T070951
CREATED:20230313T203415Z
LAST-MODIFIED:20230313T203415Z
UID:10000452-1679162400-1679173200@dev.gruenetexas.com
SUMMARY:Clifton Jansky
DESCRIPTION:at The Gristmill
URL:https://dev.gruenetexas.com/event/clifton-jansky-2/
LOCATION:The Gristmill River Restaurant & Bar
CATEGORIES:Free Event
END:VEVENT
BEGIN:VEVENT
DTSTART;TZID=America/Chicago:20230318T210000
DTEND;TZID=America/Chicago:20230318T210000
DTSTAMP:20260422T070951
CREATED:20230224T160847Z
LAST-MODIFIED:20230318T215027Z
UID:10000304-1679173200-1679173200@dev.gruenetexas.com
SUMMARY:Uncle Lucius: Reunion Show
DESCRIPTION:| 			\n			\n							 \n\n\nOpener: Folk Family Revival | Doors: 8pm
URL:https://dev.gruenetexas.com/event/uncle-lucius-reunion-show/
CATEGORIES:Special Event,Ticketed Event
ATTACH;FMTTYPE=image/jpeg:https://dev.gruenetexas.com/wp-content/uploads/2023/02/UncleLucius-SOLD-OUT-x1WVkm.tmp_.jpg
END:VEVENT
END:VCALENDAR