BEGIN:VCALENDAR
VERSION:2.0
PRODID:-//Gruene Historic District - ECPv6.0.10//NONSGML v1.0//EN
CALSCALE:GREGORIAN
METHOD:PUBLISH
X-ORIGINAL-URL:https://dev.gruenetexas.com
X-WR-CALDESC:Events for Gruene Historic District
REFRESH-INTERVAL;VALUE=DURATION:PT1H
X-Robots-Tag:noindex
X-PUBLISHED-TTL:PT1H
BEGIN:VTIMEZONE
TZID:America/Chicago
BEGIN:DAYLIGHT
TZOFFSETFROM:-0600
TZOFFSETTO:-0500
TZNAME:CDT
DTSTART:20230312T080000
END:DAYLIGHT
BEGIN:STANDARD
TZOFFSETFROM:-0500
TZOFFSETTO:-0600
TZNAME:CST
DTSTART:20231105T070000
END:STANDARD
TZID:UTC
BEGIN:STANDARD
TZOFFSETFROM:+0000
TZOFFSETTO:+0000
TZNAME:UTC
DTSTART:20230101T000000
END:STANDARD
END:VTIMEZONE
BEGIN:VEVENT
DTSTART;TZID=America/Chicago:20230317T120000
DTEND;TZID=America/Chicago:20230317T160000
DTSTAMP:20260422T070955
CREATED:20230316T191514Z
LAST-MODIFIED:20230316T191514Z
UID:10000460-1679054400-1679068800@dev.gruenetexas.com
SUMMARY:Slim Bawb & The Fabulous Stumpgrinders
DESCRIPTION:| 			\n			\n							 \n\n\nTexas Swamp
URL:https://dev.gruenetexas.com/event/slim-bawb-the-fabulous-stumpgrinders-3/
CATEGORIES:Free Event
END:VEVENT
BEGIN:VEVENT
DTSTART;TZID=UTC:20230317T123000
DTEND;TZID=UTC:20230317T153000
DTSTAMP:20260422T070955
CREATED:20230313T201902Z
LAST-MODIFIED:20230313T201902Z
UID:10000449-1679056200-1679067000@dev.gruenetexas.com
SUMMARY:Lance Lipinsky
DESCRIPTION:at The Gristmill
URL:https://dev.gruenetexas.com/event/lance-lipinsky-2/
LOCATION:The Gristmill River Restaurant & Bar
CATEGORIES:Free Event
END:VEVENT
BEGIN:VEVENT
DTSTART;TZID=America/Chicago:20230317T160000
DTEND;TZID=America/Chicago:20230317T190000
DTSTAMP:20260422T070955
CREATED:20230224T160846Z
LAST-MODIFIED:20230316T191514Z
UID:10000301-1679068800-1679079600@dev.gruenetexas.com
SUMMARY:Friday Afternoon Club
DESCRIPTION:|
URL:https://dev.gruenetexas.com/event/friday-afternoon-club-4/
CATEGORIES:Free Event
END:VEVENT
BEGIN:VEVENT
DTSTART;TZID=UTC:20230317T170000
DTEND;TZID=UTC:20230317T200000
DTSTAMP:20260422T070955
CREATED:20230313T200537Z
LAST-MODIFIED:20230313T200537Z
UID:10000440-1679072400-1679083200@dev.gruenetexas.com
SUMMARY:Chris Ruest Band
DESCRIPTION:at The Grapevine
URL:https://dev.gruenetexas.com/event/chris-ruest-band-3/
LOCATION:The Grapevine
CATEGORIES:Free Event
END:VEVENT
BEGIN:VEVENT
DTSTART;TZID=UTC:20230317T180000
DTEND;TZID=UTC:20230317T210000
DTSTAMP:20260422T070955
CREATED:20230313T203152Z
LAST-MODIFIED:20230313T203219Z
UID:10000450-1679076000-1679086800@dev.gruenetexas.com
SUMMARY:Colton's Kin
DESCRIPTION:at The Gristmill
URL:https://dev.gruenetexas.com/event/coltons-kin-2/
LOCATION:The Gristmill River Restaurant & Bar
CATEGORIES:Free Event
END:VEVENT
BEGIN:VEVENT
DTSTART;TZID=America/Chicago:20230317T200000
DTEND;TZID=America/Chicago:20230317T200000
DTSTAMP:20260422T070955
CREATED:20230224T160847Z
LAST-MODIFIED:20230316T191514Z
UID:10000302-1679083200-1679083200@dev.gruenetexas.com
SUMMARY:The Steel Woods
DESCRIPTION:| 			\n			\n							 \n\n\nOpener: Dallas Moore | Doors: 7pm
URL:https://dev.gruenetexas.com/event/the-steel-woods/
CATEGORIES:Special Event,Ticketed Event
ATTACH;FMTTYPE=image/jpeg:https://dev.gruenetexas.com/wp-content/uploads/2023/02/TheSteelWoods-SOLD-OUT-RtSB3n.tmp_.jpg
END:VEVENT
END:VCALENDAR