BEGIN:VCALENDAR
VERSION:2.0
PRODID:-//Gruene Historic District - ECPv6.0.10//NONSGML v1.0//EN
CALSCALE:GREGORIAN
METHOD:PUBLISH
X-ORIGINAL-URL:https://dev.gruenetexas.com
X-WR-CALDESC:Events for Gruene Historic District
REFRESH-INTERVAL;VALUE=DURATION:PT1H
X-Robots-Tag:noindex
X-PUBLISHED-TTL:PT1H
BEGIN:VTIMEZONE
TZID:UTC
BEGIN:STANDARD
TZOFFSETFROM:+0000
TZOFFSETTO:+0000
TZNAME:UTC
DTSTART:20230101T000000
END:STANDARD
TZID:America/Chicago
BEGIN:DAYLIGHT
TZOFFSETFROM:-0600
TZOFFSETTO:-0500
TZNAME:CDT
DTSTART:20230312T080000
END:DAYLIGHT
BEGIN:STANDARD
TZOFFSETFROM:-0500
TZOFFSETTO:-0600
TZNAME:CST
DTSTART:20231105T070000
END:STANDARD
END:VTIMEZONE
BEGIN:VEVENT
DTSTART;TZID=UTC:20230316T123000
DTEND;TZID=UTC:20230316T153000
DTSTAMP:20260422T070950
CREATED:20230313T201602Z
LAST-MODIFIED:20230313T201602Z
UID:10000447-1678969800-1678980600@dev.gruenetexas.com
SUMMARY:Tony Taylor
DESCRIPTION:at The Gristmill River Restaurant & Bar
URL:https://dev.gruenetexas.com/event/tony-taylor/
LOCATION:The Gristmill River Restaurant & Bar
CATEGORIES:Free Event
END:VEVENT
BEGIN:VEVENT
DTSTART;TZID=America/Chicago:20230316T130000
DTEND;TZID=America/Chicago:20230316T170000
DTSTAMP:20260422T070950
CREATED:20230224T160846Z
LAST-MODIFIED:20230316T191514Z
UID:10000299-1678971600-1678986000@dev.gruenetexas.com
SUMMARY:Adam Johnson Band
DESCRIPTION:| 			\n			\n							 \n\n\nBlues
URL:https://dev.gruenetexas.com/event/adam-johnson-band/
CATEGORIES:Free Event
END:VEVENT
BEGIN:VEVENT
DTSTART;TZID=UTC:20230316T170000
DTEND;TZID=UTC:20230316T200000
DTSTAMP:20260422T070950
CREATED:20230313T185622Z
LAST-MODIFIED:20230314T210743Z
UID:10000429-1678986000-1678996800@dev.gruenetexas.com
SUMMARY:Come & Taste It: Spring Break Edition
DESCRIPTION:Held in The Grapevine Garden\, featuring complimentary tastings & live music.
URL:https://dev.gruenetexas.com/event/come-taste-it-spring-break-edition/
LOCATION:The Grapevine
CATEGORIES:Free Event,Special Event
ATTACH;FMTTYPE=image/jpeg:https://dev.gruenetexas.com/wp-content/uploads/2023/03/2.jpg
END:VEVENT
BEGIN:VEVENT
DTSTART;TZID=UTC:20230316T170000
DTEND;TZID=UTC:20230316T200000
DTSTAMP:20260422T070950
CREATED:20230313T200436Z
LAST-MODIFIED:20230313T200436Z
UID:10000439-1678986000-1678996800@dev.gruenetexas.com
SUMMARY:Meagan Tubb Band
DESCRIPTION:at The Grapevine
URL:https://dev.gruenetexas.com/event/meagan-tubb-band/
LOCATION:The Grapevine
CATEGORIES:Free Event
END:VEVENT
BEGIN:VEVENT
DTSTART;TZID=UTC:20230316T173000
DTEND;TZID=UTC:20230316T203000
DTSTAMP:20260422T070950
CREATED:20230313T201652Z
LAST-MODIFIED:20230313T201652Z
UID:10000448-1678987800-1678998600@dev.gruenetexas.com
SUMMARY:Clifton Jansky
DESCRIPTION:at The Gristmill
URL:https://dev.gruenetexas.com/event/clifton-jansky/
LOCATION:The Gristmill River Restaurant & Bar
CATEGORIES:Free Event
END:VEVENT
BEGIN:VEVENT
DTSTART;TZID=America/Chicago:20230316T180000
DTEND;TZID=America/Chicago:20230316T220000
DTSTAMP:20260422T070950
CREATED:20230224T160846Z
LAST-MODIFIED:20230316T191514Z
UID:10000300-1678989600-1679004000@dev.gruenetexas.com
SUMMARY:Anthony Wright Band
DESCRIPTION:| 			\n			\n							 \n\n\nBlues
URL:https://dev.gruenetexas.com/event/anthony-wright-band/
CATEGORIES:Free Event
END:VEVENT
END:VCALENDAR