BEGIN:VCALENDAR
VERSION:2.0
PRODID:-//Gruene Historic District - ECPv6.0.10//NONSGML v1.0//EN
CALSCALE:GREGORIAN
METHOD:PUBLISH
X-WR-CALNAME:Gruene Historic District
X-ORIGINAL-URL:https://dev.gruenetexas.com
X-WR-CALDESC:Events for Gruene Historic District
REFRESH-INTERVAL;VALUE=DURATION:PT1H
X-Robots-Tag:noindex
X-PUBLISHED-TTL:PT1H
BEGIN:VTIMEZONE
TZID:UTC
BEGIN:STANDARD
TZOFFSETFROM:+0000
TZOFFSETTO:+0000
TZNAME:UTC
DTSTART:20230101T000000
END:STANDARD
TZID:America/Chicago
BEGIN:DAYLIGHT
TZOFFSETFROM:-0600
TZOFFSETTO:-0500
TZNAME:CDT
DTSTART:20230312T080000
END:DAYLIGHT
BEGIN:STANDARD
TZOFFSETFROM:-0500
TZOFFSETTO:-0600
TZNAME:CST
DTSTART:20231105T070000
END:STANDARD
END:VTIMEZONE
BEGIN:VEVENT
DTSTART;TZID=UTC:20230315T160000
DTEND;TZID=UTC:20230315T190000
DTSTAMP:20260422T070845
CREATED:20230313T200340Z
LAST-MODIFIED:20230313T200340Z
UID:10000438-1678896000-1678906800@dev.gruenetexas.com
SUMMARY:Phil Luna Band
DESCRIPTION:at The Grapevine
URL:https://dev.gruenetexas.com/event/phil-luna-band/
LOCATION:The Grapevine
CATEGORIES:Free Event
END:VEVENT
BEGIN:VEVENT
DTSTART;TZID=America/Chicago:20230315T200000
DTEND;TZID=America/Chicago:20230315T200000
DTSTAMP:20260422T070845
CREATED:20230224T160846Z
LAST-MODIFIED:20230315T184543Z
UID:10000298-1678910400-1678910400@dev.gruenetexas.com
SUMMARY:Sierra Ferrell: Long Time Going Tour
DESCRIPTION:| 			\n			\n							 \n\n\nOpener: Jaime Wyatt | Doors: 7pm \n\n		\n\n\n\n\n\n\n						\n							Add to calendar						 \n\n\n\n									\n										Google Calendar									\n								\n\n									\n										iCalendar									\n								\n\n									\n										Outlook 365									\n								\n\n									\n										Outlook Live
URL:https://dev.gruenetexas.com/event/sierra-ferrell-long-time-going-tour/
CATEGORIES:Special Event,Ticketed Event
ATTACH;FMTTYPE=image/jpeg:https://dev.gruenetexas.com/wp-content/uploads/2023/02/SierraFerrell-SOLD-OUT-9DccKV.tmp_.jpg
END:VEVENT
END:VCALENDAR