BEGIN:VCALENDAR
VERSION:2.0
PRODID:-//Gruene Historic District - ECPv6.0.10//NONSGML v1.0//EN
CALSCALE:GREGORIAN
METHOD:PUBLISH
X-WR-CALNAME:Gruene Historic District
X-ORIGINAL-URL:https://dev.gruenetexas.com
X-WR-CALDESC:Events for Gruene Historic District
REFRESH-INTERVAL;VALUE=DURATION:PT1H
X-Robots-Tag:noindex
X-PUBLISHED-TTL:PT1H
BEGIN:VTIMEZONE
TZID:America/Chicago
BEGIN:DAYLIGHT
TZOFFSETFROM:-0600
TZOFFSETTO:-0500
TZNAME:CDT
DTSTART:20230312T080000
END:DAYLIGHT
BEGIN:STANDARD
TZOFFSETFROM:-0500
TZOFFSETTO:-0600
TZNAME:CST
DTSTART:20231105T070000
END:STANDARD
END:VTIMEZONE
BEGIN:VEVENT
DTSTART;TZID=America/Chicago:20230303T160000
DTEND;TZID=America/Chicago:20230303T190000
DTSTAMP:20260422T082959
CREATED:20230224T160842Z
LAST-MODIFIED:20230303T151800Z
UID:10000277-1677859200-1677870000@dev.gruenetexas.com
SUMMARY:Friday Afternoon Club
DESCRIPTION:| 			\n			\n							 \n\n\n\n		\n\n\n\n\n\n\n						\n							Add to calendar						 \n\n\n\n									\n										Google Calendar									\n								\n\n									\n										iCalendar									\n								\n\n									\n										Outlook 365									\n								\n\n									\n										Outlook Live
URL:https://dev.gruenetexas.com/event/friday-afternoon-club-2/
END:VEVENT
BEGIN:VEVENT
DTSTART;TZID=America/Chicago:20230303T200000
DTEND;TZID=America/Chicago:20230303T200000
DTSTAMP:20260422T082959
CREATED:20230224T160842Z
LAST-MODIFIED:20230303T151800Z
UID:10000278-1677873600-1677873600@dev.gruenetexas.com
SUMMARY:Los TexManiacs featuring Flaco Jimenez & Augie Meyers
DESCRIPTION:| 			\n			\n							 \n\n\nOpener: Garrett T. Capps | Doors: 7pm \n\n		\n\n\n\n\n\n\n						\n							Add to calendar						 \n\n\n\n									\n										Google Calendar									\n								\n\n									\n										iCalendar									\n								\n\n									\n										Outlook 365									\n								\n\n									\n										Outlook Live
URL:https://dev.gruenetexas.com/event/los-texmaniacs-featuring-flaco-jimenez-augie-meyers/
ATTACH;FMTTYPE=image/jpeg:https://dev.gruenetexas.com/wp-content/uploads/2023/02/LosTexManiacs-SOLD-OUT-canEdE.tmp_.jpg
END:VEVENT
END:VCALENDAR