BEGIN:VCALENDAR
VERSION:2.0
PRODID:-//Gruene Historic District - ECPv6.0.10//NONSGML v1.0//EN
CALSCALE:GREGORIAN
METHOD:PUBLISH
X-WR-CALNAME:Gruene Historic District
X-ORIGINAL-URL:https://dev.gruenetexas.com
X-WR-CALDESC:Events for Gruene Historic District
REFRESH-INTERVAL;VALUE=DURATION:PT1H
X-Robots-Tag:noindex
X-PUBLISHED-TTL:PT1H
BEGIN:VTIMEZONE
TZID:America/Chicago
BEGIN:DAYLIGHT
TZOFFSETFROM:-0600
TZOFFSETTO:-0500
TZNAME:CDT
DTSTART:20230312T080000
END:DAYLIGHT
BEGIN:STANDARD
TZOFFSETFROM:-0500
TZOFFSETTO:-0600
TZNAME:CST
DTSTART:20231105T070000
END:STANDARD
END:VTIMEZONE
BEGIN:VEVENT
DTSTART;TZID=America/Chicago:20230227T180000
DTEND;TZID=America/Chicago:20230227T220000
DTSTAMP:20260422T070843
CREATED:20230224T160842Z
LAST-MODIFIED:20230224T160842Z
UID:10000273-1677520800-1677535200@dev.gruenetexas.com
SUMMARY:Bret Graham
DESCRIPTION:| 			\n			\n							 \n\n\nCountry \n\n		\n\n\n\n\n\n\n						\n  \n  \n\n						\n							Add to calendar						\n						\n					\n\n\n\n									\n										Google Calendar									\n								\n\n									\n										iCalendar									\n								\n\n									\n										Outlook 365									\n								\n\n									\n										Outlook Live
URL:https://dev.gruenetexas.com/event/bret-graham/
END:VEVENT
END:VCALENDAR